BEGIN:VCALENDAR
VERSION:2.0
PRODID:-//Japan Open Poker Tour - ECPv6.9.0//NONSGML v1.0//EN
CALSCALE:GREGORIAN
METHOD:PUBLISH
X-WR-CALNAME:Japan Open Poker Tour
X-ORIGINAL-URL:https://japanopenpoker.com
X-WR-CALDESC:Japan Open Poker Tour のイベント
REFRESH-INTERVAL;VALUE=DURATION:PT1H
X-Robots-Tag:noindex
X-PUBLISHED-TTL:PT1H
BEGIN:VTIMEZONE
TZID:Asia/Tokyo
BEGIN:STANDARD
TZOFFSETFROM:+0900
TZOFFSETTO:+0900
TZNAME:JST
DTSTART:20260101T000000
END:STANDARD
END:VTIMEZONE
BEGIN:VEVENT
DTSTART;TZID=Asia/Tokyo:20260429T165900
DTEND;TZID=Asia/Tokyo:20260429T214000
DTSTAMP:20260426T033335
CREATED:20260425T150846Z
LAST-MODIFIED:20260425T150846Z
UID:10016543-1777481940-1777498800@japanopenpoker.com
SUMMARY:BIGBOSSJAPAN (30)
DESCRIPTION:BIGBOSSJAPAN (30) \n<スケジュール / schedule> \nRegistration / 16:59-21:40 \n<参加費 / Fees>\nEntry / ¥13\,000\nChips / 40\,000 \nRe-Entry / ¥11\,000\nChips / 40\,000 \nRe-buy or Add-on / なし\nChips / なし \nGame / No Limit Hold’em \n<プライズ / Prize>\n保証 / 30 Tickets\n配分 / 1位 : 3 Tickets – 2位 : 3 Tickets – 3位 : 3 Tickets – 4位 : 3 Tickets – 5位 : 3 Tickets \n“Note : 【エントリー無料!?】 JOPTサテライト30枚保証 \n◆割引◆ \n18時30分までのご着席で、レイトにて開催する1stエントリー費無料フリップアウト参加権利が貰えます！ \n19時30分までのご着席にて、3\,000円割引となります！ \n✨️女性/学生限定✨️\nトーナメントエントリー毎に1\,000円OFFとなります！早割との併用も可能となります！\n※ 3\,000円以上のトーナメント限定 \n◆プライズ◆\n1位:JOPT3枚\n2位:JOPT3枚\n3位:JOPT3枚\n4位:JOPT3枚\n5位:JOPT3枚\n6位:JOPT3枚\n7位:JOPT3枚\n8位:JOPT3枚\n9位:JOPT3枚\n10位:JOPT3枚\n※ディール可能”
URL:https://japanopenpoker.com/satellite/bigbossjapan-30-18/2026-04-29/
CATEGORIES:2026 JOPT Grand Final
END:VEVENT
BEGIN:VEVENT
DTSTART;TZID=Asia/Tokyo:20260430T165900
DTEND;TZID=Asia/Tokyo:20260430T214000
DTSTAMP:20260426T033335
CREATED:20260425T150846Z
LAST-MODIFIED:20260425T150846Z
UID:10016544-1777568340-1777585200@japanopenpoker.com
SUMMARY:BIGBOSSJAPAN (30)
DESCRIPTION:BIGBOSSJAPAN (30) \n<スケジュール / schedule> \nRegistration / 16:59-21:40 \n<参加費 / Fees>\nEntry / ¥13\,000\nChips / 40\,000 \nRe-Entry / ¥11\,000\nChips / 40\,000 \nRe-buy or Add-on / なし\nChips / なし \nGame / No Limit Hold’em \n<プライズ / Prize>\n保証 / 30 Tickets\n配分 / 1位 : 3 Tickets – 2位 : 3 Tickets – 3位 : 3 Tickets – 4位 : 3 Tickets – 5位 : 3 Tickets \n“Note : 【エントリー無料!?】 JOPTサテライト30枚保証 \n◆割引◆ \n18時30分までのご着席で、レイトにて開催する1stエントリー費無料フリップアウト参加権利が貰えます！ \n19時30分までのご着席にて、3\,000円割引となります！ \n✨️女性/学生限定✨️\nトーナメントエントリー毎に1\,000円OFFとなります！早割との併用も可能となります！\n※ 3\,000円以上のトーナメント限定 \n◆プライズ◆\n1位:JOPT3枚\n2位:JOPT3枚\n3位:JOPT3枚\n4位:JOPT3枚\n5位:JOPT3枚\n6位:JOPT3枚\n7位:JOPT3枚\n8位:JOPT3枚\n9位:JOPT3枚\n10位:JOPT3枚\n※ディール可能”
URL:https://japanopenpoker.com/satellite/bigbossjapan-30-18/2026-04-30/
CATEGORIES:2026 JOPT Grand Final
END:VEVENT
END:VCALENDAR