BEGIN:VCALENDAR
VERSION:2.0
PRODID:-//Japan Open Poker Tour - ECPv6.9.0//NONSGML v1.0//EN
CALSCALE:GREGORIAN
METHOD:PUBLISH
X-WR-CALNAME:Japan Open Poker Tour
X-ORIGINAL-URL:https://japanopenpoker.com
X-WR-CALDESC:Japan Open Poker Tour のイベント
REFRESH-INTERVAL;VALUE=DURATION:PT1H
X-Robots-Tag:noindex
X-PUBLISHED-TTL:PT1H
BEGIN:VTIMEZONE
TZID:Asia/Tokyo
BEGIN:STANDARD
TZOFFSETFROM:+0900
TZOFFSETTO:+0900
TZNAME:JST
DTSTART:20260101T000000
END:STANDARD
END:VTIMEZONE
BEGIN:VEVENT
DTSTART;TZID=Asia/Tokyo:20260207T230000
DTEND;TZID=Asia/Tokyo:20260208T023000
DTSTAMP:20260424T034138
CREATED:20260107T103820Z
LAST-MODIFIED:20260107T103820Z
UID:10015290-1770505200-1770517800@japanopenpoker.com
SUMMARY:明大前EDGE (6)
DESCRIPTION:明大前EDGE (6) \n<スケジュール / schedule> \nRegistration / 23:00-2:30 \n<参加費 / Fees>\nEntry / ¥8000\nChips / 30\,000 \nRe-Entry / ¥8000\nChips / 30\,000 \nRe-buy or Add-on / なし\nChips / なし \nGame / No Limit Hold’em \n<プライズ / Prize>\n保証 / 6 Tickets\n配分 / 1位 : 3 Tickets – 2位 : 3 Tickets – 3位 : 0 Ticket – 4位 : 0 Ticket – 5位 : 0 Ticket \nNote :
URL:https://japanopenpoker.com/satellite/%e6%98%8e%e5%a4%a7%e5%89%8dedge-6-11/2026-02-07/
CATEGORIES:2026 JOPT Grand Final
END:VEVENT
BEGIN:VEVENT
DTSTART;TZID=Asia/Tokyo:20260208T120000
DTEND;TZID=Asia/Tokyo:20260208T145500
DTSTAMP:20260424T034138
CREATED:20260122T015521Z
LAST-MODIFIED:20260122T015521Z
UID:10015331-1770552000-1770562500@japanopenpoker.com
SUMMARY:NEKOKAJI新宿本店 (1)
DESCRIPTION:NEKOKAJI新宿本店 (1) \n<スケジュール / schedule> \nRegistration / 12:00-14:55 \n<参加費 / Fees>\nEntry / ¥1\,000\nChips / 200\,000 \nRe-Entry / ¥2\,000\nChips / 200\,000 \nRe-buy or Add-on / なし\nChips / なし \nGame / No Limit Hold’em \n<プライズ / Prize>\n保証 / 1 Tickets\n配分 / 1位 : 1 Ticket – 2位 : 0 Ticket – 3位 : 0 Ticket – 4位 : 0 Ticket – 5位 : 0 Ticket \nNote :
URL:https://japanopenpoker.com/satellite/nekokaji%e6%96%b0%e5%ae%bf%e6%9c%ac%e5%ba%97-1-3/2026-02-08/
CATEGORIES:2026 JOPT Grand Final
END:VEVENT
BEGIN:VEVENT
DTSTART;TZID=Asia/Tokyo:20260208T131000
DTEND;TZID=Asia/Tokyo:20260208T171000
DTSTAMP:20260424T034138
CREATED:20260126T032634Z
LAST-MODIFIED:20260127T014428Z
UID:10015804-1770556200-1770570600@japanopenpoker.com
SUMMARY:池袋リレイズ (4)
DESCRIPTION:池袋リレイズ (4) \n<スケジュール / schedule> \nRegistration / 13:10-17:10 \n<参加費 / Fees>\nEntry / 6000円\nChips / 15\,000 \nRe-Entry / 4000円\nChips / 15\,000 \nRe-buy or Add-on / 2000円\nChips / 15\,000 \nGame / No Limit Hold’em \n<プライズ / Prize>\n保証 / 4 Tickets\n配分 / 1位 : 3 Tickets – 2位 : 1 Ticket – 3位 : 0 Ticket – 4位 : 0 Ticket – 5位 : 0 Ticket \nNote :
URL:https://japanopenpoker.com/satellite/%e6%b1%a0%e8%a2%8b%e3%83%aa%e3%83%ac%e3%82%a4%e3%82%ba-4-5/2026-02-08/
CATEGORIES:2026 JOPT Grand Final
END:VEVENT
BEGIN:VEVENT
DTSTART;TZID=Asia/Tokyo:20260208T153000
DTEND;TZID=Asia/Tokyo:20260208T170000
DTSTAMP:20260424T034138
CREATED:20260209T094839Z
LAST-MODIFIED:20260209T094839Z
UID:10016002-1770564600-1770570000@japanopenpoker.com
SUMMARY:UNION OMIYA (3)
DESCRIPTION:UNION OMIYA (3) \n \nRegistration / 15:30-17:00 \n\nEntry / ¥4\,400\nChips / 20\,000 \nRe-Entry / ¥4\,400\nChips / 20\,000 \nRe-buy or Add-on / ¥0\nChips / 0 \nGame / No Limit Hold’em \n\n保証 / 3 Tickets\n配分 / 1位 : 3 Tickets – 2位 : 0 Ticket – 3位 : 0 Ticket – 4位 : 0 Ticket – 5位 : 0 Ticket \nNote :
URL:https://japanopenpoker.com/satellite/union-omiya-3/2026-02-08/
CATEGORIES:2026 JOPT Grand Final
END:VEVENT
BEGIN:VEVENT
DTSTART;TZID=Asia/Tokyo:20260208T180000
DTEND;TZID=Asia/Tokyo:20260208T211000
DTSTAMP:20260424T034138
CREATED:20260122T014558Z
LAST-MODIFIED:20260122T014558Z
UID:10015324-1770573600-1770585000@japanopenpoker.com
SUMMARY:ガットショット湯島本店 (4)
DESCRIPTION:ガットショット湯島本店 (4) \n<スケジュール / schedule> \nRegistration / 18:00-21:10 \n<参加費 / Fees>\nEntry / ¥2\,000\nChips / 30\,000 \nRe-Entry / ¥2\,000\nChips / 30\,000 \nRe-buy or Add-on / ¥0\nChips / 0 \nGame / No Limit Hold’em \n<プライズ / Prize>\n保証 / 4 Tickets\n配分 / 1位 : 3 Tickets – 2位 : 1 Ticket – 3位 : 0 Ticket – 4位 : 0 Ticket – 5位 : 0 Ticket \nNote :
URL:https://japanopenpoker.com/satellite/%e3%82%ac%e3%83%83%e3%83%88%e3%82%b7%e3%83%a7%e3%83%83%e3%83%88%e6%b9%af%e5%b3%b6%e6%9c%ac%e5%ba%97-4-10/2026-02-08/
CATEGORIES:2026 JOPT Grand Final
END:VEVENT
BEGIN:VEVENT
DTSTART;TZID=Asia/Tokyo:20260208T180000
DTEND;TZID=Asia/Tokyo:20260208T220000
DTSTAMP:20260424T034138
CREATED:20260107T101201Z
LAST-MODIFIED:20260107T101201Z
UID:10015270-1770573600-1770588000@japanopenpoker.com
SUMMARY:BLUFESTA本八幡 (2+)
DESCRIPTION:BLUFESTA本八幡 (2(4E 1位2枠 8E 1位3枠 12E 1位3枠、2位1枠 16E 1位3枠、2位2枠 20E 1位3枠、2位3枠 41E 1位3枠、2位3枠、3位1枠 46E 1位3枠、2位3枠、3位2枠 51E 1位3枠、2位3枠、3位3枠 56E 1位3枠、2位3枠、3位3枠、4位1枠)) \n<スケジュール / schedule> \nRegistration / 18:00-22:00 \n<参加費 / Fees>\nEntry / ¥6\,000\nChips / 15\,000 \nRe-Entry / ¥6\,000\nChips / 15\,000 \nRe-buy or Add-on / ¥2\,000\nChips / 15\,000 \nGame / No Limit Hold’em \n<プライズ / Prize>\n保証 / 2(4E 1位2枠 8E 1位3枠 12E 1位3枠、2位1枠 16E 1位3枠、2位2枠 20E 1位3枠、2位3枠 41E 1位3枠、2位3枠、3位1枠 46E 1位3枠、2位3枠、3位2枠 51E 1位3枠、2位3枠、3位3枠 56E 1位3枠、2位3枠、3位3枠、4位1枠) Tickets\n配分 / 1位 : 2 Tickets – 2位 : 0 Ticket – 3位 : 0 Ticket – 4位 : 0 Ticket – 5位 : 0 Ticket \nNote :
URL:https://japanopenpoker.com/satellite/blufesta%e6%9c%ac%e5%85%ab%e5%b9%a1-2-8/2026-02-08/
CATEGORIES:2026 JOPT Grand Final
END:VEVENT
BEGIN:VEVENT
DTSTART;TZID=Asia/Tokyo:20260208T190000
DTEND;TZID=Asia/Tokyo:20260208T213000
DTSTAMP:20260424T034138
CREATED:20260126T031858Z
LAST-MODIFIED:20260127T014607Z
UID:10015363-1770577200-1770586200@japanopenpoker.com
SUMMARY:GPT GLOBAL (2+)
DESCRIPTION:GPT GLOBAL (2 (12エントリー以上で2位に1枚追加) 22エントリー以上で3位に1枚追加) \n<スケジュール / schedule> \nRegistration / 19:00-21:30 \n<参加費 / Fees>\nEntry / ¥5\,000\nChips / 40\,000 \nRe-Entry / ¥4\,000\nChips / 40\,000 \nRe-buy or Add-on / ¥3\,000\nChips / 40\,000 \nGame / No Limit Hold’em \n<プライズ / Prize>\n保証 / 2 (12エントリー以上で2位に1枚追加) 22エントリー以上で3位に1枚追加 Tickets\n配分 / 1位 : 2 Tickets – 2位 : 1 Ticket – 3位 : 1 Ticket – 4位 : 0 Ticket – 5位 : 0 Ticket \nNote :
URL:https://japanopenpoker.com/satellite/gpt-global-2-3/2026-02-08/
CATEGORIES:2026 JOPT Grand Final
END:VEVENT
BEGIN:VEVENT
DTSTART;TZID=Asia/Tokyo:20260208T210000
DTEND;TZID=Asia/Tokyo:20260208T223000
DTSTAMP:20260424T034138
CREATED:20260122T015040Z
LAST-MODIFIED:20260122T015040Z
UID:10015329-1770584400-1770589800@japanopenpoker.com
SUMMARY:ガットショット湯島本店 (2)
DESCRIPTION:ガットショット湯島本店 (2) \n<スケジュール / schedule> \nRegistration / 21:00-22:30 \n<参加費 / Fees>\nEntry / ¥1\,500\nChips / 15\,000 \nRe-Entry / ¥1\,500\nChips / 15\,000 \nRe-buy or Add-on / ¥0\nChips / 0 \nGame / No Limit Hold’em \n<プライズ / Prize>\n保証 / 2 Tickets\n配分 / 1位 : 1 Ticket – 2位 : 1 Ticket – 3位 : 0 Ticket – 4位 : 0 Ticket – 5位 : 0 Ticket
URL:https://japanopenpoker.com/satellite/%e3%82%ac%e3%83%83%e3%83%88%e3%82%b7%e3%83%a7%e3%83%83%e3%83%88%e6%b9%af%e5%b3%b6%e6%9c%ac%e5%ba%97-2-11/
CATEGORIES:2026 JOPT Grand Final
END:VEVENT
END:VCALENDAR