BEGIN:VCALENDAR
VERSION:2.0
PRODID:-//Japan Open Poker Tour - ECPv6.9.0//NONSGML v1.0//EN
CALSCALE:GREGORIAN
METHOD:PUBLISH
X-WR-CALNAME:Japan Open Poker Tour
X-ORIGINAL-URL:https://japanopenpoker.com
X-WR-CALDESC:Japan Open Poker Tour のイベント
REFRESH-INTERVAL;VALUE=DURATION:PT1H
X-Robots-Tag:noindex
X-PUBLISHED-TTL:PT1H
BEGIN:VTIMEZONE
TZID:Asia/Tokyo
BEGIN:STANDARD
TZOFFSETFROM:+0900
TZOFFSETTO:+0900
TZNAME:JST
DTSTART:20240101T000000
END:STANDARD
END:VTIMEZONE
BEGIN:VEVENT
DTSTART;TZID=Asia/Tokyo:20240909T101000
DTEND;TZID=Asia/Tokyo:20240909T131000
DTSTAMP:20260419T205759
CREATED:20240905T073225Z
LAST-MODIFIED:20240905T073225Z
UID:10007832-1725876600-1725887400@japanopenpoker.com
SUMMARY:My room 町田店 (1)
DESCRIPTION:My room 町田店 (1) \n<スケージュール / schedule> \nRegistration / 10:10-13:10 \n<参加費 / Fees>\nEntry / ¥4\,000\nChips / 25\,000 \nRe-Entry / ¥4\,000\nChips / 25\,000 \nRe-buy or Add-on / ¥1\,000\nChips / 20\,000 \nGame / No Limit Hold’em \n<プライズ / Prize>\n保証 / 1 Tickets\n配分 / 1位 : 1 Ticket – 2位 : 0 Ticket – 3位 : 0 Ticket – 4位 : 0 Ticket – 5位 : 0 Ticket
URL:https://japanopenpoker.com/satellite/my-room-%e7%94%ba%e7%94%b0%e5%ba%97-1/2024-09-09/
END:VEVENT
BEGIN:VEVENT
DTSTART;TZID=Asia/Tokyo:20240909T180000
DTEND;TZID=Asia/Tokyo:20240909T214500
DTSTAMP:20260419T205759
CREATED:20240902T094437Z
LAST-MODIFIED:20240902T094437Z
UID:10007757-1725904800-1725918300@japanopenpoker.com
SUMMARY:RIC GAMES六本木 (6)
DESCRIPTION:RIC GAMES六本木 (6) \n<スケージュール / schedule> \nRegistration / 18:00-21:45 \n<参加費 / Fees>\nEntry / ¥6\,800\nChips / 20\,000 \nRe-Entry / ¥6\,800\nChips / 20\,000 \nRe-buy or Add-on / ¥2\,000\nChips / 20\,000 \nGame / No Limit Hold’em \n<プライズ / Prize>\n保証 / 6 Tickets\n配分 / 1位 : 3 Tickets – 2位 : 3 Tickets – 3位 : 0 Ticket – 4位 : 0 Ticket – 5位 : 0 Ticket
URL:https://japanopenpoker.com/satellite/ric-games%e5%85%ad%e6%9c%ac%e6%9c%a8-6-3/2024-09-09/
END:VEVENT
BEGIN:VEVENT
DTSTART;TZID=Asia/Tokyo:20240909T183000
DTEND;TZID=Asia/Tokyo:20240909T204000
DTSTAMP:20260419T205759
CREATED:20240830T094440Z
LAST-MODIFIED:20240830T094440Z
UID:10007697-1725906600-1725914400@japanopenpoker.com
SUMMARY:アキバギルド (6)
DESCRIPTION:アキバギルド (6) \n<スケージュール / schedule> \nRegistration / 18:30-20:40 \n<参加費 / Fees>\nEntry / ¥4\,000\nChips / 15\,000 \nRe-Entry / ¥3\,500\nChips / 15\,000 \nRe-buy or Add-on / ¥1\,500\nChips / 15\,000 \nGame / No Limit Hold’em \n<プライズ / Prize>\n保証 / 6 Tickets\n配分 / 1位 : 3 Tickets – 2位 : 2 Tickets – 3位 : 1 Ticket – 4位 : 0 Ticket – 5位 : 0 Ticket
URL:https://japanopenpoker.com/satellite/%e3%82%a2%e3%82%ad%e3%83%90%e3%82%ae%e3%83%ab%e3%83%89-6-8/2024-09-09/
END:VEVENT
BEGIN:VEVENT
DTSTART;TZID=Asia/Tokyo:20240909T190000
DTEND;TZID=Asia/Tokyo:20240909T215000
DTSTAMP:20260419T205759
CREATED:20240901T042701Z
LAST-MODIFIED:20240901T042701Z
UID:10007706-1725908400-1725918600@japanopenpoker.com
SUMMARY:35BAR (3+)
DESCRIPTION:〇スケジュール | Schedule\n\nStart / 19:00\nRegistration / 21:50\n  \n\n〇参加費 | Fees\n\nEntry (Chips) / ¥4\,000 (15\,000)\nRe-entry [no cup] (Chips) / ¥4\,000 (15\,000)\nRe-buy (Chips) / ¥4\,000 (15\,000)\nAdd-on (Chips) / ¥2\,000 (15\,000)\nその他 / ¥1\,000 (ソフトドリンク飲み放題)\n  \n\n〇トーナメント | Tournament\n\nGame / No Limit Hold’em\n予選通過者(Qualifiers) / 3枠保証\n追加条件 / 28Eで+1枠\n繰り下げ獲得 / 有
URL:https://japanopenpoker.com/satellite/35bar-3/2024-09-09/
CATEGORIES:Satellites
ATTACH;FMTTYPE=image/jpeg:https://japanopenpoker.com/wp-content/uploads/2023/09/35BAR.jpeg
END:VEVENT
BEGIN:VEVENT
DTSTART;TZID=Asia/Tokyo:20240909T200000
DTEND;TZID=Asia/Tokyo:20240909T221000
DTSTAMP:20260419T205759
CREATED:20240910T041627Z
LAST-MODIFIED:20240910T041627Z
UID:10007931-1725912000-1725919800@japanopenpoker.com
SUMMARY:W BARREL (5)
DESCRIPTION:〇スケジュール | Schedule\n\nStart / 20:00\nRegistration / 22:10\n  \n\n〇参加費 | Fees\n\nEntry (Chips) / ¥4\,000 (20\,000)\nRe-entry [no cup] (Chips) / ¥4\,000 (20\,000)\nRe-buy (Chips) / 無\nAdd-on (Chips) / ¥2\,000 (20\,000)\n  \n\n〇トーナメント | Tournament\n\nGame / No Limit Hold’em\n予選通過者(Qualifiers) / 5枠保証\n追加条件 / 無\n繰り下げ獲得 / 無
URL:https://japanopenpoker.com/satellite/w-barrel-5-2/2024-09-09/
CATEGORIES:Satellites
ATTACH;FMTTYPE=image/jpeg:https://japanopenpoker.com/wp-content/uploads/2023/09/W-BARREL.jpeg
END:VEVENT
END:VCALENDAR