BEGIN:VCALENDAR
VERSION:2.0
PRODID:-//Japan Open Poker Tour - ECPv6.9.0//NONSGML v1.0//EN
CALSCALE:GREGORIAN
METHOD:PUBLISH
X-ORIGINAL-URL:https://japanopenpoker.com
X-WR-CALDESC:Japan Open Poker Tour のイベント
REFRESH-INTERVAL;VALUE=DURATION:PT1H
X-Robots-Tag:noindex
X-PUBLISHED-TTL:PT1H
BEGIN:VTIMEZONE
TZID:Asia/Tokyo
BEGIN:STANDARD
TZOFFSETFROM:+0900
TZOFFSETTO:+0900
TZNAME:JST
DTSTART:20240101T000000
END:STANDARD
END:VTIMEZONE
BEGIN:VEVENT
DTSTART;TZID=Asia/Tokyo:20240406T080000
DTEND;TZID=Asia/Tokyo:20240406T170000
DTSTAMP:20260419T205758
CREATED:20240404T093239Z
LAST-MODIFIED:20240404T093239Z
UID:10004894-1712390400-1712422800@japanopenpoker.com
SUMMARY:ALLINPOKERCLUB (4+)
DESCRIPTION:<スケージュール / schedule> \nRegistration / 17:30-20:40 \n<参加費 / Fees>\nEntry / ¥6\,000\nChips / 30\,000 \nRe-Entry / ¥5\,000\nChips / 30\,000 \nRe-buy or Add-on / ¥3\,000\nChips / 20\,000 \nGame / No Limit Hold’em \n<プライズ / Prize>\n保証 / 4(32E以上で1位3枚、2位3枚、3位2枚、4位2枚　合計10枚) Tickets\n配分 / 1位 : 3 Tickets – 2位 : 3 Tickets – 3位 : 2 Tickets – 4位 : 2 Tickets – 5位 : 0 Ticket
URL:https://japanopenpoker.com/satellite/allinpokerclub-4/2024-04-06/1/
CATEGORIES:Satellites
END:VEVENT
BEGIN:VEVENT
DTSTART;TZID=Asia/Tokyo:20240406T130000
DTEND;TZID=Asia/Tokyo:20240406T172000
DTSTAMP:20260419T205758
CREATED:20240328T041824Z
LAST-MODIFIED:20240328T041824Z
UID:10004730-1712408400-1712424000@japanopenpoker.com
SUMMARY:ガットショット上野池之端店 (12)
DESCRIPTION:<スケージュール / schedule> \nRegistration / 13:00-17:20 \n<参加費 / Fees>\nEntry / ¥8\,000\nChips / 40\,000 \nRe-Entry / ¥7\,000\nChips / 40\,000 \nRe-buy or Add-on / なし\nChips / なし \nGame / No Limit Hold’em \n<プライズ / Prize>\n保証 / 12 Tickets\n配分 / 1位 : 3 Tickets – 2位 : 3 Tickets – 3位 : 3 Tickets – 4位 : 3 Tickets – 5位 : 0 Ticket
URL:https://japanopenpoker.com/satellite/%e3%82%ac%e3%83%83%e3%83%88%e3%82%b7%e3%83%a7%e3%83%83%e3%83%88%e4%b8%8a%e9%87%8e%e6%b1%a0%e4%b9%8b%e7%ab%af%e5%ba%97-12-4/2024-04-06/
CATEGORIES:Satellites
END:VEVENT
BEGIN:VEVENT
DTSTART;TZID=Asia/Tokyo:20240406T133000
DTEND;TZID=Asia/Tokyo:20240406T173000
DTSTAMP:20260419T205758
CREATED:20240401T094602Z
LAST-MODIFIED:20240401T094602Z
UID:10004820-1712410200-1712424600@japanopenpoker.com
SUMMARY:津田沼POM (6＋)
DESCRIPTION:<スケージュール / schedule> \nRegistration / 13:30-17:30 \n<参加費 / Fees>\nEntry / ¥4\,000\nChips / 20\,000 \nRe-Entry / ¥3\,000\nChips / 20\,000 \nRe-buy or Add-on / ¥2\,000\nChips / 20\,000 \nGame / No Limit Hold’em \n<プライズ / Prize>\n保証 / 6（41E以上で4位に1枚、46E以上で4位に1枚） Tickets\n配分 / 1位 : 2 Tickets – 2位 : 2 Tickets – 3位 : 2 Tickets – 4位 : 0 Ticket – 5位 : 0 Ticket
URL:https://japanopenpoker.com/satellite/%e6%b4%a5%e7%94%b0%e6%b2%bcpom-6%ef%bc%8b-2/2024-04-06/
CATEGORIES:Satellites
END:VEVENT
BEGIN:VEVENT
DTSTART;TZID=Asia/Tokyo:20240406T145000
DTEND;TZID=Asia/Tokyo:20240406T184000
DTSTAMP:20260419T205758
CREATED:20240406T041035Z
LAST-MODIFIED:20240406T041035Z
UID:10004910-1712415000-1712428800@japanopenpoker.com
SUMMARY:ダブルバレル中目黒 (6)
DESCRIPTION:<スケージュール / schedule> \nRegistration / 13:50-18:40 \n<参加費 / Fees>\nEntry / ¥5\,000\nChips / 15\,000 \nRe-Entry / ¥5\,000\nChips / 15\,000 \nRe-buy or Add-on / ¥3\,000\nChips / 15\,000 \nGame / No Limit Hold’em \n<プライズ / Prize>\n保証 / 6 Tickets\n配分 / 1位 : 3 Tickets – 2位 : 3 Tickets – 3位 : 0 Ticket – 4位 : 0 Ticket – 5位 : 0 Ticket
URL:https://japanopenpoker.com/satellite/%e3%83%80%e3%83%96%e3%83%ab%e3%83%90%e3%83%ac%e3%83%ab%e4%b8%ad%e7%9b%ae%e9%bb%92-6/2024-04-06/
CATEGORIES:Satellites
ATTACH;FMTTYPE=image/jpeg:https://japanopenpoker.com/wp-content/uploads/2023/09/ダブルバレル中目黒.jpeg
END:VEVENT
BEGIN:VEVENT
DTSTART;TZID=Asia/Tokyo:20240406T163000
DTEND;TZID=Asia/Tokyo:20240406T210000
DTSTAMP:20260419T205758
CREATED:20240402T044100Z
LAST-MODIFIED:20240402T044100Z
UID:10004839-1712421000-1712437200@japanopenpoker.com
SUMMARY:池袋ベカス (21)
DESCRIPTION:<スケージュール / schedule> \nRegistration / 16:30-21:00 \n<参加費 / Fees>\nEntry / ¥10\,000\nChips / 20\,000 \nRe-Entry / ¥9\,000\nChips / 20\,000 \nRe-buy or Add-on / ¥2\,000\nChips / 20\,000 \nGame / No Limit Hold’em
URL:https://japanopenpoker.com/satellite/%e6%b1%a0%e8%a2%8b%e3%83%99%e3%82%ab%e3%82%b9-21/2024-04-06/
CATEGORIES:Satellites
END:VEVENT
BEGIN:VEVENT
DTSTART;TZID=Asia/Tokyo:20240406T170000
DTEND;TZID=Asia/Tokyo:20240406T210000
DTSTAMP:20260419T205758
CREATED:20240328T094318Z
LAST-MODIFIED:20240328T094318Z
UID:10004750-1712422800-1712437200@japanopenpoker.com
SUMMARY:THE CROWN (6+)
DESCRIPTION:<スケージュール / schedule> \nRegistration / 17:00-21:00 \n<参加費 / Fees>\nEntry / ¥5\,000\nChips / 20\,000 \nRe-Entry / ¥5\,000\nChips / 20\,000 \nRe-buy or Add-on / ¥3\,000\nChips / 20\,000 \nGame / No Limit Hold’em \n<プライズ / Prize>\n保証 / 6(30エントリー以上で 1枚上位に以降5エントリー毎に 1枚上位に付与) Tickets\n配分 / 1位 : 3 Tickets – 2位 : 2 Tickets – 3位 : 1 Ticket – 4位 : 0 Ticket – 5位 : 0 Ticket
URL:https://japanopenpoker.com/satellite/the-crown-6-4/2024-04-06/
CATEGORIES:Satellites
END:VEVENT
BEGIN:VEVENT
DTSTART;TZID=Asia/Tokyo:20240406T173000
DTEND;TZID=Asia/Tokyo:20240406T204000
DTSTAMP:20260419T205758
CREATED:20240404T093239Z
LAST-MODIFIED:20240404T093239Z
UID:10004895-1712424600-1712436000@japanopenpoker.com
SUMMARY:ALLINPOKERCLUB (4+)
DESCRIPTION:<スケージュール / schedule> \nRegistration / 17:30-20:40 \n<参加費 / Fees>\nEntry / ¥6\,000\nChips / 30\,000 \nRe-Entry / ¥5\,000\nChips / 30\,000 \nRe-buy or Add-on / ¥3\,000\nChips / 20\,000 \nGame / No Limit Hold’em \n<プライズ / Prize>\n保証 / 4(32E以上で1位3枚、2位3枚、3位2枚、4位2枚　合計10枚) Tickets\n配分 / 1位 : 3 Tickets – 2位 : 3 Tickets – 3位 : 2 Tickets – 4位 : 2 Tickets – 5位 : 0 Ticket
URL:https://japanopenpoker.com/satellite/allinpokerclub-4/2024-04-06/2/
CATEGORIES:Satellites
END:VEVENT
BEGIN:VEVENT
DTSTART;TZID=Asia/Tokyo:20240406T180000
DTEND;TZID=Asia/Tokyo:20240406T210000
DTSTAMP:20260419T205758
CREATED:20240330T025228Z
LAST-MODIFIED:20240330T025228Z
UID:10004770-1712426400-1712437200@japanopenpoker.com
SUMMARY:RIC GAMES ROPPONGI (4)
DESCRIPTION:<スケージュール / schedule> \nRegistration / 18:00-21:00 \n<参加費 / Fees>\nEntry / ¥6\,800\nChips / 20\,000 \nRe-Entry / ¥6\,800\nChips / 20\,000 \nRe-buy or Add-on / ¥2\,000\nChips / 20\,000 \nGame / No Limit Hold’em \n<プライズ / Prize>\n保証 / 4 Tickets\n配分 / 1位 : 3 Tickets – 2位 : 3 Tickets – 3位 : 2 Tickets – 4位 : 1 Ticket – 5位 : 0 Ticket
URL:https://japanopenpoker.com/satellite/ric-games-roppongi-4-2/2024-04-06/
CATEGORIES:Satellites
END:VEVENT
BEGIN:VEVENT
DTSTART;TZID=Asia/Tokyo:20240406T180000
DTEND;TZID=Asia/Tokyo:20240406T213000
DTSTAMP:20260419T205758
CREATED:20240318T022105Z
LAST-MODIFIED:20240318T022105Z
UID:10004676-1712426400-1712439000@japanopenpoker.com
SUMMARY:上野LuckyDice (6)
DESCRIPTION:<スケージュール / schedule> \nRegistration / 18:00-21:30 \n<参加費 / Fees>\nEntry / ¥5\,000\nChips / 20\,000 \nRe-Entry / ¥4\,500\nChips / 20\,000 \nRe-buy or Add-on / ¥2\,500\nChips / 20\,000 \nGame / No Limit Hold’em \n<プライズ / Prize>\n保証 / 6 Tickets\n配分 / 1位 : 3 Tickets – 2位 : 3 Tickets – 3位 : 0 Ticket – 4位 : 0 Ticket – 5位 : 0 Ticket
URL:https://japanopenpoker.com/satellite/%e4%b8%8a%e9%87%8eluckydice-6-2/2024-04-06/
CATEGORIES:Satellites
END:VEVENT
BEGIN:VEVENT
DTSTART;TZID=Asia/Tokyo:20240406T190000
DTEND;TZID=Asia/Tokyo:20240406T211000
DTSTAMP:20260419T205758
CREATED:20240330T024324Z
LAST-MODIFIED:20240330T024324Z
UID:10004763-1712430000-1712437800@japanopenpoker.com
SUMMARY:POKER RING 河原町店 (2+)
DESCRIPTION:<スケージュール / schedule> \nRegistration / 19:00-21:10 \n<参加費 / Fees>\nEntry / ¥4\,000\nChips / 20\,000 \nRe-Entry / ¥4\,000\nChips / 20\,000 \nRe-buy or Add-on / ¥2\,000\nChips / 20\,000 \nGame / No Limit Hold’em \n<プライズ / Prize>\n保証 / 2（15エントリー以上で3位に1枚追加） Tickets\n配分 / 1位 : 1 Ticket – 2位 : 1 Ticket – 3位 : 0 Ticket – 4位 : 0 Ticket – 5位 : 0 Ticket
URL:https://japanopenpoker.com/satellite/poker-ring-%e6%b2%b3%e5%8e%9f%e7%94%ba%e5%ba%97-2/2024-04-06/
CATEGORIES:Satellites
END:VEVENT
BEGIN:VEVENT
DTSTART;TZID=Asia/Tokyo:20240406T190000
DTEND;TZID=Asia/Tokyo:20240406T223000
DTSTAMP:20260419T205758
CREATED:20240404T093753Z
LAST-MODIFIED:20240404T093753Z
UID:10004901-1712430000-1712442600@japanopenpoker.com
SUMMARY:ASOBIBAR Lecoeur (4)
DESCRIPTION:<スケージュール / schedule> \nRegistration / 19:00-22:30 \n<参加費 / Fees>\nEntry / ¥5\,000\nChips / 2\,000 \nRe-Entry / ¥5\,000\nChips / 2\,000 \nRe-buy or Add-on / ¥3\,000\nChips / 2\,000 \nGame / No Limit Hold’em \n<プライズ / Prize>\n保証 / 4 Tickets\n配分 / 1位 : 2 Tickets – 2位 : 2 Tickets – 3位 : 0 Ticket – 4位 : 0 Ticket – 5位 : 0 Ticket
URL:https://japanopenpoker.com/satellite/asobibar-lecoeur-4-3/2024-04-06/
CATEGORIES:Satellites
END:VEVENT
BEGIN:VEVENT
DTSTART;TZID=Asia/Tokyo:20240406T203000
DTEND;TZID=Asia/Tokyo:20240406T223000
DTSTAMP:20260419T205758
CREATED:20240401T060437Z
LAST-MODIFIED:20240401T060437Z
UID:10004796-1712435400-1712442600@japanopenpoker.com
SUMMARY:化猫ポーカー倶楽部 (3)
DESCRIPTION:<スケージュール / schedule> \nRegistration / 20:30-22:30 \n<参加費 / Fees>\nEntry / ¥8\,000\nChips / 35\,000 \nRe-Entry / ¥8\,000\nChips / 35\,000 \nRe-buy or Add-on / なし\nChips / なし \nGame / No Limit Hold’em \n<プライズ / Prize>\n保証 / 3 Tickets\n配分 / 1位 : 2 Tickets – 2位 : 1 Ticket – 3位 : 0 Ticket – 4位 : 0 Ticket – 5位 : 0 Ticket
URL:https://japanopenpoker.com/satellite/%e5%8c%96%e7%8c%ab%e3%83%9d%e3%83%bc%e3%82%ab%e3%83%bc%e5%80%b6%e6%a5%bd%e9%83%a8-3-2/2024-04-06/
CATEGORIES:Satellites
END:VEVENT
BEGIN:VEVENT
DTSTART;TZID=Asia/Tokyo:20240406T220000
DTEND;TZID=Asia/Tokyo:20240407T014000
DTSTAMP:20260419T205758
CREATED:20240405T022414Z
LAST-MODIFIED:20240405T022414Z
UID:10004908-1712440800-1712454000@japanopenpoker.com
SUMMARY:赤坂 Salon de Poker (3)
DESCRIPTION:<スケージュール / schedule> \nRegistration / 22:00-1:40 \n<参加費 / Fees>\nEntry / ¥13\,000\nChips / 50\,000 \nRe-Entry / ¥13\,000\nChips / 50\,000 \nRe-buy or Add-on / ¥0\nChips / 0 \nGame / No Limit Hold’em \n<プライズ / Prize>\n保証 / 3 Tickets\n配分 / 1位 : 1 Ticket – 2位 : 1 Ticket – 3位 : 1 Ticket – 4位 : 0 Ticket – 5位 : 0 Ticket
URL:https://japanopenpoker.com/satellite/%e8%b5%a4%e5%9d%82-salon-de-poker-3-3/
CATEGORIES:Satellites
END:VEVENT
END:VCALENDAR