BEGIN:VCALENDAR
VERSION:2.0
PRODID:-//Japan Open Poker Tour - ECPv6.9.0//NONSGML v1.0//EN
CALSCALE:GREGORIAN
METHOD:PUBLISH
X-WR-CALNAME:Japan Open Poker Tour
X-ORIGINAL-URL:https://japanopenpoker.com
X-WR-CALDESC:Japan Open Poker Tour のイベント
REFRESH-INTERVAL;VALUE=DURATION:PT1H
X-Robots-Tag:noindex
X-PUBLISHED-TTL:PT1H
BEGIN:VTIMEZONE
TZID:Asia/Tokyo
BEGIN:STANDARD
TZOFFSETFROM:+0900
TZOFFSETTO:+0900
TZNAME:JST
DTSTART:20240101T000000
END:STANDARD
END:VTIMEZONE
BEGIN:VEVENT
DTSTART;TZID=Asia/Tokyo:20240402T180000
DTEND;TZID=Asia/Tokyo:20240402T210000
DTSTAMP:20260419T230648
CREATED:20240328T041557Z
LAST-MODIFIED:20240328T041557Z
UID:10004726-1712080800-1712091600@japanopenpoker.com
SUMMARY:ガットショット上野池之端店 (9)
DESCRIPTION:<スケージュール / schedule> \nRegistration / 18:00-21:00 \n<参加費 / Fees>\nEntry / ¥8\,000\nChips / 40\,000 \nRe-Entry / ¥7\,000\nChips / 40\,000 \nRe-buy or Add-on / なし\nChips / なし \nGame / No Limit Hold’em \n<プライズ / Prize>\n保証 / 9 Tickets\n配分 / 1位 : 3 Tickets – 2位 : 3 Tickets – 3位 : 3 Tickets – 4位 : 0 Ticket – 5位 : 0 Ticket
URL:https://japanopenpoker.com/satellite/%e3%82%ac%e3%83%83%e3%83%88%e3%82%b7%e3%83%a7%e3%83%83%e3%83%88%e4%b8%8a%e9%87%8e%e6%b1%a0%e4%b9%8b%e7%ab%af%e5%ba%97-9-4/2024-04-02/
CATEGORIES:Satellites
END:VEVENT
BEGIN:VEVENT
DTSTART;TZID=Asia/Tokyo:20240402T180000
DTEND;TZID=Asia/Tokyo:20240402T210000
DTSTAMP:20260419T230648
CREATED:20240330T025228Z
LAST-MODIFIED:20240330T025228Z
UID:10004767-1712080800-1712091600@japanopenpoker.com
SUMMARY:RIC GAMES ROPPONGI (4)
DESCRIPTION:<スケージュール / schedule> \nRegistration / 18:00-21:00 \n<参加費 / Fees>\nEntry / ¥6\,800\nChips / 20\,000 \nRe-Entry / ¥6\,800\nChips / 20\,000 \nRe-buy or Add-on / ¥2\,000\nChips / 20\,000 \nGame / No Limit Hold’em \n<プライズ / Prize>\n保証 / 4 Tickets\n配分 / 1位 : 3 Tickets – 2位 : 3 Tickets – 3位 : 2 Tickets – 4位 : 1 Ticket – 5位 : 0 Ticket
URL:https://japanopenpoker.com/satellite/ric-games-roppongi-4-2/2024-04-02/
CATEGORIES:Satellites
END:VEVENT
BEGIN:VEVENT
DTSTART;TZID=Asia/Tokyo:20240402T183000
DTEND;TZID=Asia/Tokyo:20240402T204000
DTSTAMP:20260419T230648
CREATED:20240326T014946Z
LAST-MODIFIED:20240326T014946Z
UID:10004716-1712082600-1712090400@japanopenpoker.com
SUMMARY:アキバギルド (6)
DESCRIPTION:<スケージュール / schedule> \nRegistration / 18:30-20:40 \n<参加費 / Fees>\nEntry / ¥4\,000\nChips / 15\,000 \nRe-Entry / ¥3\,500\nChips / 15\,000 \nRe-buy or Add-on / ¥1\,500\nChips / 15\,000 \nGame / No Limit Hold’em \n<プライズ / Prize>\n保証 / 6 Tickets\n配分 / 1位 : 3 Tickets – 2位 : 2 Tickets – 3位 : 1 Ticket – 4位 : 0 Ticket – 5位 : 0 Ticket
URL:https://japanopenpoker.com/satellite/%e3%82%a2%e3%82%ad%e3%83%90%e3%82%ae%e3%83%ab%e3%83%89-6-5/2024-04-02/
CATEGORIES:Satellites
END:VEVENT
BEGIN:VEVENT
DTSTART;TZID=Asia/Tokyo:20240402T190000
DTEND;TZID=Asia/Tokyo:20240402T215000
DTSTAMP:20260419T230648
CREATED:20240330T023747Z
LAST-MODIFIED:20240330T023747Z
UID:10004759-1712084400-1712094600@japanopenpoker.com
SUMMARY:練馬桜台side (2+)
DESCRIPTION:<スケージュール / schedule> \nRegistration / 19:00-21:50 \n<参加費 / Fees>\nEntry / ¥9\,000\nChips / 30\,000 \nRe-Entry / ¥8\,000\nChips / 30\,000 \nRe-buy or Add-on / ¥0\nChips / 0 \nGame / No Limit Hold’em \n<プライズ / Prize>\n保証 / 2+6 Tickets\n配分 / 1位 : 2 Tickets – 2位 : 2 Tickets – 3位 : 2 Tickets – 4位 : 2 Tickets – 5位 : 0 Ticket
URL:https://japanopenpoker.com/satellite/%e7%b7%b4%e9%a6%ac%e6%a1%9c%e5%8f%b0side-2-2/2024-04-02/
CATEGORIES:Satellites
END:VEVENT
BEGIN:VEVENT
DTSTART;TZID=Asia/Tokyo:20240402T203000
DTEND;TZID=Asia/Tokyo:20240402T223000
DTSTAMP:20260419T230648
CREATED:20240401T060437Z
LAST-MODIFIED:20240401T060437Z
UID:10004792-1712089800-1712097000@japanopenpoker.com
SUMMARY:化猫ポーカー倶楽部 (3)
DESCRIPTION:<スケージュール / schedule> \nRegistration / 20:30-22:30 \n<参加費 / Fees>\nEntry / ¥8\,000\nChips / 35\,000 \nRe-Entry / ¥8\,000\nChips / 35\,000 \nRe-buy or Add-on / なし\nChips / なし \nGame / No Limit Hold’em \n<プライズ / Prize>\n保証 / 3 Tickets\n配分 / 1位 : 2 Tickets – 2位 : 1 Ticket – 3位 : 0 Ticket – 4位 : 0 Ticket – 5位 : 0 Ticket
URL:https://japanopenpoker.com/satellite/%e5%8c%96%e7%8c%ab%e3%83%9d%e3%83%bc%e3%82%ab%e3%83%bc%e5%80%b6%e6%a5%bd%e9%83%a8-3-2/2024-04-02/
CATEGORIES:Satellites
END:VEVENT
BEGIN:VEVENT
DTSTART;TZID=Asia/Tokyo:20240402T220000
DTEND;TZID=Asia/Tokyo:20240403T014000
DTSTAMP:20260419T230648
CREATED:20240402T044559Z
LAST-MODIFIED:20240415T082216Z
UID:10004843-1712095200-1712108400@japanopenpoker.com
SUMMARY:赤坂 Salon de Poker (2)
DESCRIPTION:<スケージュール / schedule> \nRegistration / 22:00-1:40 \n<参加費 / Fees>\nEntry / ¥5\,400\nChips / 25\,000 \nRe-Entry / ¥5\,000\nChips / 25\,000 \nRe-buy or Add-on / ¥4\,000\nChips / 25\,000 \nGame / No Limit Hold’em \n<プライズ / Prize>\n保証 / 2 Tickets\n配分 / 1位 : 1 Ticket – 2位 : 1 Ticket – 3位 : 0 Ticket – 4位 : 0 Ticket – 5位 : 0 Ticket
URL:https://japanopenpoker.com/satellite/%e8%b5%a4%e5%9d%82-salon-de-poker-2-5/2024-04-02/
CATEGORIES:Satellites
END:VEVENT
END:VCALENDAR