BEGIN:VCALENDAR
VERSION:2.0
PRODID:-//Japan Open Poker Tour - ECPv6.9.0//NONSGML v1.0//EN
CALSCALE:GREGORIAN
METHOD:PUBLISH
X-ORIGINAL-URL:https://japanopenpoker.com
X-WR-CALDESC:Japan Open Poker Tour のイベント
REFRESH-INTERVAL;VALUE=DURATION:PT1H
X-Robots-Tag:noindex
X-PUBLISHED-TTL:PT1H
BEGIN:VTIMEZONE
TZID:Asia/Tokyo
BEGIN:STANDARD
TZOFFSETFROM:+0900
TZOFFSETTO:+0900
TZNAME:JST
DTSTART:20250101T000000
END:STANDARD
END:VTIMEZONE
BEGIN:VEVENT
DTSTART;TZID=Asia/Tokyo:20251225T160000
DTEND;TZID=Asia/Tokyo:20251225T173000
DTSTAMP:20260424T051420
CREATED:20251202T105956Z
LAST-MODIFIED:20251202T105956Z
UID:10015050-1766678400-1766683800@japanopenpoker.com
SUMMARY:EGP EBISU (1)
DESCRIPTION:EGP EBISU (1) \n<スケジュール / schedule> \nRegistration / 16:00-17:30 \n<参加費 / Fees>\nEntry / ¥1\,000\nChips / 10\,000 \nRe-Entry / ¥1\,000\nChips / 10\,000 \nRe-buy or Add-on / ¥1\,000\nChips / 20\,000 \nGame / No Limit Hold’em \n<プライズ / Prize>\n保証 / 1 Tickets\n配分 / 1位 : 1 Ticket – 2位 : 0 Ticket – 3位 : 0 Ticket – 4位 : 0 Ticket – 5位 : 0 Ticket \nNote :
URL:https://japanopenpoker.com/satellite/egp-ebisu-1-14/2025-12-25/
CATEGORIES:2026 JOPT Tokyo #01
END:VEVENT
BEGIN:VEVENT
DTSTART;TZID=Asia/Tokyo:20251225T173000
DTEND;TZID=Asia/Tokyo:20251225T200000
DTSTAMP:20260424T051420
CREATED:20251216T011505Z
LAST-MODIFIED:20251216T011505Z
UID:10015134-1766683800-1766692800@japanopenpoker.com
SUMMARY:化猫ポーカー倶楽部 (3)
DESCRIPTION:化猫ポーカー倶楽部 (3) \n<スケジュール / schedule> \nRegistration / 17:30-20:00 \n<参加費 / Fees>\nEntry / ¥3\,000\nChips / 15\,000 \nRe-Entry / ¥3\,000\nChips / 15\,000 \nRe-buy or Add-on / ¥1\,000\nChips / 15\,000 \nGame / No Limit Hold’em \n<プライズ / Prize>\n保証 / 3 Tickets\n配分 / 1位 : 3 Tickets – 2位 : 0 Ticket – 3位 : 0 Ticket – 4位 : 0 Ticket – 5位 : 0 Ticket \nNote :
URL:https://japanopenpoker.com/satellite/%e5%8c%96%e7%8c%ab%e3%83%9d%e3%83%bc%e3%82%ab%e3%83%bc%e5%80%b6%e6%a5%bd%e9%83%a8-3-3/2025-12-25/
CATEGORIES:2026 JOPT Tokyo #01
END:VEVENT
BEGIN:VEVENT
DTSTART;TZID=Asia/Tokyo:20251225T180000
DTEND;TZID=Asia/Tokyo:20251225T205000
DTSTAMP:20260424T051420
CREATED:20251127T074512Z
LAST-MODIFIED:20251127T074512Z
UID:10014964-1766685600-1766695800@japanopenpoker.com
SUMMARY:Casino Live Tokyo (15)
DESCRIPTION:<スケジュール / schedule> \nRegistration / 18:00-20:50 \n<参加費 / Fees>\nEntry / ¥5\,000\nChips / 15\,000 \nRe-Entry / ¥5\,000\nChips / 15\,000 \nRe-buy or Add-on / ¥2\,000\nChips / 15\,000 \nGame / No Limit Hold’em \n<プライズ / Prize>\n保証 / 15 Tickets\n配分 / 1位 : 3 Tickets – 2位 : 3 Tickets – 3位 : 3 Tickets – 4位 : 3 Tickets – 5位 : 3 Tickets \nNote :
URL:https://japanopenpoker.com/satellite/casino-live-tokyo-15-30/2025-12-25/
CATEGORIES:2026 JOPT Tokyo #01
END:VEVENT
BEGIN:VEVENT
DTSTART;TZID=Asia/Tokyo:20251225T180000
DTEND;TZID=Asia/Tokyo:20251225T210000
DTSTAMP:20260424T051420
CREATED:20251204T014322Z
LAST-MODIFIED:20251204T014322Z
UID:10015066-1766685600-1766696400@japanopenpoker.com
SUMMARY:PokerRoomP3 (4+)
DESCRIPTION:PokerRoomP3 (4(20E以上 ×5、25E以上 ×6)) \n<スケジュール / schedule> \nRegistration / 18:00-21:00 \n<参加費 / Fees>\nEntry / ¥5\,000\nChips / 15\,000 \nRe-Entry / ¥5\,000\nChips / 15\,000 \nRe-buy or Add-on / ¥3\,000\nChips / 15\,000 \nGame / No Limit Hold’em \n<プライズ / Prize>\n保証 / 4(20E以上 ×5、25E以上 ×6) Tickets\n配分 / 1位 : 3 Tickets – 2位 : 1 Ticket – 3位 : 0 Ticket – 4位 : 0 Ticket – 5位 : 0 Ticket \nNote :
URL:https://japanopenpoker.com/satellite/pokerroomp3-4-6/2025-12-25/
CATEGORIES:2026 JOPT Tokyo #01
END:VEVENT
BEGIN:VEVENT
DTSTART;TZID=Asia/Tokyo:20251225T180000
DTEND;TZID=Asia/Tokyo:20251225T211000
DTSTAMP:20260424T051420
CREATED:20251127T073750Z
LAST-MODIFIED:20251127T073750Z
UID:10014945-1766685600-1766697000@japanopenpoker.com
SUMMARY:ガットショット湯島本店 (4)
DESCRIPTION:<スケジュール / schedule> \nRegistration / 18:00-21:10 \n<参加費 / Fees>\nEntry / ¥2\,000\nChips / 30\,000 \nRe-Entry / ¥2\,000\nChips / 30\,000 \nRe-buy or Add-on / ¥0\nChips / 0 \nGame / No Limit Hold’em \n<プライズ / Prize>\n保証 / 4 Tickets\n配分 / 1位 : 3 Tickets – 2位 : 1 Ticket – 3位 : 0 Ticket – 4位 : 0 Ticket – 5位 : 0 Ticket
URL:https://japanopenpoker.com/satellite/%e3%82%ac%e3%83%83%e3%83%88%e3%82%b7%e3%83%a7%e3%83%83%e3%83%88%e6%b9%af%e5%b3%b6%e6%9c%ac%e5%ba%97-4-9/2025-12-25/
CATEGORIES:2026 JOPT Tokyo #01
END:VEVENT
BEGIN:VEVENT
DTSTART;TZID=Asia/Tokyo:20251225T180000
DTEND;TZID=Asia/Tokyo:20251225T213000
DTSTAMP:20260424T051420
CREATED:20251222T023020Z
LAST-MODIFIED:20251222T023020Z
UID:10015188-1766685600-1766698200@japanopenpoker.com
SUMMARY:Double belly buster (6)
DESCRIPTION:Double belly buster (6) \n<スケジュール / schedule> \nRegistration / 18:00-21:30 \n<参加費 / Fees>\nEntry / ¥9\,900\nChips / 40\,000 \nRe-Entry / ¥8\,800\nChips / 40\,000 \nRe-buy or Add-on / ¥0\nChips / 0 \nGame / No Limit Hold’em \n<プライズ / Prize>\n保証 / 63u6Q2a7x Tickets\n配分 / 1位 : 3 Tickets – 2位 : 3 Tickets – 3位 : 0 Ticket – 4位 : 0 Ticket – 5位 : 0 Ticket \n“Note : １卓限定\n早割でファーストエントリー¥2\,200引き”
URL:https://japanopenpoker.com/satellite/double-belly-buster-6-8/2025-12-25/
CATEGORIES:2026 JOPT Tokyo #01
END:VEVENT
BEGIN:VEVENT
DTSTART;TZID=Asia/Tokyo:20251225T183000
DTEND;TZID=Asia/Tokyo:20251225T212000
DTSTAMP:20260424T051420
CREATED:20251218T013153Z
LAST-MODIFIED:20251218T013153Z
UID:10015170-1766687400-1766697600@japanopenpoker.com
SUMMARY:PukuPuku赤坂店 (6)
DESCRIPTION:PukuPuku赤坂店 (6) \n<スケジュール / schedule> \nRegistration / 18:30-21:20 \n<参加費 / Fees>\nEntry / 10\,000円\nChips / 40\,000点 \nRe-Entry / 8\,000円\nChips / 40\,000点 \nRe-buy or Add-on / なし\nChips / なし、 \nGame / No Limit Hold’em \n<プライズ / Prize>\n保証 / 6 Tickets\n配分 / 1位 : 3 Tickets – 2位 : 3 Tickets – 3位 : 0 Ticket – 4位 : 0 Ticket – 5位 : 0 Ticket \nNote :
URL:https://japanopenpoker.com/satellite/pukupuku%e8%b5%a4%e5%9d%82%e5%ba%97-6/2025-12-25/
CATEGORIES:2026 JOPT Tokyo #01
END:VEVENT
BEGIN:VEVENT
DTSTART;TZID=Asia/Tokyo:20251225T183000
DTEND;TZID=Asia/Tokyo:20251225T213000
DTSTAMP:20260424T051420
CREATED:20251222T021614Z
LAST-MODIFIED:20251222T021614Z
UID:10015175-1766687400-1766698200@japanopenpoker.com
SUMMARY:Ri:Vera人形町 (5)
DESCRIPTION:Ri:Vera人形町 (5) \n<スケジュール / schedule> \nRegistration / 18:30-21:30 \n<参加費 / Fees>\nEntry / ¥6\,000\nChips / 30\,000 \nRe-Entry / ¥5\,500\nChips / 30\,000 \nRe-buy or Add-on / ¥0\nChips / 0 \nGame / No Limit Hold’em \n<プライズ / Prize>\n保証 / 5 Tickets\n配分 / 1位 : 2 Tickets – 2位 : 2 Tickets – 3位 : 1 Ticket – 4位 : 0 Ticket – 5位 : 0 Ticket \nNote : 19時までの着席でファーストエントリー1000円割引
URL:https://japanopenpoker.com/satellite/rivera%e4%ba%ba%e5%bd%a2%e7%94%ba-5/
CATEGORIES:2026 JOPT Tokyo #01
END:VEVENT
BEGIN:VEVENT
DTSTART;TZID=Asia/Tokyo:20251225T190000
DTEND;TZID=Asia/Tokyo:20251225T220000
DTSTAMP:20260424T051420
CREATED:20251216T011954Z
LAST-MODIFIED:20251216T011954Z
UID:10015145-1766689200-1766700000@japanopenpoker.com
SUMMARY:化猫ポーカー倶楽部 (9)
DESCRIPTION:化猫ポーカー倶楽部 (9) \n<スケジュール / schedule> \nRegistration / 19:00-22:00 \n<参加費 / Fees>\nEntry / ¥5\,000\nChips / 20\,000 \nRe-Entry / ¥5\,000\nChips / 20\,000 \nRe-buy or Add-on / ¥2\,000\nChips / 20\,000 \nGame / No Limit Hold’em \n<プライズ / Prize>\n保証 / 9 Tickets\n配分 / 1位 : 3 Tickets – 2位 : 3 Tickets – 3位 : 3 Tickets – 4位 : 0 Ticket – 5位 : 0 Ticket \nNote :
URL:https://japanopenpoker.com/satellite/%e5%8c%96%e7%8c%ab%e3%83%9d%e3%83%bc%e3%82%ab%e3%83%bc%e5%80%b6%e6%a5%bd%e9%83%a8-9-16/2025-12-25/
CATEGORIES:2026 JOPT Tokyo #01
END:VEVENT
END:VCALENDAR