BEGIN:VCALENDAR
VERSION:2.0
PRODID:-//Japan Open Poker Tour - ECPv6.9.0//NONSGML v1.0//EN
CALSCALE:GREGORIAN
METHOD:PUBLISH
X-WR-CALNAME:Japan Open Poker Tour
X-ORIGINAL-URL:https://japanopenpoker.com
X-WR-CALDESC:Japan Open Poker Tour のイベント
REFRESH-INTERVAL;VALUE=DURATION:PT1H
X-Robots-Tag:noindex
X-PUBLISHED-TTL:PT1H
BEGIN:VTIMEZONE
TZID:Asia/Tokyo
BEGIN:STANDARD
TZOFFSETFROM:+0900
TZOFFSETTO:+0900
TZNAME:JST
DTSTART:20250101T000000
END:STANDARD
END:VTIMEZONE
BEGIN:VEVENT
DTSTART;TZID=Asia/Tokyo:20251224T160000
DTEND;TZID=Asia/Tokyo:20251224T173000
DTSTAMP:20260424T051359
CREATED:20251202T105956Z
LAST-MODIFIED:20251202T105956Z
UID:10015049-1766592000-1766597400@japanopenpoker.com
SUMMARY:EGP EBISU (1)
DESCRIPTION:EGP EBISU (1) \n<スケジュール / schedule> \nRegistration / 16:00-17:30 \n<参加費 / Fees>\nEntry / ¥1\,000\nChips / 10\,000 \nRe-Entry / ¥1\,000\nChips / 10\,000 \nRe-buy or Add-on / ¥1\,000\nChips / 20\,000 \nGame / No Limit Hold’em \n<プライズ / Prize>\n保証 / 1 Tickets\n配分 / 1位 : 1 Ticket – 2位 : 0 Ticket – 3位 : 0 Ticket – 4位 : 0 Ticket – 5位 : 0 Ticket \nNote :
URL:https://japanopenpoker.com/satellite/egp-ebisu-1-14/2025-12-24/
CATEGORIES:2026 JOPT Tokyo #01
END:VEVENT
BEGIN:VEVENT
DTSTART;TZID=Asia/Tokyo:20251224T173000
DTEND;TZID=Asia/Tokyo:20251224T200000
DTSTAMP:20260424T051359
CREATED:20251216T011505Z
LAST-MODIFIED:20251216T011505Z
UID:10015133-1766597400-1766606400@japanopenpoker.com
SUMMARY:化猫ポーカー倶楽部 (3)
DESCRIPTION:化猫ポーカー倶楽部 (3) \n<スケジュール / schedule> \nRegistration / 17:30-20:00 \n<参加費 / Fees>\nEntry / ¥3\,000\nChips / 15\,000 \nRe-Entry / ¥3\,000\nChips / 15\,000 \nRe-buy or Add-on / ¥1\,000\nChips / 15\,000 \nGame / No Limit Hold’em \n<プライズ / Prize>\n保証 / 3 Tickets\n配分 / 1位 : 3 Tickets – 2位 : 0 Ticket – 3位 : 0 Ticket – 4位 : 0 Ticket – 5位 : 0 Ticket \nNote :
URL:https://japanopenpoker.com/satellite/%e5%8c%96%e7%8c%ab%e3%83%9d%e3%83%bc%e3%82%ab%e3%83%bc%e5%80%b6%e6%a5%bd%e9%83%a8-3-3/2025-12-24/
CATEGORIES:2026 JOPT Tokyo #01
END:VEVENT
BEGIN:VEVENT
DTSTART;TZID=Asia/Tokyo:20251224T180000
DTEND;TZID=Asia/Tokyo:20251224T205000
DTSTAMP:20260424T051359
CREATED:20251127T080856Z
LAST-MODIFIED:20251127T080856Z
UID:10014986-1766599200-1766609400@japanopenpoker.com
SUMMARY:KKLIVE POKER SHINJUKU (21)
DESCRIPTION:<スケジュール / schedule> \nRegistration / 18:00-20:50 \n<参加費 / Fees>\nEntry / ¥8000\nChips / 15\,000 \nRe-Entry / ¥8000\nChips / 15\,000 \nRe-buy or Add-on / ¥2000\nChips / 15\,000 \nGame / No Limit Hold’em \n<プライズ / Prize>\n保証 / 21 Tickets\n配分 / 1位 : 3 Tickets – 2位 : 3 Tickets – 3位 : 3 Tickets – 4位 : 3 Tickets – 5位 : 3 Tickets \nNote : 上位7名　3枠
URL:https://japanopenpoker.com/satellite/kklive-poker-shinjuku-21/2025-12-24/
CATEGORIES:2026 JOPT Tokyo #01
END:VEVENT
BEGIN:VEVENT
DTSTART;TZID=Asia/Tokyo:20251224T180000
DTEND;TZID=Asia/Tokyo:20251224T210000
DTSTAMP:20260424T051359
CREATED:20251204T014322Z
LAST-MODIFIED:20251204T014322Z
UID:10015065-1766599200-1766610000@japanopenpoker.com
SUMMARY:PokerRoomP3 (4+)
DESCRIPTION:PokerRoomP3 (4(20E以上 ×5、25E以上 ×6)) \n<スケジュール / schedule> \nRegistration / 18:00-21:00 \n<参加費 / Fees>\nEntry / ¥5\,000\nChips / 15\,000 \nRe-Entry / ¥5\,000\nChips / 15\,000 \nRe-buy or Add-on / ¥3\,000\nChips / 15\,000 \nGame / No Limit Hold’em \n<プライズ / Prize>\n保証 / 4(20E以上 ×5、25E以上 ×6) Tickets\n配分 / 1位 : 3 Tickets – 2位 : 1 Ticket – 3位 : 0 Ticket – 4位 : 0 Ticket – 5位 : 0 Ticket \nNote :
URL:https://japanopenpoker.com/satellite/pokerroomp3-4-6/2025-12-24/
CATEGORIES:2026 JOPT Tokyo #01
END:VEVENT
BEGIN:VEVENT
DTSTART;TZID=Asia/Tokyo:20251224T180000
DTEND;TZID=Asia/Tokyo:20251224T210000
DTSTAMP:20260424T051359
CREATED:20251213T014317Z
LAST-MODIFIED:20251213T014325Z
UID:10015115-1766599200-1766610000@japanopenpoker.com
SUMMARY:BACKDOOR 浅草橋 (9+)
DESCRIPTION:BACKDOOR 浅草橋 (9（38エントリー以上で4位に3枚追加、以降12E毎）、上位5名NLH Warm-up voucher) \n<スケジュール / schedule> \nRegistration / 18:00-21:00 \n<参加費 / Fees>\nEntry / ¥7\,500\nChips / 30\,000 \nRe-Entry / ¥6\,500\nChips / 30\,000 \nRe-buy or Add-on / ¥0\nChips / 0 \nGame / No Limit Hold’em \n<プライズ / Prize>\n保証 / 9（38エントリー以上で4位に3枚追加、以降12E毎）、上位5名NLH Warm-up voucher Tickets\n配分 / 1位 : 3 Tickets – 2位 : 3 Tickets – 3位 : 3 Tickets – 4位 : 3 Tickets – 5位 : 3 Tickets \n“Note : 19:00までのエントリー¥6\,500\n前日のサテライトエントリーされた方半額”
URL:https://japanopenpoker.com/satellite/backdoor-%e6%b5%85%e8%8d%89%e6%a9%8b-9-5/2025-12-24/
CATEGORIES:2026 JOPT Tokyo #01
END:VEVENT
BEGIN:VEVENT
DTSTART;TZID=Asia/Tokyo:20251224T180000
DTEND;TZID=Asia/Tokyo:20251224T210000
DTSTAMP:20260424T051359
CREATED:20251222T023344Z
LAST-MODIFIED:20251222T023344Z
UID:10015193-1766599200-1766610000@japanopenpoker.com
SUMMARY:Under Dog (6)
DESCRIPTION:Under Dog (6) \n<スケジュール / schedule> \nRegistration / 18:00-21:00 \n<参加費 / Fees>\nEntry / ¥5\,000\nChips / 20\,000 \nRe-Entry / ¥5\,000\nChips / 20\,000 \nRe-buy or Add-on / ¥2\,000\nChips / 20\,000 \nGame / No Limit Hold’em \n<プライズ / Prize>\n保証 / 6 Tickets\n配分 / 1位 : 3 Tickets – 2位 : 3 Tickets – 3位 : 0 Ticket – 4位 : 0 Ticket – 5位 : 0 Ticket \nNote :
URL:https://japanopenpoker.com/satellite/under-dog-6-3/
CATEGORIES:2026 JOPT Tokyo #01
END:VEVENT
BEGIN:VEVENT
DTSTART;TZID=Asia/Tokyo:20251224T180000
DTEND;TZID=Asia/Tokyo:20251224T220000
DTSTAMP:20260424T051359
CREATED:20251212T014702Z
LAST-MODIFIED:20251212T014702Z
UID:10015108-1766599200-1766613600@japanopenpoker.com
SUMMARY:BLUFESTA本八幡 (2+)
DESCRIPTION:BLUFESTA本八幡 (2(4E 1位2枠、8E 1位3枠\,12E 1位3枠、2位1枠\,16E 1位3枠、2位2枠\,20E 1位3枠、2位3枠\,41E 1位3枠、2位3枠、3位1枠\,46E 1位3枠、2位3枠、3位2枠\,51E 1位3枠、2位3枠、3位3枠\,56E 1位3枠、2位3枠、3位3枠、4位1枠)) \n<スケジュール / schedule> \nRegistration / 18:00-22:00 \n<参加費 / Fees>\nEntry / ¥6\,000\nChips / 15\,000 \nRe-Entry / ¥6\,000\nChips / 15\,000 \nRe-buy or Add-on / ¥2\,000\nChips / 15\,000 \nGame / No Limit Hold’em \n<プライズ / Prize>\n保証 / 2(4E 1位2枠、8E 1位3枠\,12E 1位3枠、2位1枠\,16E 1位3枠、2位2枠\,20E 1位3枠、2位3枠\,41E 1位3枠、2位3枠、3位1枠\,46E 1位3枠、2位3枠、3位2枠\,51E 1位3枠、2位3枠、3位3枠\,56E 1位3枠、2位3枠、3位3枠、4位1枠) Tickets\n配分 / 1位 : 2 Tickets – 2位 : 0 Ticket – 3位 : 0 Ticket – 4位 : 0 Ticket – 5位 : 0 Ticket \nNote :
URL:https://japanopenpoker.com/satellite/blufesta%e6%9c%ac%e5%85%ab%e5%b9%a1-2-7/2025-12-24/
CATEGORIES:2026 JOPT Tokyo #01
END:VEVENT
BEGIN:VEVENT
DTSTART;TZID=Asia/Tokyo:20251224T183000
DTEND;TZID=Asia/Tokyo:20251224T212000
DTSTAMP:20260424T051359
CREATED:20251218T013153Z
LAST-MODIFIED:20251218T013153Z
UID:10015169-1766601000-1766611200@japanopenpoker.com
SUMMARY:PukuPuku赤坂店 (6)
DESCRIPTION:PukuPuku赤坂店 (6) \n<スケジュール / schedule> \nRegistration / 18:30-21:20 \n<参加費 / Fees>\nEntry / 10\,000円\nChips / 40\,000点 \nRe-Entry / 8\,000円\nChips / 40\,000点 \nRe-buy or Add-on / なし\nChips / なし、 \nGame / No Limit Hold’em \n<プライズ / Prize>\n保証 / 6 Tickets\n配分 / 1位 : 3 Tickets – 2位 : 3 Tickets – 3位 : 0 Ticket – 4位 : 0 Ticket – 5位 : 0 Ticket \nNote :
URL:https://japanopenpoker.com/satellite/pukupuku%e8%b5%a4%e5%9d%82%e5%ba%97-6/2025-12-24/
CATEGORIES:2026 JOPT Tokyo #01
END:VEVENT
BEGIN:VEVENT
DTSTART;TZID=Asia/Tokyo:20251224T190000
DTEND;TZID=Asia/Tokyo:20251224T211000
DTSTAMP:20260424T051359
CREATED:20251222T022231Z
LAST-MODIFIED:20251222T022231Z
UID:10015182-1766602800-1766610600@japanopenpoker.com
SUMMARY:BACKDOOR SENDAI (1+)
DESCRIPTION:BACKDOOR SENDAI (1(8E〜2位に1枚、18E〜3位に1枚)) \n<スケジュール / schedule> \nRegistration / 19:00-21:10 \n<参加費 / Fees>\nEntry / ¥5\,500\nChips / 40\,000 \nRe-Entry / ¥5\,500\nChips / 40\,000 \nRe-buy or Add-on / ¥0\nChips / 0 \nGame / No Limit Hold’em \n<プライズ / Prize>\n保証 / 1(8E〜2位に1枚、18E〜3位に1枚) Tickets\n配分 / 1位 : 1 Ticket – 2位 : 1 Ticket – 3位 : 1 Ticket – 4位 : 0 Ticket – 5位 : 0 Ticket \nNote :
URL:https://japanopenpoker.com/satellite/backdoor-sendai-1-5/
CATEGORIES:2026 JOPT Tokyo #01
END:VEVENT
BEGIN:VEVENT
DTSTART;TZID=Asia/Tokyo:20251224T190000
DTEND;TZID=Asia/Tokyo:20251224T220000
DTSTAMP:20260424T051359
CREATED:20251216T011954Z
LAST-MODIFIED:20251216T011954Z
UID:10015144-1766602800-1766613600@japanopenpoker.com
SUMMARY:化猫ポーカー倶楽部 (9)
DESCRIPTION:化猫ポーカー倶楽部 (9) \n<スケジュール / schedule> \nRegistration / 19:00-22:00 \n<参加費 / Fees>\nEntry / ¥5\,000\nChips / 20\,000 \nRe-Entry / ¥5\,000\nChips / 20\,000 \nRe-buy or Add-on / ¥2\,000\nChips / 20\,000 \nGame / No Limit Hold’em \n<プライズ / Prize>\n保証 / 9 Tickets\n配分 / 1位 : 3 Tickets – 2位 : 3 Tickets – 3位 : 3 Tickets – 4位 : 0 Ticket – 5位 : 0 Ticket \nNote :
URL:https://japanopenpoker.com/satellite/%e5%8c%96%e7%8c%ab%e3%83%9d%e3%83%bc%e3%82%ab%e3%83%bc%e5%80%b6%e6%a5%bd%e9%83%a8-9-16/2025-12-24/
CATEGORIES:2026 JOPT Tokyo #01
END:VEVENT
BEGIN:VEVENT
DTSTART;TZID=Asia/Tokyo:20251224T193000
DTEND;TZID=Asia/Tokyo:20251224T214000
DTSTAMP:20260424T051359
CREATED:20251222T021821Z
LAST-MODIFIED:20251222T021821Z
UID:10015178-1766604600-1766612400@japanopenpoker.com
SUMMARY:KEROP金町店 (3)
DESCRIPTION:KEROP金町店 (3) \n<スケジュール / schedule> \nRegistration / 19:30-21:40 \n<参加費 / Fees>\nEntry / ¥4\,000\nChips / 20\,000 \nRe-Entry / ¥4\,000\nChips / 20\,000 \nRe-buy or Add-on / ¥2\,000\nChips / 15\,000 \nGame / No Limit Hold’em \n<プライズ / Prize>\n保証 / 3 Tickets\n配分 / 1位 : 2 Tickets – 2位 : 1 Ticket – 3位 : 0 Ticket – 4位 : 0 Ticket – 5位 : 0 Ticket \nNote :
URL:https://japanopenpoker.com/satellite/kerop%e9%87%91%e7%94%ba%e5%ba%97-3-4/2025-12-24/
CATEGORIES:2026 JOPT Tokyo #01
END:VEVENT
END:VCALENDAR