BEGIN:VCALENDAR
VERSION:2.0
PRODID:-//Japan Open Poker Tour - ECPv6.9.0//NONSGML v1.0//EN
CALSCALE:GREGORIAN
METHOD:PUBLISH
X-ORIGINAL-URL:https://japanopenpoker.com
X-WR-CALDESC:Japan Open Poker Tour のイベント
REFRESH-INTERVAL;VALUE=DURATION:PT1H
X-Robots-Tag:noindex
X-PUBLISHED-TTL:PT1H
BEGIN:VTIMEZONE
TZID:Asia/Tokyo
BEGIN:STANDARD
TZOFFSETFROM:+0900
TZOFFSETTO:+0900
TZNAME:JST
DTSTART:20250101T000000
END:STANDARD
END:VTIMEZONE
BEGIN:VEVENT
DTSTART;TZID=Asia/Tokyo:20251222T160000
DTEND;TZID=Asia/Tokyo:20251222T173000
DTSTAMP:20260424T051520
CREATED:20251202T105956Z
LAST-MODIFIED:20251202T105956Z
UID:10015047-1766419200-1766424600@japanopenpoker.com
SUMMARY:EGP EBISU (1)
DESCRIPTION:EGP EBISU (1) \n<スケジュール / schedule> \nRegistration / 16:00-17:30 \n<参加費 / Fees>\nEntry / ¥1\,000\nChips / 10\,000 \nRe-Entry / ¥1\,000\nChips / 10\,000 \nRe-buy or Add-on / ¥1\,000\nChips / 20\,000 \nGame / No Limit Hold’em \n<プライズ / Prize>\n保証 / 1 Tickets\n配分 / 1位 : 1 Ticket – 2位 : 0 Ticket – 3位 : 0 Ticket – 4位 : 0 Ticket – 5位 : 0 Ticket \nNote :
URL:https://japanopenpoker.com/satellite/egp-ebisu-1-14/2025-12-22/
CATEGORIES:2026 JOPT Tokyo #01
END:VEVENT
BEGIN:VEVENT
DTSTART;TZID=Asia/Tokyo:20251222T170000
DTEND;TZID=Asia/Tokyo:20251222T211500
DTSTAMP:20260424T051520
CREATED:20251202T101022Z
LAST-MODIFIED:20251202T101022Z
UID:10015027-1766422800-1766438100@japanopenpoker.com
SUMMARY:Amusement Casino & Bar 108 (5)
DESCRIPTION:Amusement Casino & Bar 108 (5) \n<スケジュール / schedule> \nRegistration / 17:00-21:15 \n<参加費 / Fees>\nEntry / ¥5\,000\nChips / 50\,000 \nRe-Entry / ¥5\,000\nChips / 50\,000 \nRe-buy or Add-on / ¥0\nChips / 0 \nGame / No Limit Hold’em \n<プライズ / Prize>\n保証 / 5 Tickets\n配分 / 1位 : 2 Tickets – 2位 : 2 Tickets – 3位 : 1 Ticket – 4位 : 0 Ticket – 5位 : 0 Ticket \nNote :
URL:https://japanopenpoker.com/satellite/amusement-casino-bar-108-5-3/2025-12-22/
CATEGORIES:2026 JOPT Tokyo #01
END:VEVENT
BEGIN:VEVENT
DTSTART;TZID=Asia/Tokyo:20251222T170000
DTEND;TZID=Asia/Tokyo:20251222T213000
DTSTAMP:20260424T051520
CREATED:20251127T104554Z
LAST-MODIFIED:20251127T104554Z
UID:10014993-1766422800-1766439000@japanopenpoker.com
SUMMARY:KAMATA BACKDOOR (6)
DESCRIPTION:<スケジュール / schedule> \nRegistration / 17:00-21:30 \n<参加費 / Fees>\nEntry / ¥3\,850\nChips / 30\,000 \nRe-Entry / ¥3\,850\nChips / 30\,000 \nRe-buy or Add-on / なし\nChips / なし \nGame / No Limit Hold’em \n<プライズ / Prize>\n保証 / 6 Tickets\n配分 / 1位 : 3 Tickets – 2位 : 3 Tickets – 3位 : 0 Ticket – 4位 : 0 Ticket – 5位 : 0 Ticket \nNote :
URL:https://japanopenpoker.com/satellite/kamata-backdoor-6-4/2025-12-22/
CATEGORIES:2026 JOPT Tokyo #01
END:VEVENT
BEGIN:VEVENT
DTSTART;TZID=Asia/Tokyo:20251222T180000
DTEND;TZID=Asia/Tokyo:20251222T205000
DTSTAMP:20260424T051520
CREATED:20251127T074512Z
LAST-MODIFIED:20251127T074512Z
UID:10014963-1766426400-1766436600@japanopenpoker.com
SUMMARY:Casino Live Tokyo (15)
DESCRIPTION:<スケジュール / schedule> \nRegistration / 18:00-20:50 \n<参加費 / Fees>\nEntry / ¥5\,000\nChips / 15\,000 \nRe-Entry / ¥5\,000\nChips / 15\,000 \nRe-buy or Add-on / ¥2\,000\nChips / 15\,000 \nGame / No Limit Hold’em \n<プライズ / Prize>\n保証 / 15 Tickets\n配分 / 1位 : 3 Tickets – 2位 : 3 Tickets – 3位 : 3 Tickets – 4位 : 3 Tickets – 5位 : 3 Tickets \nNote :
URL:https://japanopenpoker.com/satellite/casino-live-tokyo-15-30/2025-12-22/
CATEGORIES:2026 JOPT Tokyo #01
END:VEVENT
BEGIN:VEVENT
DTSTART;TZID=Asia/Tokyo:20251222T180000
DTEND;TZID=Asia/Tokyo:20251222T220000
DTSTAMP:20260424T051520
CREATED:20251212T014702Z
LAST-MODIFIED:20251212T014702Z
UID:10015107-1766426400-1766440800@japanopenpoker.com
SUMMARY:BLUFESTA本八幡 (2+)
DESCRIPTION:BLUFESTA本八幡 (2(4E 1位2枠、8E 1位3枠\,12E 1位3枠、2位1枠\,16E 1位3枠、2位2枠\,20E 1位3枠、2位3枠\,41E 1位3枠、2位3枠、3位1枠\,46E 1位3枠、2位3枠、3位2枠\,51E 1位3枠、2位3枠、3位3枠\,56E 1位3枠、2位3枠、3位3枠、4位1枠)) \n<スケジュール / schedule> \nRegistration / 18:00-22:00 \n<参加費 / Fees>\nEntry / ¥6\,000\nChips / 15\,000 \nRe-Entry / ¥6\,000\nChips / 15\,000 \nRe-buy or Add-on / ¥2\,000\nChips / 15\,000 \nGame / No Limit Hold’em \n<プライズ / Prize>\n保証 / 2(4E 1位2枠、8E 1位3枠\,12E 1位3枠、2位1枠\,16E 1位3枠、2位2枠\,20E 1位3枠、2位3枠\,41E 1位3枠、2位3枠、3位1枠\,46E 1位3枠、2位3枠、3位2枠\,51E 1位3枠、2位3枠、3位3枠\,56E 1位3枠、2位3枠、3位3枠、4位1枠) Tickets\n配分 / 1位 : 2 Tickets – 2位 : 0 Ticket – 3位 : 0 Ticket – 4位 : 0 Ticket – 5位 : 0 Ticket \nNote :
URL:https://japanopenpoker.com/satellite/blufesta%e6%9c%ac%e5%85%ab%e5%b9%a1-2-7/2025-12-22/
CATEGORIES:2026 JOPT Tokyo #01
END:VEVENT
BEGIN:VEVENT
DTSTART;TZID=Asia/Tokyo:20251222T183000
DTEND;TZID=Asia/Tokyo:20251222T213000
DTSTAMP:20260424T051520
CREATED:20251222T021521Z
LAST-MODIFIED:20251222T021521Z
UID:10015174-1766428200-1766439000@japanopenpoker.com
SUMMARY:Ri:Vera人形町 (4)
DESCRIPTION:Ri:Vera人形町 (4) \n<スケジュール / schedule> \nRegistration / 18:30-21:30 \n<参加費 / Fees>\nEntry / ¥6000\nChips / 30\,000 \nRe-Entry / ¥5\,500\nChips / 30\,000 \nRe-buy or Add-on / ¥0\nChips / 0 \nGame / No Limit Hold’em \n<プライズ / Prize>\n保証 / 4 Tickets\n配分 / 1位 : 2 Tickets – 2位 : 2 Tickets – 3位 : 0 Ticket – 4位 : 0 Ticket – 5位 : 0 Ticket \nNote : 19時までの着席でファーストエントリー1000円割引
URL:https://japanopenpoker.com/satellite/rivera%e4%ba%ba%e5%bd%a2%e7%94%ba-4/
CATEGORIES:2026 JOPT Tokyo #01
END:VEVENT
BEGIN:VEVENT
DTSTART;TZID=Asia/Tokyo:20251222T193000
DTEND;TZID=Asia/Tokyo:20251222T214000
DTSTAMP:20260424T051520
CREATED:20251222T021821Z
LAST-MODIFIED:20251222T021821Z
UID:10015177-1766431800-1766439600@japanopenpoker.com
SUMMARY:KEROP金町店 (3)
DESCRIPTION:KEROP金町店 (3) \n<スケジュール / schedule> \nRegistration / 19:30-21:40 \n<参加費 / Fees>\nEntry / ¥4\,000\nChips / 20\,000 \nRe-Entry / ¥4\,000\nChips / 20\,000 \nRe-buy or Add-on / ¥2\,000\nChips / 15\,000 \nGame / No Limit Hold’em \n<プライズ / Prize>\n保証 / 3 Tickets\n配分 / 1位 : 2 Tickets – 2位 : 1 Ticket – 3位 : 0 Ticket – 4位 : 0 Ticket – 5位 : 0 Ticket \nNote :
URL:https://japanopenpoker.com/satellite/kerop%e9%87%91%e7%94%ba%e5%ba%97-3-4/2025-12-22/
CATEGORIES:2026 JOPT Tokyo #01
END:VEVENT
END:VCALENDAR