BEGIN:VCALENDAR
VERSION:2.0
PRODID:-//Japan Open Poker Tour - ECPv6.9.0//NONSGML v1.0//EN
CALSCALE:GREGORIAN
METHOD:PUBLISH
X-WR-CALNAME:Japan Open Poker Tour
X-ORIGINAL-URL:https://japanopenpoker.com
X-WR-CALDESC:Japan Open Poker Tour のイベント
REFRESH-INTERVAL;VALUE=DURATION:PT1H
X-Robots-Tag:noindex
X-PUBLISHED-TTL:PT1H
BEGIN:VTIMEZONE
TZID:Asia/Tokyo
BEGIN:STANDARD
TZOFFSETFROM:+0900
TZOFFSETTO:+0900
TZNAME:JST
DTSTART:20250101T000000
END:STANDARD
END:VTIMEZONE
BEGIN:VEVENT
DTSTART;TZID=Asia/Tokyo:20251218T170000
DTEND;TZID=Asia/Tokyo:20251218T213000
DTSTAMP:20260424T051359
CREATED:20251127T104554Z
LAST-MODIFIED:20251127T104554Z
UID:10014992-1766077200-1766093400@japanopenpoker.com
SUMMARY:KAMATA BACKDOOR (6)
DESCRIPTION:<スケジュール / schedule> \nRegistration / 17:00-21:30 \n<参加費 / Fees>\nEntry / ¥3\,850\nChips / 30\,000 \nRe-Entry / ¥3\,850\nChips / 30\,000 \nRe-buy or Add-on / なし\nChips / なし \nGame / No Limit Hold’em \n<プライズ / Prize>\n保証 / 6 Tickets\n配分 / 1位 : 3 Tickets – 2位 : 3 Tickets – 3位 : 0 Ticket – 4位 : 0 Ticket – 5位 : 0 Ticket \nNote :
URL:https://japanopenpoker.com/satellite/kamata-backdoor-6-4/2025-12-18/
CATEGORIES:2026 JOPT Tokyo #01
END:VEVENT
BEGIN:VEVENT
DTSTART;TZID=Asia/Tokyo:20251218T173000
DTEND;TZID=Asia/Tokyo:20251218T200000
DTSTAMP:20260424T051359
CREATED:20251216T011505Z
LAST-MODIFIED:20251216T011505Z
UID:10015129-1766079000-1766088000@japanopenpoker.com
SUMMARY:化猫ポーカー倶楽部 (3)
DESCRIPTION:化猫ポーカー倶楽部 (3) \n<スケジュール / schedule> \nRegistration / 17:30-20:00 \n<参加費 / Fees>\nEntry / ¥3\,000\nChips / 15\,000 \nRe-Entry / ¥3\,000\nChips / 15\,000 \nRe-buy or Add-on / ¥1\,000\nChips / 15\,000 \nGame / No Limit Hold’em \n<プライズ / Prize>\n保証 / 3 Tickets\n配分 / 1位 : 3 Tickets – 2位 : 0 Ticket – 3位 : 0 Ticket – 4位 : 0 Ticket – 5位 : 0 Ticket \nNote :
URL:https://japanopenpoker.com/satellite/%e5%8c%96%e7%8c%ab%e3%83%9d%e3%83%bc%e3%82%ab%e3%83%bc%e5%80%b6%e6%a5%bd%e9%83%a8-3-3/2025-12-18/
CATEGORIES:2026 JOPT Tokyo #01
END:VEVENT
BEGIN:VEVENT
DTSTART;TZID=Asia/Tokyo:20251218T180000
DTEND;TZID=Asia/Tokyo:20251218T190000
DTSTAMP:20260424T051359
CREATED:20251213T014120Z
LAST-MODIFIED:20251213T014120Z
UID:10015112-1766080800-1766084400@japanopenpoker.com
SUMMARY:BACKDOOR 浅草橋 (9+)
DESCRIPTION:BACKDOOR 浅草橋 (9（38エントリー以上で4位に3枚、以降12E毎）) \n<スケジュール / schedule> \nRegistration / 18:00-19:00 \n<参加費 / Fees>\nEntry / ¥7500\nChips / 30\,000 \nRe-Entry / ¥6500\nChips / 30\,000 \nRe-buy or Add-on / ¥0\nChips / 0 \nGame / No Limit Hold’em \n<プライズ / Prize>\n保証 / 9（38エントリー以上で4位に3枚、以降12E毎） Tickets\n配分 / 1位 : 3 Tickets – 2位 : 3 Tickets – 3位 : 3 Tickets – 4位 : 3 Tickets – 5位 : 3 Tickets \nNote : 19:00までのエントリー¥6500
URL:https://japanopenpoker.com/satellite/backdoor-%e6%b5%85%e8%8d%89%e6%a9%8b-9-4/2025-12-18/
CATEGORIES:2026 JOPT Tokyo #01
END:VEVENT
BEGIN:VEVENT
DTSTART;TZID=Asia/Tokyo:20251218T180000
DTEND;TZID=Asia/Tokyo:20251218T205000
DTSTAMP:20260424T051359
CREATED:20251110T100427Z
LAST-MODIFIED:20251110T100427Z
UID:10014884-1766080800-1766091000@japanopenpoker.com
SUMMARY:カジノクエスト (15)
DESCRIPTION:カジノクエスト (15) \n<スケジュール / schedule> \nRegistration / 18:00-20:50 \n<参加費 / Fees>\nEntry / ¥5\,000\nChips / 15\,000 \nRe-Entry / ¥5\,000\nChips / 15\,000 \nRe-buy or Add-on / ¥2\,000\nChips / 15\,000 \nGame / No Limit Hold’em \n<プライズ / Prize>\n保証 / 15 Tickets\n配分 / 1位 : 3 Tickets – 2位 : 3 Tickets – 3位 : 3 Tickets – 4位 : 3 Tickets – 5位 : 3 Tickets \nNote :
URL:https://japanopenpoker.com/satellite/%e3%82%ab%e3%82%b8%e3%83%8e%e3%82%af%e3%82%a8%e3%82%b9%e3%83%88-15-4/2025-12-18/
CATEGORIES:2026 JOPT Tokyo #01
END:VEVENT
BEGIN:VEVENT
DTSTART;TZID=Asia/Tokyo:20251218T180000
DTEND;TZID=Asia/Tokyo:20251218T205000
DTSTAMP:20260424T051359
CREATED:20251127T074512Z
LAST-MODIFIED:20251127T074512Z
UID:10014962-1766080800-1766091000@japanopenpoker.com
SUMMARY:Casino Live Tokyo (15)
DESCRIPTION:<スケジュール / schedule> \nRegistration / 18:00-20:50 \n<参加費 / Fees>\nEntry / ¥5\,000\nChips / 15\,000 \nRe-Entry / ¥5\,000\nChips / 15\,000 \nRe-buy or Add-on / ¥2\,000\nChips / 15\,000 \nGame / No Limit Hold’em \n<プライズ / Prize>\n保証 / 15 Tickets\n配分 / 1位 : 3 Tickets – 2位 : 3 Tickets – 3位 : 3 Tickets – 4位 : 3 Tickets – 5位 : 3 Tickets \nNote :
URL:https://japanopenpoker.com/satellite/casino-live-tokyo-15-30/2025-12-18/
CATEGORIES:2026 JOPT Tokyo #01
END:VEVENT
BEGIN:VEVENT
DTSTART;TZID=Asia/Tokyo:20251218T180000
DTEND;TZID=Asia/Tokyo:20251218T210000
DTSTAMP:20260424T051359
CREATED:20251202T110840Z
LAST-MODIFIED:20251202T110840Z
UID:10015055-1766080800-1766091600@japanopenpoker.com
SUMMARY:Under Dog Poker (6)
DESCRIPTION:Under Dog Poker (6) \n<スケジュール / schedule> \nRegistration / 18:00-21:00 \n<参加費 / Fees>\nEntry / ¥5\,000\nChips / 20\,000 \nRe-Entry / ¥5\,000\nChips / 20\,000 \nRe-buy or Add-on / ¥2\,000\nChips / 20\,000 \nGame / No Limit Hold’em \n<プライズ / Prize>\n保証 / 6 Tickets\n配分 / 1位 : 3 Tickets – 2位 : 3 Tickets – 3位 : 0 Ticket – 4位 : 0 Ticket – 5位 : 0 Ticket \nNote :
URL:https://japanopenpoker.com/satellite/under-dog-poker-6-3/2025-12-18/
CATEGORIES:2026 JOPT Tokyo #01
END:VEVENT
BEGIN:VEVENT
DTSTART;TZID=Asia/Tokyo:20251218T180000
DTEND;TZID=Asia/Tokyo:20251218T220000
DTSTAMP:20260424T051359
CREATED:20251212T014702Z
LAST-MODIFIED:20251212T014702Z
UID:10015106-1766080800-1766095200@japanopenpoker.com
SUMMARY:BLUFESTA本八幡 (2+)
DESCRIPTION:BLUFESTA本八幡 (2(4E 1位2枠、8E 1位3枠\,12E 1位3枠、2位1枠\,16E 1位3枠、2位2枠\,20E 1位3枠、2位3枠\,41E 1位3枠、2位3枠、3位1枠\,46E 1位3枠、2位3枠、3位2枠\,51E 1位3枠、2位3枠、3位3枠\,56E 1位3枠、2位3枠、3位3枠、4位1枠)) \n<スケジュール / schedule> \nRegistration / 18:00-22:00 \n<参加費 / Fees>\nEntry / ¥6\,000\nChips / 15\,000 \nRe-Entry / ¥6\,000\nChips / 15\,000 \nRe-buy or Add-on / ¥2\,000\nChips / 15\,000 \nGame / No Limit Hold’em \n<プライズ / Prize>\n保証 / 2(4E 1位2枠、8E 1位3枠\,12E 1位3枠、2位1枠\,16E 1位3枠、2位2枠\,20E 1位3枠、2位3枠\,41E 1位3枠、2位3枠、3位1枠\,46E 1位3枠、2位3枠、3位2枠\,51E 1位3枠、2位3枠、3位3枠\,56E 1位3枠、2位3枠、3位3枠、4位1枠) Tickets\n配分 / 1位 : 2 Tickets – 2位 : 0 Ticket – 3位 : 0 Ticket – 4位 : 0 Ticket – 5位 : 0 Ticket \nNote :
URL:https://japanopenpoker.com/satellite/blufesta%e6%9c%ac%e5%85%ab%e5%b9%a1-2-7/2025-12-18/
CATEGORIES:2026 JOPT Tokyo #01
END:VEVENT
BEGIN:VEVENT
DTSTART;TZID=Asia/Tokyo:20251218T190000
DTEND;TZID=Asia/Tokyo:20251218T220000
DTSTAMP:20260424T051359
CREATED:20251216T011954Z
LAST-MODIFIED:20251216T011954Z
UID:10015140-1766084400-1766095200@japanopenpoker.com
SUMMARY:化猫ポーカー倶楽部 (9)
DESCRIPTION:化猫ポーカー倶楽部 (9) \n<スケジュール / schedule> \nRegistration / 19:00-22:00 \n<参加費 / Fees>\nEntry / ¥5\,000\nChips / 20\,000 \nRe-Entry / ¥5\,000\nChips / 20\,000 \nRe-buy or Add-on / ¥2\,000\nChips / 20\,000 \nGame / No Limit Hold’em \n<プライズ / Prize>\n保証 / 9 Tickets\n配分 / 1位 : 3 Tickets – 2位 : 3 Tickets – 3位 : 3 Tickets – 4位 : 0 Ticket – 5位 : 0 Ticket \nNote :
URL:https://japanopenpoker.com/satellite/%e5%8c%96%e7%8c%ab%e3%83%9d%e3%83%bc%e3%82%ab%e3%83%bc%e5%80%b6%e6%a5%bd%e9%83%a8-9-16/2025-12-18/
CATEGORIES:2026 JOPT Tokyo #01
END:VEVENT
END:VCALENDAR