BEGIN:VCALENDAR
VERSION:2.0
PRODID:-//Japan Open Poker Tour - ECPv6.9.0//NONSGML v1.0//EN
CALSCALE:GREGORIAN
METHOD:PUBLISH
X-WR-CALNAME:Japan Open Poker Tour
X-ORIGINAL-URL:https://japanopenpoker.com
X-WR-CALDESC:Japan Open Poker Tour のイベント
REFRESH-INTERVAL;VALUE=DURATION:PT1H
X-Robots-Tag:noindex
X-PUBLISHED-TTL:PT1H
BEGIN:VTIMEZONE
TZID:Asia/Tokyo
BEGIN:STANDARD
TZOFFSETFROM:+0900
TZOFFSETTO:+0900
TZNAME:JST
DTSTART:20250101T000000
END:STANDARD
END:VTIMEZONE
BEGIN:VEVENT
DTSTART;TZID=Asia/Tokyo:20251211T160000
DTEND;TZID=Asia/Tokyo:20251211T173000
DTSTAMP:20260424T051359
CREATED:20251202T105956Z
LAST-MODIFIED:20251202T105956Z
UID:10015041-1765468800-1765474200@japanopenpoker.com
SUMMARY:EGP EBISU (1)
DESCRIPTION:EGP EBISU (1) \n<スケジュール / schedule> \nRegistration / 16:00-17:30 \n<参加費 / Fees>\nEntry / ¥1\,000\nChips / 10\,000 \nRe-Entry / ¥1\,000\nChips / 10\,000 \nRe-buy or Add-on / ¥1\,000\nChips / 20\,000 \nGame / No Limit Hold’em \n<プライズ / Prize>\n保証 / 1 Tickets\n配分 / 1位 : 1 Ticket – 2位 : 0 Ticket – 3位 : 0 Ticket – 4位 : 0 Ticket – 5位 : 0 Ticket \nNote :
URL:https://japanopenpoker.com/satellite/egp-ebisu-1-14/2025-12-11/
CATEGORIES:2026 JOPT Tokyo #01
END:VEVENT
BEGIN:VEVENT
DTSTART;TZID=Asia/Tokyo:20251211T180000
DTEND;TZID=Asia/Tokyo:20251211T205000
DTSTAMP:20260424T051359
CREATED:20251127T074512Z
LAST-MODIFIED:20251127T074512Z
UID:10014960-1765476000-1765486200@japanopenpoker.com
SUMMARY:Casino Live Tokyo (15)
DESCRIPTION:<スケジュール / schedule> \nRegistration / 18:00-20:50 \n<参加費 / Fees>\nEntry / ¥5\,000\nChips / 15\,000 \nRe-Entry / ¥5\,000\nChips / 15\,000 \nRe-buy or Add-on / ¥2\,000\nChips / 15\,000 \nGame / No Limit Hold’em \n<プライズ / Prize>\n保証 / 15 Tickets\n配分 / 1位 : 3 Tickets – 2位 : 3 Tickets – 3位 : 3 Tickets – 4位 : 3 Tickets – 5位 : 3 Tickets \nNote :
URL:https://japanopenpoker.com/satellite/casino-live-tokyo-15-30/2025-12-11/
CATEGORIES:2026 JOPT Tokyo #01
END:VEVENT
BEGIN:VEVENT
DTSTART;TZID=Asia/Tokyo:20251211T180000
DTEND;TZID=Asia/Tokyo:20251211T210000
DTSTAMP:20260424T051359
CREATED:20251204T014322Z
LAST-MODIFIED:20251204T014322Z
UID:10015060-1765476000-1765486800@japanopenpoker.com
SUMMARY:PokerRoomP3 (4+)
DESCRIPTION:PokerRoomP3 (4(20E以上 ×5、25E以上 ×6)) \n<スケジュール / schedule> \nRegistration / 18:00-21:00 \n<参加費 / Fees>\nEntry / ¥5\,000\nChips / 15\,000 \nRe-Entry / ¥5\,000\nChips / 15\,000 \nRe-buy or Add-on / ¥3\,000\nChips / 15\,000 \nGame / No Limit Hold’em \n<プライズ / Prize>\n保証 / 4(20E以上 ×5、25E以上 ×6) Tickets\n配分 / 1位 : 3 Tickets – 2位 : 1 Ticket – 3位 : 0 Ticket – 4位 : 0 Ticket – 5位 : 0 Ticket \nNote :
URL:https://japanopenpoker.com/satellite/pokerroomp3-4-6/2025-12-11/
CATEGORIES:2026 JOPT Tokyo #01
END:VEVENT
BEGIN:VEVENT
DTSTART;TZID=Asia/Tokyo:20251211T180000
DTEND;TZID=Asia/Tokyo:20251211T210000
DTSTAMP:20260424T051359
CREATED:20251208T091928Z
LAST-MODIFIED:20251208T092015Z
UID:10015083-1765476000-1765486800@japanopenpoker.com
SUMMARY:BACKDOOR 浅草橋 (9+)
DESCRIPTION:BACKDOOR 浅草橋 (9（38E以上で4位、以降12E毎）) \n<スケジュール / schedule> \nRegistration / 18:00-21:00 \n<参加費 / Fees>\nEntry / ¥7\,500\nChips / 40\,000 \nRe-Entry / ¥6\,500\nChips / 40\,000 \nRe-buy or Add-on / ¥0\nChips / 0 \nGame / No Limit Hold’em \n<プライズ / Prize>\n保証 / 9（38E以上で4位、以降12E毎） Tickets\n配分 / 1位 : 3 Tickets – 2位 : 3 Tickets – 3位 : 3 Tickets – 4位 : 3 Tickets – 5位 : 3 Tickets \n“Note : 19:00までのエントリー¥6\,500\n連日来店で半額”
URL:https://japanopenpoker.com/satellite/backdoor-%e6%b5%85%e8%8d%89%e6%a9%8b-9-3/2025-12-11/
CATEGORIES:2026 JOPT Tokyo #01
END:VEVENT
BEGIN:VEVENT
DTSTART;TZID=Asia/Tokyo:20251211T183000
DTEND;TZID=Asia/Tokyo:20251211T212000
DTSTAMP:20260424T051359
CREATED:20251208T093256Z
LAST-MODIFIED:20251208T093256Z
UID:10015088-1765477800-1765488000@japanopenpoker.com
SUMMARY:Tha Bullets 大船 (6)
DESCRIPTION:Tha Bullets 大船 (6) \n<スケジュール / schedule> \nRegistration / 18:30-21:20 \n<参加費 / Fees>\nEntry / ¥5\,000\nChips / 30\,000 \nRe-Entry / ¥5\,000\nChips / 30\,000 \nRe-buy or Add-on / ¥2\,000\nChips / 2\,000 \nGame / No Limit Hold’em \n<プライズ / Prize>\n保証 / 6 Tickets\n配分 / 1位 : 3 Tickets – 2位 : 3 Tickets – 3位 : 0 Ticket – 4位 : 0 Ticket – 5位 : 0 Ticket \nNote :
URL:https://japanopenpoker.com/satellite/tha-bullets-%e5%a4%a7%e8%88%b9-6/2025-12-11/
CATEGORIES:2026 JOPT Tokyo #01
END:VEVENT
BEGIN:VEVENT
DTSTART;TZID=Asia/Tokyo:20251211T183000
DTEND;TZID=Asia/Tokyo:20251211T213000
DTSTAMP:20260424T051359
CREATED:20251206T012642Z
LAST-MODIFIED:20251206T012642Z
UID:10015078-1765477800-1765488600@japanopenpoker.com
SUMMARY:Ri:Vera 人形町 (3+)
DESCRIPTION:Ri:Vera 人形町 (3(15E以上で5枚、21E以上で6枚、25E以上で7枚)) \n<スケジュール / schedule> \nRegistration / 18:30-21:30 \n<参加費 / Fees>\nEntry / ¥6\,000\nChips / 30\,000 \nRe-Entry / ¥5\,500\nChips / 30\,000 \nRe-buy or Add-on / ¥0\nChips / 0 \nGame / No Limit Hold’em \n<プライズ / Prize>\n保証 / 3(15E以上で5枚、21E以上で6枚、25E以上で7枚) Tickets\n配分 / 1位 : 2 Tickets – 2位 : 1 Ticket – 3位 : 0 Ticket – 4位 : 0 Ticket – 5位 : 0 Ticket \nNote :
URL:https://japanopenpoker.com/satellite/rivera-%e4%ba%ba%e5%bd%a2%e7%94%ba-3/2025-12-11/
CATEGORIES:2026 JOPT Tokyo #01
END:VEVENT
END:VCALENDAR