BEGIN:VCALENDAR
VERSION:2.0
PRODID:-//Japan Open Poker Tour - ECPv6.9.0//NONSGML v1.0//EN
CALSCALE:GREGORIAN
METHOD:PUBLISH
X-WR-CALNAME:Japan Open Poker Tour
X-ORIGINAL-URL:https://japanopenpoker.com
X-WR-CALDESC:Japan Open Poker Tour のイベント
REFRESH-INTERVAL;VALUE=DURATION:PT1H
X-Robots-Tag:noindex
X-PUBLISHED-TTL:PT1H
BEGIN:VTIMEZONE
TZID:Asia/Tokyo
BEGIN:STANDARD
TZOFFSETFROM:+0900
TZOFFSETTO:+0900
TZNAME:JST
DTSTART:20250101T000000
END:STANDARD
END:VTIMEZONE
BEGIN:VEVENT
DTSTART;TZID=Asia/Tokyo:20251209T220000
DTEND;TZID=Asia/Tokyo:20251210T020000
DTSTAMP:20260424T052017
CREATED:20251204T013730Z
LAST-MODIFIED:20251204T013730Z
UID:10015057-1765317600-1765332000@japanopenpoker.com
SUMMARY:Akasaka de Poker (15)
DESCRIPTION:Akasaka de Poker (15) \n<スケジュール / schedule> \nRegistration / 22:00-2:20 \n<参加費 / Fees>\nEntry / ¥20\,000\nChips / 50\,000 \nRe-Entry / ¥20\,000\nChips / 50\,000 \nRe-buy or Add-on / ¥0\nChips / 0 \nGame / No Limit Hold’em \n<プライズ / Prize>\n保証 / 15 Tickets\n配分 / 1位 : 3 Tickets – 2位 : 3 Tickets – 3位 : 3 Tickets – 4位 : 3 Tickets – 5位 : 3 Tickets \n“Note : 優勝\n130\,000 Coin + JOPT 3ticket \n2位\n80\,000 Coin + JOPT 3ticket \n3位\n50\,000 Coin + JOPT 3ticket \n4位\n40\,000 Coin + JOPT 3ticket \n5位\n30\,000 Coin + JOPT 3ticket”
URL:https://japanopenpoker.com/satellite/akasaka-de-poker-15-13/2025-12-09/
CATEGORIES:2026 JOPT Tokyo #01
END:VEVENT
BEGIN:VEVENT
DTSTART;TZID=Asia/Tokyo:20251210T160000
DTEND;TZID=Asia/Tokyo:20251210T173000
DTSTAMP:20260424T052017
CREATED:20251202T105956Z
LAST-MODIFIED:20251202T105956Z
UID:10015040-1765382400-1765387800@japanopenpoker.com
SUMMARY:EGP EBISU (1)
DESCRIPTION:EGP EBISU (1) \n<スケジュール / schedule> \nRegistration / 16:00-17:30 \n<参加費 / Fees>\nEntry / ¥1\,000\nChips / 10\,000 \nRe-Entry / ¥1\,000\nChips / 10\,000 \nRe-buy or Add-on / ¥1\,000\nChips / 20\,000 \nGame / No Limit Hold’em \n<プライズ / Prize>\n保証 / 1 Tickets\n配分 / 1位 : 1 Ticket – 2位 : 0 Ticket – 3位 : 0 Ticket – 4位 : 0 Ticket – 5位 : 0 Ticket \nNote :
URL:https://japanopenpoker.com/satellite/egp-ebisu-1-14/2025-12-10/
CATEGORIES:2026 JOPT Tokyo #01
END:VEVENT
BEGIN:VEVENT
DTSTART;TZID=Asia/Tokyo:20251210T180000
DTEND;TZID=Asia/Tokyo:20251210T205000
DTSTAMP:20260424T052017
CREATED:20251127T080856Z
LAST-MODIFIED:20251127T080856Z
UID:10014984-1765389600-1765399800@japanopenpoker.com
SUMMARY:KKLIVE POKER SHINJUKU (21)
DESCRIPTION:<スケジュール / schedule> \nRegistration / 18:00-20:50 \n<参加費 / Fees>\nEntry / ¥8000\nChips / 15\,000 \nRe-Entry / ¥8000\nChips / 15\,000 \nRe-buy or Add-on / ¥2000\nChips / 15\,000 \nGame / No Limit Hold’em \n<プライズ / Prize>\n保証 / 21 Tickets\n配分 / 1位 : 3 Tickets – 2位 : 3 Tickets – 3位 : 3 Tickets – 4位 : 3 Tickets – 5位 : 3 Tickets \nNote : 上位7名　3枠
URL:https://japanopenpoker.com/satellite/kklive-poker-shinjuku-21/2025-12-10/
CATEGORIES:2026 JOPT Tokyo #01
END:VEVENT
BEGIN:VEVENT
DTSTART;TZID=Asia/Tokyo:20251210T180000
DTEND;TZID=Asia/Tokyo:20251210T210000
DTSTAMP:20260424T052017
CREATED:20251202T110840Z
LAST-MODIFIED:20251202T110840Z
UID:10015054-1765389600-1765400400@japanopenpoker.com
SUMMARY:Under Dog Poker (6)
DESCRIPTION:Under Dog Poker (6) \n<スケジュール / schedule> \nRegistration / 18:00-21:00 \n<参加費 / Fees>\nEntry / ¥5\,000\nChips / 20\,000 \nRe-Entry / ¥5\,000\nChips / 20\,000 \nRe-buy or Add-on / ¥2\,000\nChips / 20\,000 \nGame / No Limit Hold’em \n<プライズ / Prize>\n保証 / 6 Tickets\n配分 / 1位 : 3 Tickets – 2位 : 3 Tickets – 3位 : 0 Ticket – 4位 : 0 Ticket – 5位 : 0 Ticket \nNote :
URL:https://japanopenpoker.com/satellite/under-dog-poker-6-3/2025-12-10/
CATEGORIES:2026 JOPT Tokyo #01
END:VEVENT
BEGIN:VEVENT
DTSTART;TZID=Asia/Tokyo:20251210T180000
DTEND;TZID=Asia/Tokyo:20251210T213000
DTSTAMP:20260424T052017
CREATED:20251127T074121Z
LAST-MODIFIED:20251127T074121Z
UID:10014950-1765389600-1765402200@japanopenpoker.com
SUMMARY:D.D Poker 高田馬場 (3+)
DESCRIPTION:<スケジュール / schedule> \nRegistration / 18:00-21:30 \n<参加費 / Fees>\nEntry / ¥3\,300\nChips / 25\,000 \nRe-Entry / ¥3\,300\nChips / 25\,000 \nRe-buy or Add-on / ¥0\nChips / 0 \nGame / No Limit Hold’em \n<プライズ / Prize>\n保証 / 3（30エントリー以上で3位に1枚追加） Tickets\n配分 / 1位 : 2 Tickets – 2位 : 1 Ticket – 3位 : 0 Ticket – 4位 : 0 Ticket – 5位 : 0 Ticket
URL:https://japanopenpoker.com/satellite/d-d-poker-%e9%ab%98%e7%94%b0%e9%a6%ac%e5%a0%b4-3-3/2025-12-10/
CATEGORIES:2026 JOPT Tokyo #01
END:VEVENT
BEGIN:VEVENT
DTSTART;TZID=Asia/Tokyo:20251210T183000
DTEND;TZID=Asia/Tokyo:20251210T210000
DTSTAMP:20260424T052017
CREATED:20251106T094828Z
LAST-MODIFIED:20251113T015421Z
UID:10014871-1765391400-1765400400@japanopenpoker.com
SUMMARY:VERTEX TOKYO (10)
DESCRIPTION:VERTEX TOKYO (10) \n<スケジュール / schedule> \nRegistration / 18:30-21:00 \n<参加費 / Fees>\nEntry / ¥5\,000\nChips / 25\,000 \nRe-Entry / ¥5\,000\nChips / 25\,000 \nRe-buy or Add-on / ¥2\,000\nChips / 15\,000 \nGame / No Limit Hold’em \n<プライズ / Prize>\n保証 / 10 Tickets\n配分 / 1位 : 3 Tickets – 2位 : 3 Tickets – 3位 : 3 Tickets – 4位 : 1 Ticket – 5位 : 0 Ticket \nNote :
URL:https://japanopenpoker.com/satellite/vertex-tokyo-10/2025-12-10/
CATEGORIES:2026 JOPT Tokyo #01
END:VEVENT
END:VCALENDAR