BEGIN:VCALENDAR
VERSION:2.0
PRODID:-//Japan Open Poker Tour - ECPv6.9.0//NONSGML v1.0//EN
CALSCALE:GREGORIAN
METHOD:PUBLISH
X-ORIGINAL-URL:https://japanopenpoker.com
X-WR-CALDESC:Japan Open Poker Tour のイベント
REFRESH-INTERVAL;VALUE=DURATION:PT1H
X-Robots-Tag:noindex
X-PUBLISHED-TTL:PT1H
BEGIN:VTIMEZONE
TZID:Asia/Tokyo
BEGIN:STANDARD
TZOFFSETFROM:+0900
TZOFFSETTO:+0900
TZNAME:JST
DTSTART:20250101T000000
END:STANDARD
END:VTIMEZONE
BEGIN:VEVENT
DTSTART;TZID=Asia/Tokyo:20251209T160000
DTEND;TZID=Asia/Tokyo:20251209T173000
DTSTAMP:20260424T063228
CREATED:20251202T105956Z
LAST-MODIFIED:20251202T105956Z
UID:10015039-1765296000-1765301400@japanopenpoker.com
SUMMARY:EGP EBISU (1)
DESCRIPTION:EGP EBISU (1) \n<スケジュール / schedule> \nRegistration / 16:00-17:30 \n<参加費 / Fees>\nEntry / ¥1\,000\nChips / 10\,000 \nRe-Entry / ¥1\,000\nChips / 10\,000 \nRe-buy or Add-on / ¥1\,000\nChips / 20\,000 \nGame / No Limit Hold’em \n<プライズ / Prize>\n保証 / 1 Tickets\n配分 / 1位 : 1 Ticket – 2位 : 0 Ticket – 3位 : 0 Ticket – 4位 : 0 Ticket – 5位 : 0 Ticket \nNote :
URL:https://japanopenpoker.com/satellite/egp-ebisu-1-14/2025-12-09/
CATEGORIES:2026 JOPT Tokyo #01
END:VEVENT
BEGIN:VEVENT
DTSTART;TZID=Asia/Tokyo:20251209T170000
DTEND;TZID=Asia/Tokyo:20251209T213000
DTSTAMP:20260424T063228
CREATED:20251127T104554Z
LAST-MODIFIED:20251127T104554Z
UID:10014991-1765299600-1765315800@japanopenpoker.com
SUMMARY:KAMATA BACKDOOR (6)
DESCRIPTION:<スケジュール / schedule> \nRegistration / 17:00-21:30 \n<参加費 / Fees>\nEntry / ¥3\,850\nChips / 30\,000 \nRe-Entry / ¥3\,850\nChips / 30\,000 \nRe-buy or Add-on / なし\nChips / なし \nGame / No Limit Hold’em \n<プライズ / Prize>\n保証 / 6 Tickets\n配分 / 1位 : 3 Tickets – 2位 : 3 Tickets – 3位 : 0 Ticket – 4位 : 0 Ticket – 5位 : 0 Ticket \nNote :
URL:https://japanopenpoker.com/satellite/kamata-backdoor-6-4/2025-12-09/
CATEGORIES:2026 JOPT Tokyo #01
END:VEVENT
BEGIN:VEVENT
DTSTART;TZID=Asia/Tokyo:20251209T172900
DTEND;TZID=Asia/Tokyo:20251209T214000
DTSTAMP:20260424T063228
CREATED:20251206T013227Z
LAST-MODIFIED:20251206T013257Z
UID:10015082-1765301340-1765316400@japanopenpoker.com
SUMMARY:BIGBOSSJAPAN (12)
DESCRIPTION:BIGBOSSJAPAN (12) \n<スケジュール / schedule> \nRegistration / 17:29-21:40 \n<参加費 / Fees>\nEntry / ¥9\,000\nChips / 20\,000 \nRe-Entry / ¥9\,000\nChips / 20\,000 \nRe-buy or Add-on / ¥2\,000\nChips / 20\,000 \nGame / No Limit Hold’em \n<プライズ / Prize>\n保証 / 12 Tickets\n配分 / 1位 : 3 Tickets – 2位 : 3 Tickets – 3位 : 3 Tickets – 4位 : 3 Tickets – 5位 : 0 Ticket \n“Note : ◆割引◆ \n18:30までのご着席で、レイトにて開催する1stエントリー費無料フリップアウト参加権利が貰えます！\n※1部からのはしごでもエントリーした場合、参加可能となります。 \n19時までのご着席にて、add-on無料となります！\n1部からのはしごでも初回のみadd-on無料となります！ \n女性/学生限定\nトーナメントエントリー毎に1\,000円OFFとなります！早割との併用も可能となります！\n※ 3\,000円以上のトーナメント限定 \n◆プライズ◆\n1位:JOPT3枚+ WebCoin30\,000\n2位:JOPT3枚+ WebCoin30\,000\n3位:JOPT3枚+ WebCoin30\,000\n4位:JOPT3枚+ WebCoin30\,000 \n※ディール可能\n※BBJptの場合、1割増にて付与\n※ WebcoinはPLAYERポイントとしても選べます\n​\n45エントリー以上 上位5名\n57エントリー以上 上位6名\n69エントリー以上 上位7名\n81エントリー以上 上位8名\n※JOPTチケットのみオーバープライズとなります”
URL:https://japanopenpoker.com/satellite/bigbossjapan-12-17/
CATEGORIES:2026 JOPT Tokyo #01
END:VEVENT
BEGIN:VEVENT
DTSTART;TZID=Asia/Tokyo:20251209T174500
DTEND;TZID=Asia/Tokyo:20251209T205500
DTSTAMP:20260424T063228
CREATED:20251014T063606Z
LAST-MODIFIED:20251201T041103Z
UID:10014632-1765302300-1765313700@japanopenpoker.com
SUMMARY:GoodGame Poker Live SHINJUKU (15)
DESCRIPTION:<スケジュール / schedule> \nRegistration / 17:45-20:55 \n<参加費 / Fees>\nEntry / ¥5\,000\nChips / 15\,000 \nRe-Entry / ¥5\,000\nChips / 15\,000 \nRe-buy or Add-on / ¥2\,000\nChips / 15\,000 \nGame / No Limit Hold’em \n<プライズ / Prize>\n保証 / 15 Tickets\n配分 / 1位 : 3 Tickets – 2位 : 3 Tickets – 3位 : 3 Tickets – 4位 : 3 Tickets – 5位 : 3 Tickets \nNote :
URL:https://japanopenpoker.com/satellite/goodgame-poker-live-shinjuku-15-14/2025-12-09/
CATEGORIES:2026 JOPT Tokyo #01
END:VEVENT
BEGIN:VEVENT
DTSTART;TZID=Asia/Tokyo:20251209T180000
DTEND;TZID=Asia/Tokyo:20251209T210000
DTSTAMP:20260424T063228
CREATED:20251202T110304Z
LAST-MODIFIED:20251202T110304Z
UID:10015052-1765303200-1765314000@japanopenpoker.com
SUMMARY:PreFlopYOKOHAMA (9)
DESCRIPTION:PreFlopYOKOHAMA (9) \n<スケジュール / schedule> \nRegistration / 18:00-21:00 \n<参加費 / Fees>\nEntry / ¥6\,000\nChips / 15\,000 \nRe-Entry / ¥6\,000\nChips / 15\,000 \nRe-buy or Add-on / ¥3\,000\nChips / 15\,000 \nGame / No Limit Hold’em \n<プライズ / Prize>\n保証 / 9 Tickets\n配分 / 1位 : 3 Tickets – 2位 : 3 Tickets – 3位 : 3 Tickets – 4位 : 0 Ticket – 5位 : 0 Ticket \nNote : Lv2までの着席で1\,000円割引
URL:https://japanopenpoker.com/satellite/preflopyokohama-9/
CATEGORIES:2026 JOPT Tokyo #01
END:VEVENT
BEGIN:VEVENT
DTSTART;TZID=Asia/Tokyo:20251209T180000
DTEND;TZID=Asia/Tokyo:20251209T210000
DTSTAMP:20260424T063228
CREATED:20251204T014322Z
LAST-MODIFIED:20251204T014322Z
UID:10015059-1765303200-1765314000@japanopenpoker.com
SUMMARY:PokerRoomP3 (4+)
DESCRIPTION:PokerRoomP3 (4(20E以上 ×5、25E以上 ×6)) \n<スケジュール / schedule> \nRegistration / 18:00-21:00 \n<参加費 / Fees>\nEntry / ¥5\,000\nChips / 15\,000 \nRe-Entry / ¥5\,000\nChips / 15\,000 \nRe-buy or Add-on / ¥3\,000\nChips / 15\,000 \nGame / No Limit Hold’em \n<プライズ / Prize>\n保証 / 4(20E以上 ×5、25E以上 ×6) Tickets\n配分 / 1位 : 3 Tickets – 2位 : 1 Ticket – 3位 : 0 Ticket – 4位 : 0 Ticket – 5位 : 0 Ticket \nNote :
URL:https://japanopenpoker.com/satellite/pokerroomp3-4-6/2025-12-09/
CATEGORIES:2026 JOPT Tokyo #01
END:VEVENT
BEGIN:VEVENT
DTSTART;TZID=Asia/Tokyo:20251209T180000
DTEND;TZID=Asia/Tokyo:20251209T212000
DTSTAMP:20260424T063228
CREATED:20251202T100632Z
LAST-MODIFIED:20251202T100641Z
UID:10015023-1765303200-1765315200@japanopenpoker.com
SUMMARY:ENPOKER八王子 (6)
DESCRIPTION:ENPOKER八王子 (6) \n<スケジュール / schedule> \nRegistration / 18:00-21:20 \n<参加費 / Fees>\nEntry / ¥4\,500\nChips / 40\,000 \nRe-Entry / ¥4\,500\nChips / 40\,000 \nRe-buy or Add-on / なし\nChips / なし \nGame / No Limit Hold’em \n<プライズ / Prize>\n保証 / 6 Tickets\n配分 / 1位 : 2 Tickets – 2位 : 2 Tickets – 3位 : 2 Tickets – 4位 : 0 Ticket – 5位 : 0 Ticket \nNote :
URL:https://japanopenpoker.com/satellite/enpoker%e5%85%ab%e7%8e%8b%e5%ad%90-6-3/2025-12-09/
CATEGORIES:2026 JOPT Tokyo #01
END:VEVENT
BEGIN:VEVENT
DTSTART;TZID=Asia/Tokyo:20251209T220000
DTEND;TZID=Asia/Tokyo:20251210T020000
DTSTAMP:20260424T063228
CREATED:20251204T013730Z
LAST-MODIFIED:20251204T013730Z
UID:10015057-1765317600-1765332000@japanopenpoker.com
SUMMARY:Akasaka de Poker (15)
DESCRIPTION:Akasaka de Poker (15) \n<スケジュール / schedule> \nRegistration / 22:00-2:20 \n<参加費 / Fees>\nEntry / ¥20\,000\nChips / 50\,000 \nRe-Entry / ¥20\,000\nChips / 50\,000 \nRe-buy or Add-on / ¥0\nChips / 0 \nGame / No Limit Hold’em \n<プライズ / Prize>\n保証 / 15 Tickets\n配分 / 1位 : 3 Tickets – 2位 : 3 Tickets – 3位 : 3 Tickets – 4位 : 3 Tickets – 5位 : 3 Tickets \n“Note : 優勝\n130\,000 Coin + JOPT 3ticket \n2位\n80\,000 Coin + JOPT 3ticket \n3位\n50\,000 Coin + JOPT 3ticket \n4位\n40\,000 Coin + JOPT 3ticket \n5位\n30\,000 Coin + JOPT 3ticket”
URL:https://japanopenpoker.com/satellite/akasaka-de-poker-15-13/2025-12-09/
CATEGORIES:2026 JOPT Tokyo #01
END:VEVENT
END:VCALENDAR