BEGIN:VCALENDAR
VERSION:2.0
PRODID:-//Japan Open Poker Tour - ECPv6.9.0//NONSGML v1.0//EN
CALSCALE:GREGORIAN
METHOD:PUBLISH
X-WR-CALNAME:Japan Open Poker Tour
X-ORIGINAL-URL:https://japanopenpoker.com
X-WR-CALDESC:Japan Open Poker Tour のイベント
REFRESH-INTERVAL;VALUE=DURATION:PT1H
X-Robots-Tag:noindex
X-PUBLISHED-TTL:PT1H
BEGIN:VTIMEZONE
TZID:Asia/Tokyo
BEGIN:STANDARD
TZOFFSETFROM:+0900
TZOFFSETTO:+0900
TZNAME:JST
DTSTART:20250101T000000
END:STANDARD
END:VTIMEZONE
BEGIN:VEVENT
DTSTART;TZID=Asia/Tokyo:20251129T120000
DTEND;TZID=Asia/Tokyo:20251129T162000
DTSTAMP:20260424T063142
CREATED:20251113T015030Z
LAST-MODIFIED:20251113T015030Z
UID:10014891-1764417600-1764433200@japanopenpoker.com
SUMMARY:カジノクエスト (27)
DESCRIPTION:カジノクエスト (27) \n<スケジュール / schedule> \nRegistration / 12:00-16:20 \n<参加費 / Fees>\nEntry / ¥15\,000-\nChips / 50\,000 \nRe-Entry / ¥15\,000\nChips / 50\,000 \nRe-buy or Add-on / ¥0\nChips / 0 \nGame / No Limit Hold’em \n<プライズ / Prize>\n保証 / 27 Tickets\n配分 / 1位 : 3 Tickets – 2位 : 3 Tickets – 3位 : 3 Tickets – 4位 : 3 Tickets – 5位 : 3 Tickets \n“Note : 優勝25万コイン＋FT全員に3ticketずつ！\nエクスカリバーDUAL”
URL:https://japanopenpoker.com/satellite/%e3%82%ab%e3%82%b8%e3%83%8e%e3%82%af%e3%82%a8%e3%82%b9%e3%83%88-27-7/
CATEGORIES:2026 JOPT Tokyo #01
END:VEVENT
BEGIN:VEVENT
DTSTART;TZID=Asia/Tokyo:20251129T130000
DTEND;TZID=Asia/Tokyo:20251129T163000
DTSTAMP:20260424T063142
CREATED:20251102T103330Z
LAST-MODIFIED:20251102T103330Z
UID:10014840-1764421200-1764433800@japanopenpoker.com
SUMMARY:新宿ネオパラハ (4)
DESCRIPTION:新宿ネオパラハ (4) \n<スケジュール / schedule> \nRegistration / 13:00-16:30 \n<参加費 / Fees>\nEntry / ¥4\,900\nChips / 15\,000 \nRe-Entry / ¥4\,900\nChips / 15\,000 \nRe-buy or Add-on / ¥2\,300\nChips / 15\,000 \nGame / No Limit Hold’em \n<プライズ / Prize>\n保証 / 4 Tickets\n配分 / 1位 : 2 Tickets – 2位 : 2 Tickets – 3位 : 0 Ticket – 4位 : 0 Ticket – 5位 : 0 Ticket \n“Note : 1テーブル\n1レベル以内着席アドオン無料”
URL:https://japanopenpoker.com/satellite/%e6%96%b0%e5%ae%bf%e3%83%8d%e3%82%aa%e3%83%91%e3%83%a9%e3%83%8f-4-9/2025-11-29/
CATEGORIES:2026 JOPT Tokyo #01
END:VEVENT
BEGIN:VEVENT
DTSTART;TZID=Asia/Tokyo:20251129T133000
DTEND;TZID=Asia/Tokyo:20251129T170000
DTSTAMP:20260424T063142
CREATED:20251027T031222Z
LAST-MODIFIED:20251027T031222Z
UID:10014791-1764423000-1764435600@japanopenpoker.com
SUMMARY:D.D Poker高田馬場 (3+)
DESCRIPTION:D.D Poker高田馬場 (3（30エントリー以上で3位に1枚追加）) \n<スケジュール / schedule> \nRegistration / 13:30-17:00 \n<参加費 / Fees>\nEntry / 3\,300円\nChips / 25\,000 \nRe-Entry / 3\,300円\nChips / 25\,000 \nRe-buy or Add-on / ¥0\nChips / 0 \nGame / No Limit Hold’em \n<プライズ / Prize>\n保証 / 3（30エントリー以上で3位に1枚追加） Tickets\n配分 / 1位 : 2 Tickets – 2位 : 1 Ticket – 3位 : 0 Ticket – 4位 : 0 Ticket – 5位 : 0 Ticket \nNote :
URL:https://japanopenpoker.com/satellite/d-d-poker%e9%ab%98%e7%94%b0%e9%a6%ac%e5%a0%b4-3-9/2025-11-29/
CATEGORIES:2026 JOPT Tokyo #01
END:VEVENT
BEGIN:VEVENT
DTSTART;TZID=Asia/Tokyo:20251129T133000
DTEND;TZID=Asia/Tokyo:20251129T180000
DTSTAMP:20260424T063142
CREATED:20251020T014821Z
LAST-MODIFIED:20251020T014822Z
UID:10014731-1764423000-1764439200@japanopenpoker.com
SUMMARY:津田沼POM (9)
DESCRIPTION:津田沼POM (9) \n<スケジュール / schedule> \nRegistration / 13:30-18:00 \n<参加費 / Fees>\nEntry / ¥8000\nChips / 40\,000 \nRe-Entry / ¥5\,000\nChips / 40\,000 \nRe-buy or Add-on / 無し\nChips / 無し \nGame / No Limit Hold’em \n<プライズ / Prize>\n保証 / 9 Tickets\n配分 / 1位 : 3 Tickets – 2位 : 3 Tickets – 3位 : 3 Tickets – 4位 : 0 Ticket – 5位 : 0 Ticket \nNote :
URL:https://japanopenpoker.com/satellite/%e6%b4%a5%e7%94%b0%e6%b2%bcpom-9-6/2025-11-29/
CATEGORIES:2026 JOPT Tokyo #01
END:VEVENT
BEGIN:VEVENT
DTSTART;TZID=Asia/Tokyo:20251129T135500
DTEND;TZID=Asia/Tokyo:20251129T170000
DTSTAMP:20260424T063142
CREATED:20251120T180448Z
LAST-MODIFIED:20251120T180448Z
UID:10014930-1764424500-1764435600@japanopenpoker.com
SUMMARY:OJARUMARU中目黒 (15)
DESCRIPTION:OJARUMARU中目黒 (15) \n<スケジュール / schedule> \nRegistration / 13:55-17:00 \n<参加費 / Fees>\nEntry / ¥7\,500\nChips / 30\,000 \nRe-Entry / ¥7\,500\nChips / 30\,000 \nRe-buy or Add-on / ¥0\nChips / 0 \nGame / No Limit Hold’em \n<プライズ / Prize>\n保証 / 15 Tickets\n配分 / 1位 : 3 Tickets – 2位 : 3 Tickets – 3位 : 3 Tickets – 4位 : 3 Tickets – 5位 : 3 Tickets \nNote :
URL:https://japanopenpoker.com/satellite/ojarumaru%e4%b8%ad%e7%9b%ae%e9%bb%92-15-2/2025-11-29/
CATEGORIES:2026 JOPT Tokyo #01
END:VEVENT
BEGIN:VEVENT
DTSTART;TZID=Asia/Tokyo:20251129T170000
DTEND;TZID=Asia/Tokyo:20251129T212000
DTSTAMP:20260424T063142
CREATED:20251129T065545Z
LAST-MODIFIED:20251129T065545Z
UID:10015003-1764435600-1764451200@japanopenpoker.com
SUMMARY:ENPOKER八王子 (6)
DESCRIPTION:ENPOKER八王子 (6) \n<スケジュール / schedule> \nRegistration / 17:00-21:20 \n<参加費 / Fees>\nEntry / ¥4\,500\nChips / 40\,000 \nRe-Entry / ¥4\,500\nChips / 40\,000 \nRe-buy or Add-on / なし\nChips / なし \nGame / No Limit Hold’em \n<プライズ / Prize>\n保証 / 6 Tickets\n配分 / 1位 : 2 Tickets – 2位 : 2 Tickets – 3位 : 2 Tickets – 4位 : 0 Ticket – 5位 : 0 Ticket \nNote :
URL:https://japanopenpoker.com/satellite/enpoker%e5%85%ab%e7%8e%8b%e5%ad%90-6-2/
CATEGORIES:2026 JOPT Tokyo #01
END:VEVENT
BEGIN:VEVENT
DTSTART;TZID=Asia/Tokyo:20251129T173000
DTEND;TZID=Asia/Tokyo:20251129T204000
DTSTAMP:20260424T063142
CREATED:20251127T103951Z
LAST-MODIFIED:20251127T103951Z
UID:10014988-1764437400-1764448800@japanopenpoker.com
SUMMARY:フルーツ越谷店 (6)
DESCRIPTION:<スケジュール / schedule> \nRegistration / 17:30-20:40 \n<参加費 / Fees>\nEntry / ¥4\,000\nChips / 30\,000 \nRe-Entry / ¥4\,000\nChips / 40\,000 \nRe-buy or Add-on / ¥2\,500\nChips / 30\,000 \nGame / No Limit Hold’em \n<プライズ / Prize>\n保証 / 6 Tickets\n配分 / 1位 : 3 Tickets – 2位 : 2 Tickets – 3位 : 1 Ticket – 4位 : 0 Ticket – 5位 : 0 Ticket \nNote :
URL:https://japanopenpoker.com/satellite/%e3%83%95%e3%83%ab%e3%83%bc%e3%83%84%e8%b6%8a%e8%b0%b7%e5%ba%97-6-2/
CATEGORIES:2026 JOPT Tokyo #01
END:VEVENT
BEGIN:VEVENT
DTSTART;TZID=Asia/Tokyo:20251129T175500
DTEND;TZID=Asia/Tokyo:20251129T210000
DTSTAMP:20260424T063142
CREATED:20251120T175911Z
LAST-MODIFIED:20251120T175911Z
UID:10014923-1764438900-1764450000@japanopenpoker.com
SUMMARY:OJARUMARU中目黒 (15)
DESCRIPTION:OJARUMARU中目黒 (15) \n<スケジュール / schedule> \nRegistration / 17:55-21:00 \n<参加費 / Fees>\nEntry / ¥7\,500\nChips / 30\,000 \nRe-Entry / ¥7\,500\nChips / 30\,000 \nRe-buy or Add-on / ¥0\nChips / 0 \nGame / No Limit Hold’em \n<プライズ / Prize>\n保証 / 15 Tickets\n配分 / 1位 : 3 Tickets – 2位 : 3 Tickets – 3位 : 3 Tickets – 4位 : 3 Tickets – 5位 : 3 Tickets \nNote :
URL:https://japanopenpoker.com/satellite/ojarumaru%e4%b8%ad%e7%9b%ae%e9%bb%92-15/2025-11-29/
CATEGORIES:2026 JOPT Tokyo #01
END:VEVENT
BEGIN:VEVENT
DTSTART;TZID=Asia/Tokyo:20251129T183000
DTEND;TZID=Asia/Tokyo:20251129T212000
DTSTAMP:20260424T063142
CREATED:20251106T090149Z
LAST-MODIFIED:20251106T090149Z
UID:10014854-1764441000-1764451200@japanopenpoker.com
SUMMARY:TIP UP (3)
DESCRIPTION:TIP UP (3(1位1 2位1 3位1)) \n<スケジュール / schedule> \nRegistration / 18:30-21:20 \n<参加費 / Fees>\nEntry / ¥3\,000\nChips / 20\,000 \nRe-Entry / ¥3\,000\nChips / 20\,000 \nRe-buy or Add-on / ¥0\nChips / 0 \nGame / No Limit Hold’em \n<プライズ / Prize>\n保証 / 3(1位1 2位1 3位1) Tickets\n配分 / 1位 : 1 Ticket – 2位 : 1 Ticket – 3位 : 1 Ticket – 4位 : 0 Ticket – 5位 : 0 Ticket \nNote :
URL:https://japanopenpoker.com/satellite/tip-up-3-9/2025-11-29/
CATEGORIES:2026 JOPT Tokyo #01
END:VEVENT
BEGIN:VEVENT
DTSTART;TZID=Asia/Tokyo:20251129T183000
DTEND;TZID=Asia/Tokyo:20251129T213000
DTSTAMP:20260424T063142
CREATED:20251127T104737Z
LAST-MODIFIED:20251127T104737Z
UID:10014995-1764441000-1764451800@japanopenpoker.com
SUMMARY:Ri:Vera人形町 (3)
DESCRIPTION:<スケジュール / schedule> \nRegistration / 18:30-21:30 \n<参加費 / Fees>\nEntry / ¥9\,000\nChips / 30\,000 \nRe-Entry / ¥8\,000\nChips / 30\,000 \nRe-buy or Add-on / ¥0\nChips / 0 \nGame / No Limit Hold’em \n<プライズ / Prize>\n保証 / 一位3枠 Tickets\n配分 / 1位 : 3 Tickets – 2位 : 0 Ticket – 3位 : 0 Ticket – 4位 : 0 Ticket – 5位 : 0 Ticket \nNote :
URL:https://japanopenpoker.com/satellite/rivera%e4%ba%ba%e5%bd%a2%e7%94%ba-3-2/2025-11-29/
CATEGORIES:2026 JOPT Tokyo #01
END:VEVENT
BEGIN:VEVENT
DTSTART;TZID=Asia/Tokyo:20251129T203000
DTEND;TZID=Asia/Tokyo:20251129T223000
DTSTAMP:20260424T063142
CREATED:20251023T044736Z
LAST-MODIFIED:20251023T044736Z
UID:10014763-1764448200-1764455400@japanopenpoker.com
SUMMARY:Pokerbarspace浜松 (1+)
DESCRIPTION:Pokerbarspace浜松 (1+) \n<スケジュール / schedule> \nRegistration / 20:30-22:30 \n<参加費 / Fees>\nEntry / ¥3\,000\nChips / 12\,000 \nRe-Entry / ¥3\,000\nChips / 12\,000 \nRe-buy or Add-on / ¥1\,000\nChips / 12\,000 \nGame / No Limit Hold’em \n<プライズ / Prize>\n保証 / 1 Tickets\n配分 / 1位 : 1 Ticket – 2位 : 0 Ticket – 3位 : 0 Ticket – 4位 : 0 Ticket – 5位 : 0 Ticket \nNote : エントリー人数に応じて追加
URL:https://japanopenpoker.com/satellite/pokerbarspace%e6%b5%9c%e6%9d%be-1/2025-11-29/
CATEGORIES:2026 JOPT Tokyo #01
END:VEVENT
END:VCALENDAR