BEGIN:VCALENDAR
VERSION:2.0
PRODID:-//Japan Open Poker Tour - ECPv6.9.0//NONSGML v1.0//EN
CALSCALE:GREGORIAN
METHOD:PUBLISH
X-WR-CALNAME:Japan Open Poker Tour
X-ORIGINAL-URL:https://japanopenpoker.com
X-WR-CALDESC:Japan Open Poker Tour のイベント
REFRESH-INTERVAL;VALUE=DURATION:PT1H
X-Robots-Tag:noindex
X-PUBLISHED-TTL:PT1H
BEGIN:VTIMEZONE
TZID:Asia/Tokyo
BEGIN:STANDARD
TZOFFSETFROM:+0900
TZOFFSETTO:+0900
TZNAME:JST
DTSTART:20250101T000000
END:STANDARD
END:VTIMEZONE
BEGIN:VEVENT
DTSTART;TZID=Asia/Tokyo:20251122T130000
DTEND;TZID=Asia/Tokyo:20251122T163000
DTSTAMP:20260424T062210
CREATED:20251102T103330Z
LAST-MODIFIED:20251102T103330Z
UID:10014837-1763816400-1763829000@japanopenpoker.com
SUMMARY:新宿ネオパラハ (4)
DESCRIPTION:新宿ネオパラハ (4) \n<スケジュール / schedule> \nRegistration / 13:00-16:30 \n<参加費 / Fees>\nEntry / ¥4\,900\nChips / 15\,000 \nRe-Entry / ¥4\,900\nChips / 15\,000 \nRe-buy or Add-on / ¥2\,300\nChips / 15\,000 \nGame / No Limit Hold’em \n<プライズ / Prize>\n保証 / 4 Tickets\n配分 / 1位 : 2 Tickets – 2位 : 2 Tickets – 3位 : 0 Ticket – 4位 : 0 Ticket – 5位 : 0 Ticket \n“Note : 1テーブル\n1レベル以内着席アドオン無料”
URL:https://japanopenpoker.com/satellite/%e6%96%b0%e5%ae%bf%e3%83%8d%e3%82%aa%e3%83%91%e3%83%a9%e3%83%8f-4-9/2025-11-22/
CATEGORIES:2026 JOPT Tokyo #01
END:VEVENT
BEGIN:VEVENT
DTSTART;TZID=Asia/Tokyo:20251122T133000
DTEND;TZID=Asia/Tokyo:20251122T170000
DTSTAMP:20260424T062210
CREATED:20251027T031222Z
LAST-MODIFIED:20251027T031222Z
UID:10014790-1763818200-1763830800@japanopenpoker.com
SUMMARY:D.D Poker高田馬場 (3+)
DESCRIPTION:D.D Poker高田馬場 (3（30エントリー以上で3位に1枚追加）) \n<スケジュール / schedule> \nRegistration / 13:30-17:00 \n<参加費 / Fees>\nEntry / 3\,300円\nChips / 25\,000 \nRe-Entry / 3\,300円\nChips / 25\,000 \nRe-buy or Add-on / ¥0\nChips / 0 \nGame / No Limit Hold’em \n<プライズ / Prize>\n保証 / 3（30エントリー以上で3位に1枚追加） Tickets\n配分 / 1位 : 2 Tickets – 2位 : 1 Ticket – 3位 : 0 Ticket – 4位 : 0 Ticket – 5位 : 0 Ticket \nNote :
URL:https://japanopenpoker.com/satellite/d-d-poker%e9%ab%98%e7%94%b0%e9%a6%ac%e5%a0%b4-3-9/2025-11-22/
CATEGORIES:2026 JOPT Tokyo #01
END:VEVENT
BEGIN:VEVENT
DTSTART;TZID=Asia/Tokyo:20251122T133000
DTEND;TZID=Asia/Tokyo:20251122T180000
DTSTAMP:20260424T062210
CREATED:20251020T014821Z
LAST-MODIFIED:20251020T014822Z
UID:10014730-1763818200-1763834400@japanopenpoker.com
SUMMARY:津田沼POM (9)
DESCRIPTION:津田沼POM (9) \n<スケジュール / schedule> \nRegistration / 13:30-18:00 \n<参加費 / Fees>\nEntry / ¥8000\nChips / 40\,000 \nRe-Entry / ¥5\,000\nChips / 40\,000 \nRe-buy or Add-on / 無し\nChips / 無し \nGame / No Limit Hold’em \n<プライズ / Prize>\n保証 / 9 Tickets\n配分 / 1位 : 3 Tickets – 2位 : 3 Tickets – 3位 : 3 Tickets – 4位 : 0 Ticket – 5位 : 0 Ticket \nNote :
URL:https://japanopenpoker.com/satellite/%e6%b4%a5%e7%94%b0%e6%b2%bcpom-9-6/2025-11-22/
CATEGORIES:2026 JOPT Tokyo #01
END:VEVENT
BEGIN:VEVENT
DTSTART;TZID=Asia/Tokyo:20251122T135500
DTEND;TZID=Asia/Tokyo:20251122T170000
DTSTAMP:20260424T062210
CREATED:20251120T180448Z
LAST-MODIFIED:20251120T180448Z
UID:10014927-1763819700-1763830800@japanopenpoker.com
SUMMARY:OJARUMARU中目黒 (15)
DESCRIPTION:OJARUMARU中目黒 (15) \n<スケジュール / schedule> \nRegistration / 13:55-17:00 \n<参加費 / Fees>\nEntry / ¥7\,500\nChips / 30\,000 \nRe-Entry / ¥7\,500\nChips / 30\,000 \nRe-buy or Add-on / ¥0\nChips / 0 \nGame / No Limit Hold’em \n<プライズ / Prize>\n保証 / 15 Tickets\n配分 / 1位 : 3 Tickets – 2位 : 3 Tickets – 3位 : 3 Tickets – 4位 : 3 Tickets – 5位 : 3 Tickets \nNote :
URL:https://japanopenpoker.com/satellite/ojarumaru%e4%b8%ad%e7%9b%ae%e9%bb%92-15-2/2025-11-22/
CATEGORIES:2026 JOPT Tokyo #01
END:VEVENT
BEGIN:VEVENT
DTSTART;TZID=Asia/Tokyo:20251122T175500
DTEND;TZID=Asia/Tokyo:20251122T210000
DTSTAMP:20260424T062210
CREATED:20251120T175911Z
LAST-MODIFIED:20251120T175911Z
UID:10014918-1763834100-1763845200@japanopenpoker.com
SUMMARY:OJARUMARU中目黒 (15)
DESCRIPTION:OJARUMARU中目黒 (15) \n<スケジュール / schedule> \nRegistration / 17:55-21:00 \n<参加費 / Fees>\nEntry / ¥7\,500\nChips / 30\,000 \nRe-Entry / ¥7\,500\nChips / 30\,000 \nRe-buy or Add-on / ¥0\nChips / 0 \nGame / No Limit Hold’em \n<プライズ / Prize>\n保証 / 15 Tickets\n配分 / 1位 : 3 Tickets – 2位 : 3 Tickets – 3位 : 3 Tickets – 4位 : 3 Tickets – 5位 : 3 Tickets \nNote :
URL:https://japanopenpoker.com/satellite/ojarumaru%e4%b8%ad%e7%9b%ae%e9%bb%92-15/2025-11-22/
CATEGORIES:2026 JOPT Tokyo #01
END:VEVENT
BEGIN:VEVENT
DTSTART;TZID=Asia/Tokyo:20251122T203000
DTEND;TZID=Asia/Tokyo:20251122T223000
DTSTAMP:20260424T062210
CREATED:20251023T044736Z
LAST-MODIFIED:20251023T044736Z
UID:10014760-1763843400-1763850600@japanopenpoker.com
SUMMARY:Pokerbarspace浜松 (1+)
DESCRIPTION:Pokerbarspace浜松 (1+) \n<スケジュール / schedule> \nRegistration / 20:30-22:30 \n<参加費 / Fees>\nEntry / ¥3\,000\nChips / 12\,000 \nRe-Entry / ¥3\,000\nChips / 12\,000 \nRe-buy or Add-on / ¥1\,000\nChips / 12\,000 \nGame / No Limit Hold’em \n<プライズ / Prize>\n保証 / 1 Tickets\n配分 / 1位 : 1 Ticket – 2位 : 0 Ticket – 3位 : 0 Ticket – 4位 : 0 Ticket – 5位 : 0 Ticket \nNote : エントリー人数に応じて追加
URL:https://japanopenpoker.com/satellite/pokerbarspace%e6%b5%9c%e6%9d%be-1/2025-11-22/
CATEGORIES:2026 JOPT Tokyo #01
END:VEVENT
END:VCALENDAR