BEGIN:VCALENDAR
VERSION:2.0
PRODID:-//Japan Open Poker Tour - ECPv6.9.0//NONSGML v1.0//EN
CALSCALE:GREGORIAN
METHOD:PUBLISH
X-ORIGINAL-URL:https://japanopenpoker.com
X-WR-CALDESC:Japan Open Poker Tour のイベント
REFRESH-INTERVAL;VALUE=DURATION:PT1H
X-Robots-Tag:noindex
X-PUBLISHED-TTL:PT1H
BEGIN:VTIMEZONE
TZID:Asia/Tokyo
BEGIN:STANDARD
TZOFFSETFROM:+0900
TZOFFSETTO:+0900
TZNAME:JST
DTSTART:20250101T000000
END:STANDARD
END:VTIMEZONE
BEGIN:VEVENT
DTSTART;TZID=Asia/Tokyo:20251114T160000
DTEND;TZID=Asia/Tokyo:20251114T173000
DTSTAMP:20260424T063213
CREATED:20251031T013222Z
LAST-MODIFIED:20251113T015828Z
UID:10014817-1763136000-1763141400@japanopenpoker.com
SUMMARY:EGP EBISU (1)
DESCRIPTION:EGP EBISU (1) \n<スケジュール / schedule> \nRegistration / 16:00-17:30 \n<参加費 / Fees>\nEntry / ¥1\,000\nChips / 10\,000 \nRe-Entry / ¥1\,000\nChips / 10\,000 \nRe-buy or Add-on / ¥1\,000\nChips / 20\,000 \nGame / No Limit Hold’em \n<プライズ / Prize>\n保証 / 1 Tickets\n配分 / 1位 : 1 Ticket – 2位 : 0 Ticket – 3位 : 0 Ticket – 4位 : 0 Ticket – 5位 : 0 Ticket \nNote :
URL:https://japanopenpoker.com/satellite/egp-ebisu-1-13/2025-11-14/
CATEGORIES:2026 JOPT Tokyo #01
END:VEVENT
BEGIN:VEVENT
DTSTART;TZID=Asia/Tokyo:20251114T173000
DTEND;TZID=Asia/Tokyo:20251114T205000
DTSTAMP:20260424T063213
CREATED:20251110T074346Z
LAST-MODIFIED:20251110T074346Z
UID:10014880-1763141400-1763153400@japanopenpoker.com
SUMMARY:KKLIVE POKER SHIBUYA (21)
DESCRIPTION:KKLIVE POKER SHIBUYA (21) \n<スケジュール / schedule> \nRegistration / 17:30-20:50 \n<参加費 / Fees>\nEntry / ¥8\,000\nChips / 25\,000 \nRe-Entry / ¥8\,000\nChips / 25\,000 \nRe-buy or Add-on / ¥2\,000\nChips / 25\,000 \nGame / No Limit Hold’em \n<プライズ / Prize>\n保証 / 21 Tickets\n配分 / 1位 : 3 Tickets – 2位 : 3 Tickets – 3位 : 3 Tickets – 4位 : 3 Tickets – 5位 : 3 Tickets \nNote : 6位、7位にも3権利
URL:https://japanopenpoker.com/satellite/kklive-poker-shibuya-21-10/2025-11-14/
CATEGORIES:2026 JOPT Tokyo #01
END:VEVENT
BEGIN:VEVENT
DTSTART;TZID=Asia/Tokyo:20251114T180000
DTEND;TZID=Asia/Tokyo:20251114T210000
DTSTAMP:20260424T063213
CREATED:20251106T090314Z
LAST-MODIFIED:20251106T090314Z
UID:10014856-1763143200-1763154000@japanopenpoker.com
SUMMARY:バックドア浅草橋 (9+)
DESCRIPTION:バックドア浅草橋 (9(38E以上で4位に3枚追加、以降12E毎)) \n<スケジュール / schedule> \nRegistration / 18:00-21:00 \n<参加費 / Fees>\nEntry / ¥6\,500(早割)\nChips / 30\,000 \nRe-Entry / ¥6\,500\nChips / 30\,000 \nRe-buy or Add-on / ¥0\nChips / 0 \nGame / No Limit Hold’em \n<プライズ / Prize>\n保証 / 9(38E以上で4位に3枚追加、以降12E毎) Tickets\n配分 / 1位 : 3 Tickets – 2位 : 3 Tickets – 3位 : 3 Tickets – 4位 : 3 Tickets – 5位 : 3 Tickets \nNote : 連日割あり❗️連日で来ると2日目半額❗️
URL:https://japanopenpoker.com/satellite/%e3%83%90%e3%83%83%e3%82%af%e3%83%89%e3%82%a2%e6%b5%85%e8%8d%89%e6%a9%8b-9-9/2025-11-14/
CATEGORIES:2026 JOPT Tokyo #01
END:VEVENT
BEGIN:VEVENT
DTSTART;TZID=Asia/Tokyo:20251114T180000
DTEND;TZID=Asia/Tokyo:20251114T211000
DTSTAMP:20260424T063213
CREATED:20251020T012028Z
LAST-MODIFIED:20251020T012028Z
UID:10014701-1763143200-1763154600@japanopenpoker.com
SUMMARY:ガットショット湯島本店 (4)
DESCRIPTION:ガットショット湯島本店 (4) \n<スケジュール / schedule> \nRegistration / 18:00-21:10 \n<参加費 / Fees>\nEntry / ¥2\,000\nChips / 30\,000 \nRe-Entry / ¥2\,000\nChips / 30\,000 \nRe-buy or Add-on / ¥0\nChips / 0 \nGame / No Limit Hold’em \n<プライズ / Prize>\n保証 / 4 Tickets\n配分 / 1位 : 3 Tickets – 2位 : 1 Ticket – 3位 : 0 Ticket – 4位 : 0 Ticket – 5位 : 0 Ticket \nNote :
URL:https://japanopenpoker.com/satellite/%e3%82%ac%e3%83%83%e3%83%88%e3%82%b7%e3%83%a7%e3%83%83%e3%83%88%e6%b9%af%e5%b3%b6%e6%9c%ac%e5%ba%97-4-8/2025-11-14/
CATEGORIES:2026 JOPT Tokyo #01
END:VEVENT
BEGIN:VEVENT
DTSTART;TZID=Asia/Tokyo:20251114T203000
DTEND;TZID=Asia/Tokyo:20251114T223000
DTSTAMP:20260424T063213
CREATED:20251023T044736Z
LAST-MODIFIED:20251023T044736Z
UID:10014756-1763152200-1763159400@japanopenpoker.com
SUMMARY:Pokerbarspace浜松 (1+)
DESCRIPTION:Pokerbarspace浜松 (1+) \n<スケジュール / schedule> \nRegistration / 20:30-22:30 \n<参加費 / Fees>\nEntry / ¥3\,000\nChips / 12\,000 \nRe-Entry / ¥3\,000\nChips / 12\,000 \nRe-buy or Add-on / ¥1\,000\nChips / 12\,000 \nGame / No Limit Hold’em \n<プライズ / Prize>\n保証 / 1 Tickets\n配分 / 1位 : 1 Ticket – 2位 : 0 Ticket – 3位 : 0 Ticket – 4位 : 0 Ticket – 5位 : 0 Ticket \nNote : エントリー人数に応じて追加
URL:https://japanopenpoker.com/satellite/pokerbarspace%e6%b5%9c%e6%9d%be-1/2025-11-14/
CATEGORIES:2026 JOPT Tokyo #01
END:VEVENT
END:VCALENDAR