BEGIN:VCALENDAR
VERSION:2.0
PRODID:-//Japan Open Poker Tour - ECPv6.9.0//NONSGML v1.0//EN
CALSCALE:GREGORIAN
METHOD:PUBLISH
X-WR-CALNAME:Japan Open Poker Tour
X-ORIGINAL-URL:https://japanopenpoker.com
X-WR-CALDESC:Japan Open Poker Tour のイベント
REFRESH-INTERVAL;VALUE=DURATION:PT1H
X-Robots-Tag:noindex
X-PUBLISHED-TTL:PT1H
BEGIN:VTIMEZONE
TZID:Asia/Tokyo
BEGIN:STANDARD
TZOFFSETFROM:+0900
TZOFFSETTO:+0900
TZNAME:JST
DTSTART:20250101T000000
END:STANDARD
END:VTIMEZONE
BEGIN:VEVENT
DTSTART;TZID=Asia/Tokyo:20251111T160000
DTEND;TZID=Asia/Tokyo:20251111T173000
DTSTAMP:20260424T062210
CREATED:20251031T013222Z
LAST-MODIFIED:20251113T015828Z
UID:10014815-1762876800-1762882200@japanopenpoker.com
SUMMARY:EGP EBISU (1)
DESCRIPTION:EGP EBISU (1) \n<スケジュール / schedule> \nRegistration / 16:00-17:30 \n<参加費 / Fees>\nEntry / ¥1\,000\nChips / 10\,000 \nRe-Entry / ¥1\,000\nChips / 10\,000 \nRe-buy or Add-on / ¥1\,000\nChips / 20\,000 \nGame / No Limit Hold’em \n<プライズ / Prize>\n保証 / 1 Tickets\n配分 / 1位 : 1 Ticket – 2位 : 0 Ticket – 3位 : 0 Ticket – 4位 : 0 Ticket – 5位 : 0 Ticket \nNote :
URL:https://japanopenpoker.com/satellite/egp-ebisu-1-13/2025-11-11/
CATEGORIES:2026 JOPT Tokyo #01
END:VEVENT
BEGIN:VEVENT
DTSTART;TZID=Asia/Tokyo:20251111T174500
DTEND;TZID=Asia/Tokyo:20251111T205500
DTSTAMP:20260424T062210
CREATED:20251014T063606Z
LAST-MODIFIED:20251201T041103Z
UID:10014628-1762883100-1762894500@japanopenpoker.com
SUMMARY:GoodGame Poker Live SHINJUKU (15)
DESCRIPTION:<スケジュール / schedule> \nRegistration / 17:45-20:55 \n<参加費 / Fees>\nEntry / ¥5\,000\nChips / 15\,000 \nRe-Entry / ¥5\,000\nChips / 15\,000 \nRe-buy or Add-on / ¥2\,000\nChips / 15\,000 \nGame / No Limit Hold’em \n<プライズ / Prize>\n保証 / 15 Tickets\n配分 / 1位 : 3 Tickets – 2位 : 3 Tickets – 3位 : 3 Tickets – 4位 : 3 Tickets – 5位 : 3 Tickets \nNote :
URL:https://japanopenpoker.com/satellite/goodgame-poker-live-shinjuku-15-14/2025-11-11/
CATEGORIES:2026 JOPT Tokyo #01
END:VEVENT
BEGIN:VEVENT
DTSTART;TZID=Asia/Tokyo:20251111T180000
DTEND;TZID=Asia/Tokyo:20251111T210000
DTSTAMP:20260424T062210
CREATED:20251113T020454Z
LAST-MODIFIED:20251115T085920Z
UID:10014894-1762884000-1762894800@japanopenpoker.com
SUMMARY:GoodGame Poker Live SHIBUYA (15)
DESCRIPTION:GoodGame Poker Live SHIBUYA (15) \n<スケジュール / schedule> \nRegistration / 18:00-21:00 \n<参加費 / Fees>\nEntry / ¥5\,000\nChips / 15\,000 \nRe-Entry / ¥5\,000\nChips / 15\,000 \nRe-buy or Add-on / ¥2\,000\nChips / 15\,000 \nGame / No Limit Hold’em \n<プライズ / Prize>\n保証 / 15 Tickets\n配分 / 1位 : 3 Tickets – 2位 : 3 Tickets – 3位 : 3 Tickets – 4位 : 3 Tickets – 5位 : 3 Tickets \nNote :
URL:https://japanopenpoker.com/satellite/goodgame-poker-live-shibuya-15-5/2025-11-11/
CATEGORIES:2026 JOPT Tokyo #01
END:VEVENT
BEGIN:VEVENT
DTSTART;TZID=Asia/Tokyo:20251111T203000
DTEND;TZID=Asia/Tokyo:20251111T223000
DTSTAMP:20260424T062210
CREATED:20251023T044736Z
LAST-MODIFIED:20251023T044736Z
UID:10014755-1762893000-1762900200@japanopenpoker.com
SUMMARY:Pokerbarspace浜松 (1+)
DESCRIPTION:Pokerbarspace浜松 (1+) \n<スケジュール / schedule> \nRegistration / 20:30-22:30 \n<参加費 / Fees>\nEntry / ¥3\,000\nChips / 12\,000 \nRe-Entry / ¥3\,000\nChips / 12\,000 \nRe-buy or Add-on / ¥1\,000\nChips / 12\,000 \nGame / No Limit Hold’em \n<プライズ / Prize>\n保証 / 1 Tickets\n配分 / 1位 : 1 Ticket – 2位 : 0 Ticket – 3位 : 0 Ticket – 4位 : 0 Ticket – 5位 : 0 Ticket \nNote : エントリー人数に応じて追加
URL:https://japanopenpoker.com/satellite/pokerbarspace%e6%b5%9c%e6%9d%be-1/2025-11-11/
CATEGORIES:2026 JOPT Tokyo #01
END:VEVENT
END:VCALENDAR