BEGIN:VCALENDAR
VERSION:2.0
PRODID:-//Japan Open Poker Tour - ECPv6.9.0//NONSGML v1.0//EN
CALSCALE:GREGORIAN
METHOD:PUBLISH
X-WR-CALNAME:Japan Open Poker Tour
X-ORIGINAL-URL:https://japanopenpoker.com
X-WR-CALDESC:Japan Open Poker Tour のイベント
REFRESH-INTERVAL;VALUE=DURATION:PT1H
X-Robots-Tag:noindex
X-PUBLISHED-TTL:PT1H
BEGIN:VTIMEZONE
TZID:Asia/Tokyo
BEGIN:STANDARD
TZOFFSETFROM:+0900
TZOFFSETTO:+0900
TZNAME:JST
DTSTART:20250101T000000
END:STANDARD
END:VTIMEZONE
BEGIN:VEVENT
DTSTART;TZID=Asia/Tokyo:20251103T220000
DTEND;TZID=Asia/Tokyo:20251104T020000
DTSTAMP:20260424T062108
CREATED:20251104T011853Z
LAST-MODIFIED:20251104T011853Z
UID:10014848-1762207200-1762221600@japanopenpoker.com
SUMMARY:BARRLE Las Vegas (12)
DESCRIPTION:BARRLE Las Vegas (12) \n<スケジュール / schedule> \nRegistration / 22:00-2:00 \n<参加費 / Fees>\nEntry / ¥12\,000\nChips / 40\,000 \nRe-Entry / ¥12\,000\nChips / 40\,000 \nRe-buy or Add-on / ¥0\nChips / 0 \nGame / No Limit Hold’em \n<プライズ / Prize>\n保証 / 12 Tickets\n配分 / 1位 : 3 Tickets – 2位 : 3 Tickets – 3位 : 3 Tickets – 4位 : 3 Tickets – 5位 : 0 Ticket \nNote :
URL:https://japanopenpoker.com/satellite/barrle-las-vegas-12-2/
CATEGORIES:2026 JOPT Tokyo #01
END:VEVENT
BEGIN:VEVENT
DTSTART;TZID=Asia/Tokyo:20251104T174500
DTEND;TZID=Asia/Tokyo:20251104T205500
DTSTAMP:20260424T062108
CREATED:20251014T063606Z
LAST-MODIFIED:20251201T041103Z
UID:10014627-1762278300-1762289700@japanopenpoker.com
SUMMARY:GoodGame Poker Live SHINJUKU (15)
DESCRIPTION:<スケジュール / schedule> \nRegistration / 17:45-20:55 \n<参加費 / Fees>\nEntry / ¥5\,000\nChips / 15\,000 \nRe-Entry / ¥5\,000\nChips / 15\,000 \nRe-buy or Add-on / ¥2\,000\nChips / 15\,000 \nGame / No Limit Hold’em \n<プライズ / Prize>\n保証 / 15 Tickets\n配分 / 1位 : 3 Tickets – 2位 : 3 Tickets – 3位 : 3 Tickets – 4位 : 3 Tickets – 5位 : 3 Tickets \nNote :
URL:https://japanopenpoker.com/satellite/goodgame-poker-live-shinjuku-15-14/2025-11-04/
CATEGORIES:2026 JOPT Tokyo #01
END:VEVENT
BEGIN:VEVENT
DTSTART;TZID=Asia/Tokyo:20251104T190000
DTEND;TZID=Asia/Tokyo:20251104T211000
DTSTAMP:20260424T062108
CREATED:20251025T011654Z
LAST-MODIFIED:20251025T011654Z
UID:10014779-1762282800-1762290600@japanopenpoker.com
SUMMARY:Jacks (1+)
DESCRIPTION:Jacks (1(7エントリー毎に1枚追加) \n<スケジュール / schedule> \nRegistration / 19:00-21:10 \n<参加費 / Fees>\nEntry / ¥3300\nChips / 30\,000 \nRe-Entry / ¥3300\nChips / 30\,000 \nRe-buy or Add-on / ¥2200\nChips / 30\,000 \nGame / No Limit Hold’em \n<プライズ / Prize>\n保証 / 1(7エントリー毎に1枚追加 Tickets\n配分 / 1位 : 1 Ticket – 2位 : 1 Ticket – 3位 : 1 Ticket – 4位 : 1 Ticket – 5位 : 1 Ticket \nNote :
URL:https://japanopenpoker.com/satellite/jacks-1-5/2025-11-04/
CATEGORIES:2026 JOPT Tokyo #01
END:VEVENT
BEGIN:VEVENT
DTSTART;TZID=Asia/Tokyo:20251104T203000
DTEND;TZID=Asia/Tokyo:20251104T223000
DTSTAMP:20260424T062108
CREATED:20251023T044736Z
LAST-MODIFIED:20251023T044736Z
UID:10014752-1762288200-1762295400@japanopenpoker.com
SUMMARY:Pokerbarspace浜松 (1+)
DESCRIPTION:Pokerbarspace浜松 (1+) \n<スケジュール / schedule> \nRegistration / 20:30-22:30 \n<参加費 / Fees>\nEntry / ¥3\,000\nChips / 12\,000 \nRe-Entry / ¥3\,000\nChips / 12\,000 \nRe-buy or Add-on / ¥1\,000\nChips / 12\,000 \nGame / No Limit Hold’em \n<プライズ / Prize>\n保証 / 1 Tickets\n配分 / 1位 : 1 Ticket – 2位 : 0 Ticket – 3位 : 0 Ticket – 4位 : 0 Ticket – 5位 : 0 Ticket \nNote : エントリー人数に応じて追加
URL:https://japanopenpoker.com/satellite/pokerbarspace%e6%b5%9c%e6%9d%be-1/2025-11-04/
CATEGORIES:2026 JOPT Tokyo #01
END:VEVENT
END:VCALENDAR