BEGIN:VCALENDAR
VERSION:2.0
PRODID:-//Japan Open Poker Tour - ECPv6.9.0//NONSGML v1.0//EN
CALSCALE:GREGORIAN
METHOD:PUBLISH
X-WR-CALNAME:Japan Open Poker Tour
X-ORIGINAL-URL:https://japanopenpoker.com
X-WR-CALDESC:Japan Open Poker Tour のイベント
REFRESH-INTERVAL;VALUE=DURATION:PT1H
X-Robots-Tag:noindex
X-PUBLISHED-TTL:PT1H
BEGIN:VTIMEZONE
TZID:Asia/Tokyo
BEGIN:STANDARD
TZOFFSETFROM:+0900
TZOFFSETTO:+0900
TZNAME:JST
DTSTART:20250101T000000
END:STANDARD
END:VTIMEZONE
BEGIN:VEVENT
DTSTART;TZID=Asia/Tokyo:20251031T143000
DTEND;TZID=Asia/Tokyo:20251031T170000
DTSTAMP:20260424T062107
CREATED:20251014T063859Z
LAST-MODIFIED:20251014T063859Z
UID:10014638-1761921000-1761930000@japanopenpoker.com
SUMMARY:池袋リレイズ (3)
DESCRIPTION:<スケジュール / schedule> \nRegistration / 14:30-17:00 \n<参加費 / Fees>\nEntry / 4000円\nChips / 15\,000 \nRe-Entry / 4000円\nChips / 15\,000 \nRe-buy or Add-on / 2000円\nChips / 15\,000 \nGame / No Limit Hold’em \n<プライズ / Prize>\n保証 / 3 Tickets\n配分 / 1位 : 3 Tickets – 2位 : 0 Ticket – 3位 : 0 Ticket – 4位 : 0 Ticket – 5位 : 0 Ticket \nNote :
URL:https://japanopenpoker.com/satellite/%e6%b1%a0%e8%a2%8b%e3%83%aa%e3%83%ac%e3%82%a4%e3%82%ba-3-5/2025-10-31/
CATEGORIES:2026 JOPT Tokyo #01
END:VEVENT
BEGIN:VEVENT
DTSTART;TZID=Asia/Tokyo:20251031T160000
DTEND;TZID=Asia/Tokyo:20251031T173000
DTSTAMP:20260424T062107
CREATED:20251016T023602Z
LAST-MODIFIED:20251016T023602Z
UID:10014654-1761926400-1761931800@japanopenpoker.com
SUMMARY:EGP EBISU (1)
DESCRIPTION:EGP EBISU (1) \n<スケジュール / schedule> \nRegistration / 16:00-17:30 \n<参加費 / Fees>\nEntry / ¥1\,000\nChips / 10\,000 \nRe-Entry / ¥1\,000\nChips / 10\,000 \nRe-buy or Add-on / ¥1\,000\nChips / 20\,000 \nGame / No Limit Hold’em \n<プライズ / Prize>\n保証 / 1 Tickets\n配分 / 1位 : 1 Ticket – 2位 : 0 Ticket – 3位 : 0 Ticket – 4位 : 0 Ticket – 5位 : 0 Ticket \nNote :
URL:https://japanopenpoker.com/satellite/egp-ebisu-1-11/2025-10-31/
CATEGORIES:2026 JOPT Tokyo #01
END:VEVENT
BEGIN:VEVENT
DTSTART;TZID=Asia/Tokyo:20251031T173000
DTEND;TZID=Asia/Tokyo:20251031T205000
DTSTAMP:20260424T062107
CREATED:20251017T043620Z
LAST-MODIFIED:20251017T043620Z
UID:10014697-1761931800-1761943800@japanopenpoker.com
SUMMARY:KKLIVE POKER SHIBUYA (21)
DESCRIPTION:KKLIVE POKER SHIBUYA (21) \n<スケジュール / schedule> \nRegistration / 17:30-20:50 \n<参加費 / Fees>\nEntry / ¥8\,000\nChips / 25\,000 \nRe-Entry / ¥8\,000\nChips / 25\,000 \nRe-buy or Add-on / ¥2\,000\nChips / 25\,000 \nGame / No Limit Hold’em \n<プライズ / Prize>\n保証 / 21 Tickets\n配分 / 1位 : 3 Tickets – 2位 : 3 Tickets – 3位 : 3 Tickets – 4位 : 3 Tickets – 5位 : 3 Tickets \n“Note : 1位-7位\nJOPT Ticket 3枠”
URL:https://japanopenpoker.com/satellite/kklive-poker-shibuya-21-9/2025-10-31/
CATEGORIES:2026 JOPT Tokyo #01
END:VEVENT
BEGIN:VEVENT
DTSTART;TZID=Asia/Tokyo:20251031T180000
DTEND;TZID=Asia/Tokyo:20251031T213000
DTSTAMP:20260424T062107
CREATED:20251020T015146Z
LAST-MODIFIED:20251020T015146Z
UID:10014734-1761933600-1761946200@japanopenpoker.com
SUMMARY:ENPOKER町田 (6)
DESCRIPTION:ENPOKER町田 (6) \n<スケジュール / schedule> \nRegistration / 18:00-21:30 \n<参加費 / Fees>\nEntry / ¥4\,500\nChips / 40\,000 \nRe-Entry / ¥4\,500\nChips / 40\,000 \nRe-buy or Add-on / なし\nChips / なし \nGame / No Limit Hold’em \n<プライズ / Prize>\n保証 / 6 Tickets\n配分 / 1位 : 2 Tickets – 2位 : 2 Tickets – 3位 : 2 Tickets – 4位 : 0 Ticket – 5位 : 0 Ticket \nNote :
URL:https://japanopenpoker.com/satellite/enpoker%e7%94%ba%e7%94%b0-6-18/2025-10-31/
CATEGORIES:2026 JOPT Tokyo #01
END:VEVENT
BEGIN:VEVENT
DTSTART;TZID=Asia/Tokyo:20251031T183000
DTEND;TZID=Asia/Tokyo:20251031T204000
DTSTAMP:20260424T062107
CREATED:20251031T012700Z
LAST-MODIFIED:20251031T012700Z
UID:10014807-1761935400-1761943200@japanopenpoker.com
SUMMARY:アキバギルド (6)
DESCRIPTION:アキバギルド (6) \n<スケジュール / schedule> \nRegistration / 18:30-20:40 \n<参加費 / Fees>\nEntry / ¥3\,500\nChips / 15\,000 \nRe-Entry / ¥3\,500\nChips / 15\,000 \nRe-buy or Add-on / ¥1\,500\nChips / 15\,000 \nGame / No Limit Hold’em \n<プライズ / Prize>\n保証 / 6 Tickets\n配分 / 1位 : 3 Tickets – 2位 : 2 Tickets – 3位 : 1 Ticket – 4位 : 0 Ticket – 5位 : 0 Ticket \nNote :
URL:https://japanopenpoker.com/satellite/%e3%82%a2%e3%82%ad%e3%83%90%e3%82%ae%e3%83%ab%e3%83%89-6-23/2025-10-31/
CATEGORIES:2026 JOPT Tokyo #01
END:VEVENT
BEGIN:VEVENT
DTSTART;TZID=Asia/Tokyo:20251031T190000
DTEND;TZID=Asia/Tokyo:20251031T211000
DTSTAMP:20260424T062107
CREATED:20251025T011654Z
LAST-MODIFIED:20251025T011654Z
UID:10014775-1761937200-1761945000@japanopenpoker.com
SUMMARY:Jacks (1+)
DESCRIPTION:Jacks (1(7エントリー毎に1枚追加) \n<スケジュール / schedule> \nRegistration / 19:00-21:10 \n<参加費 / Fees>\nEntry / ¥3300\nChips / 30\,000 \nRe-Entry / ¥3300\nChips / 30\,000 \nRe-buy or Add-on / ¥2200\nChips / 30\,000 \nGame / No Limit Hold’em \n<プライズ / Prize>\n保証 / 1(7エントリー毎に1枚追加 Tickets\n配分 / 1位 : 1 Ticket – 2位 : 1 Ticket – 3位 : 1 Ticket – 4位 : 1 Ticket – 5位 : 1 Ticket \nNote :
URL:https://japanopenpoker.com/satellite/jacks-1-5/2025-10-31/
CATEGORIES:2026 JOPT Tokyo #01
END:VEVENT
BEGIN:VEVENT
DTSTART;TZID=Asia/Tokyo:20251031T203000
DTEND;TZID=Asia/Tokyo:20251031T223000
DTSTAMP:20260424T062107
CREATED:20251023T044736Z
LAST-MODIFIED:20251023T044736Z
UID:10014750-1761942600-1761949800@japanopenpoker.com
SUMMARY:Pokerbarspace浜松 (1+)
DESCRIPTION:Pokerbarspace浜松 (1+) \n<スケジュール / schedule> \nRegistration / 20:30-22:30 \n<参加費 / Fees>\nEntry / ¥3\,000\nChips / 12\,000 \nRe-Entry / ¥3\,000\nChips / 12\,000 \nRe-buy or Add-on / ¥1\,000\nChips / 12\,000 \nGame / No Limit Hold’em \n<プライズ / Prize>\n保証 / 1 Tickets\n配分 / 1位 : 1 Ticket – 2位 : 0 Ticket – 3位 : 0 Ticket – 4位 : 0 Ticket – 5位 : 0 Ticket \nNote : エントリー人数に応じて追加
URL:https://japanopenpoker.com/satellite/pokerbarspace%e6%b5%9c%e6%9d%be-1/2025-10-31/
CATEGORIES:2026 JOPT Tokyo #01
END:VEVENT
END:VCALENDAR