BEGIN:VCALENDAR
VERSION:2.0
PRODID:-//Japan Open Poker Tour - ECPv6.9.0//NONSGML v1.0//EN
CALSCALE:GREGORIAN
METHOD:PUBLISH
X-WR-CALNAME:Japan Open Poker Tour
X-ORIGINAL-URL:https://japanopenpoker.com
X-WR-CALDESC:Japan Open Poker Tour のイベント
REFRESH-INTERVAL;VALUE=DURATION:PT1H
X-Robots-Tag:noindex
X-PUBLISHED-TTL:PT1H
BEGIN:VTIMEZONE
TZID:Asia/Tokyo
BEGIN:STANDARD
TZOFFSETFROM:+0900
TZOFFSETTO:+0900
TZNAME:JST
DTSTART:20250101T000000
END:STANDARD
END:VTIMEZONE
BEGIN:VEVENT
DTSTART;TZID=Asia/Tokyo:20251026T130000
DTEND;TZID=Asia/Tokyo:20251026T163000
DTSTAMP:20260424T073237
CREATED:20251016T022345Z
LAST-MODIFIED:20251016T022345Z
UID:10014644-1761483600-1761496200@japanopenpoker.com
SUMMARY:新宿ネオパラハ (2+)
DESCRIPTION:新宿ネオパラハ (2(10エントリー以上で2位に2枚追加)) \n<スケジュール / schedule> \nRegistration / 13:00-16:30 \n<参加費 / Fees>\nEntry / ¥4\,900\nChips / 15\,000 \nRe-Entry / ¥4\,900\nChips / 15\,000 \nRe-buy or Add-on / ¥2\,300\nChips / 15\,000 \nGame / No Limit Hold’em \n<プライズ / Prize>\n保証 / 2(10エントリー以上で2位に2枚追加) Tickets\n配分 / 1位 : 2 Tickets – 2位 : 2 Tickets – 3位 : 0 Ticket – 4位 : 0 Ticket – 5位 : 0 Ticket \n“Note : 1テーブル\n1レベル以内着席でアドオン無料”
URL:https://japanopenpoker.com/satellite/%e6%96%b0%e5%ae%bf%e3%83%8d%e3%82%aa%e3%83%91%e3%83%a9%e3%83%8f-2-22/2025-10-26/
CATEGORIES:2026 JOPT Tokyo #01
END:VEVENT
BEGIN:VEVENT
DTSTART;TZID=Asia/Tokyo:20251026T131000
DTEND;TZID=Asia/Tokyo:20251026T171000
DTSTAMP:20260424T073237
CREATED:20251014T064006Z
LAST-MODIFIED:20251014T064006Z
UID:10014640-1761484200-1761498600@japanopenpoker.com
SUMMARY:池袋リレイズ (7)
DESCRIPTION:<スケジュール / schedule> \nRegistration / 13:10-17:10 \n<参加費 / Fees>\nEntry / 6000円\nChips / 15\,000 \nRe-Entry / 4000円\nChips / 15\,000 \nRe-buy or Add-on / 2000円\nChips / 15\,000 \nGame / No Limit Hold’em \n<プライズ / Prize>\n保証 / 7 Tickets\n配分 / 1位 : 3 Tickets – 2位 : 3 Tickets – 3位 : 1 Ticket – 4位 : 0 Ticket – 5位 : 0 Ticket \nNote :
URL:https://japanopenpoker.com/satellite/%e6%b1%a0%e8%a2%8b%e3%83%aa%e3%83%ac%e3%82%a4%e3%82%ba-7-4/2025-10-26/
CATEGORIES:2026 JOPT Tokyo #01
END:VEVENT
BEGIN:VEVENT
DTSTART;TZID=Asia/Tokyo:20251026T133000
DTEND;TZID=Asia/Tokyo:20251026T180000
DTSTAMP:20260424T073237
CREATED:20251014T063420Z
LAST-MODIFIED:20251014T063717Z
UID:10014564-1761485400-1761501600@japanopenpoker.com
SUMMARY:葛西H3AL (9)
DESCRIPTION:<スケジュール / schedule> \nRegistration / 13:30-18:00 \n<参加費 / Fees>\nEntry / ¥8\,000\nChips / 40\,000 \nRe-Entry / ¥5\,000\nChips / 40\,000 \nRe-buy or Add-on / ¥0\nChips / 0 \nGame / No Limit Hold’em \n<プライズ / Prize>\n保証 / 9 Tickets\n配分 / 1位 : 3 Tickets – 2位 : 3 Tickets – 3位 : 3 Tickets – 4位 : 0 Ticket – 5位 : 0 Ticket \nNote :
URL:https://japanopenpoker.com/satellite/%e8%91%9b%e8%a5%bfh3al-9-6/2025-10-26/
CATEGORIES:2026 JOPT Tokyo #01
END:VEVENT
END:VCALENDAR