BEGIN:VCALENDAR
VERSION:2.0
PRODID:-//Japan Open Poker Tour - ECPv6.9.0//NONSGML v1.0//EN
CALSCALE:GREGORIAN
METHOD:PUBLISH
X-WR-CALNAME:Japan Open Poker Tour
X-ORIGINAL-URL:https://japanopenpoker.com
X-WR-CALDESC:Japan Open Poker Tour のイベント
REFRESH-INTERVAL;VALUE=DURATION:PT1H
X-Robots-Tag:noindex
X-PUBLISHED-TTL:PT1H
BEGIN:VTIMEZONE
TZID:Asia/Tokyo
BEGIN:STANDARD
TZOFFSETFROM:+0900
TZOFFSETTO:+0900
TZNAME:JST
DTSTART:20250101T000000
END:STANDARD
END:VTIMEZONE
BEGIN:VEVENT
DTSTART;TZID=Asia/Tokyo:20251024T143000
DTEND;TZID=Asia/Tokyo:20251024T170000
DTSTAMP:20260424T085315
CREATED:20251014T063859Z
LAST-MODIFIED:20251014T063859Z
UID:10014637-1761316200-1761325200@japanopenpoker.com
SUMMARY:池袋リレイズ (3)
DESCRIPTION:<スケジュール / schedule> \nRegistration / 14:30-17:00 \n<参加費 / Fees>\nEntry / 4000円\nChips / 15\,000 \nRe-Entry / 4000円\nChips / 15\,000 \nRe-buy or Add-on / 2000円\nChips / 15\,000 \nGame / No Limit Hold’em \n<プライズ / Prize>\n保証 / 3 Tickets\n配分 / 1位 : 3 Tickets – 2位 : 0 Ticket – 3位 : 0 Ticket – 4位 : 0 Ticket – 5位 : 0 Ticket \nNote :
URL:https://japanopenpoker.com/satellite/%e6%b1%a0%e8%a2%8b%e3%83%aa%e3%83%ac%e3%82%a4%e3%82%ba-3-5/2025-10-24/
CATEGORIES:2026 JOPT Tokyo #01
END:VEVENT
BEGIN:VEVENT
DTSTART;TZID=Asia/Tokyo:20251024T160000
DTEND;TZID=Asia/Tokyo:20251024T173000
DTSTAMP:20260424T085315
CREATED:20251016T023602Z
LAST-MODIFIED:20251016T023602Z
UID:10014650-1761321600-1761327000@japanopenpoker.com
SUMMARY:EGP EBISU (1)
DESCRIPTION:EGP EBISU (1) \n<スケジュール / schedule> \nRegistration / 16:00-17:30 \n<参加費 / Fees>\nEntry / ¥1\,000\nChips / 10\,000 \nRe-Entry / ¥1\,000\nChips / 10\,000 \nRe-buy or Add-on / ¥1\,000\nChips / 20\,000 \nGame / No Limit Hold’em \n<プライズ / Prize>\n保証 / 1 Tickets\n配分 / 1位 : 1 Ticket – 2位 : 0 Ticket – 3位 : 0 Ticket – 4位 : 0 Ticket – 5位 : 0 Ticket \nNote :
URL:https://japanopenpoker.com/satellite/egp-ebisu-1-11/2025-10-24/
CATEGORIES:2026 JOPT Tokyo #01
END:VEVENT
BEGIN:VEVENT
DTSTART;TZID=Asia/Tokyo:20251024T173000
DTEND;TZID=Asia/Tokyo:20251024T205000
DTSTAMP:20260424T085315
CREATED:20251017T043620Z
LAST-MODIFIED:20251017T043620Z
UID:10014696-1761327000-1761339000@japanopenpoker.com
SUMMARY:KKLIVE POKER SHIBUYA (21)
DESCRIPTION:KKLIVE POKER SHIBUYA (21) \n<スケジュール / schedule> \nRegistration / 17:30-20:50 \n<参加費 / Fees>\nEntry / ¥8\,000\nChips / 25\,000 \nRe-Entry / ¥8\,000\nChips / 25\,000 \nRe-buy or Add-on / ¥2\,000\nChips / 25\,000 \nGame / No Limit Hold’em \n<プライズ / Prize>\n保証 / 21 Tickets\n配分 / 1位 : 3 Tickets – 2位 : 3 Tickets – 3位 : 3 Tickets – 4位 : 3 Tickets – 5位 : 3 Tickets \n“Note : 1位-7位\nJOPT Ticket 3枠”
URL:https://japanopenpoker.com/satellite/kklive-poker-shibuya-21-9/2025-10-24/
CATEGORIES:2026 JOPT Tokyo #01
END:VEVENT
BEGIN:VEVENT
DTSTART;TZID=Asia/Tokyo:20251024T203000
DTEND;TZID=Asia/Tokyo:20251024T223000
DTSTAMP:20260424T085315
CREATED:20251023T044736Z
LAST-MODIFIED:20251023T044736Z
UID:10014747-1761337800-1761345000@japanopenpoker.com
SUMMARY:Pokerbarspace浜松 (1+)
DESCRIPTION:Pokerbarspace浜松 (1+) \n<スケジュール / schedule> \nRegistration / 20:30-22:30 \n<参加費 / Fees>\nEntry / ¥3\,000\nChips / 12\,000 \nRe-Entry / ¥3\,000\nChips / 12\,000 \nRe-buy or Add-on / ¥1\,000\nChips / 12\,000 \nGame / No Limit Hold’em \n<プライズ / Prize>\n保証 / 1 Tickets\n配分 / 1位 : 1 Ticket – 2位 : 0 Ticket – 3位 : 0 Ticket – 4位 : 0 Ticket – 5位 : 0 Ticket \nNote : エントリー人数に応じて追加
URL:https://japanopenpoker.com/satellite/pokerbarspace%e6%b5%9c%e6%9d%be-1/2025-10-24/
CATEGORIES:2026 JOPT Tokyo #01
END:VEVENT
END:VCALENDAR