BEGIN:VCALENDAR
VERSION:2.0
PRODID:-//Japan Open Poker Tour - ECPv6.9.0//NONSGML v1.0//EN
CALSCALE:GREGORIAN
METHOD:PUBLISH
X-ORIGINAL-URL:https://japanopenpoker.com
X-WR-CALDESC:Japan Open Poker Tour のイベント
REFRESH-INTERVAL;VALUE=DURATION:PT1H
X-Robots-Tag:noindex
X-PUBLISHED-TTL:PT1H
BEGIN:VTIMEZONE
TZID:Asia/Tokyo
BEGIN:STANDARD
TZOFFSETFROM:+0900
TZOFFSETTO:+0900
TZNAME:JST
DTSTART:20250101T000000
END:STANDARD
END:VTIMEZONE
BEGIN:VEVENT
DTSTART;TZID=Asia/Tokyo:20251022T160000
DTEND;TZID=Asia/Tokyo:20251022T173000
DTSTAMP:20260424T085423
CREATED:20251016T023602Z
LAST-MODIFIED:20251016T023602Z
UID:10014648-1761148800-1761154200@japanopenpoker.com
SUMMARY:EGP EBISU (1)
DESCRIPTION:EGP EBISU (1) \n<スケジュール / schedule> \nRegistration / 16:00-17:30 \n<参加費 / Fees>\nEntry / ¥1\,000\nChips / 10\,000 \nRe-Entry / ¥1\,000\nChips / 10\,000 \nRe-buy or Add-on / ¥1\,000\nChips / 20\,000 \nGame / No Limit Hold’em \n<プライズ / Prize>\n保証 / 1 Tickets\n配分 / 1位 : 1 Ticket – 2位 : 0 Ticket – 3位 : 0 Ticket – 4位 : 0 Ticket – 5位 : 0 Ticket \nNote :
URL:https://japanopenpoker.com/satellite/egp-ebisu-1-11/2025-10-22/
CATEGORIES:2026 JOPT Tokyo #01
END:VEVENT
BEGIN:VEVENT
DTSTART;TZID=Asia/Tokyo:20251022T180000
DTEND;TZID=Asia/Tokyo:20251022T205500
DTSTAMP:20260424T085423
CREATED:20251014T062005Z
LAST-MODIFIED:20251021T074631Z
UID:10014537-1761156000-1761166500@japanopenpoker.com
SUMMARY:KKLIVE POKER SHINJUKU (上位20%3チケット)
DESCRIPTION:<スケジュール / schedule> \nRegistration / 18:00-20:55 \n<参加費 / Fees>\nEntry / ¥13\,000\nChips / 30\,000 \nRe-Entry / ¥13\,000\nChips / ¥30\,000 \nRe-buy or Add-on / なし\nChips / なし \nGame / No Limit Hold’em \n<プライズ / Prize>\n保証 / 上位20%3ticket補償 Tickets\n配分 / 1位 : 3 Tickets – 2位 : 3 Tickets – 3位 : 3 Tickets – 4位 : 3 Tickets – 5位 : 3 Tickets \nNote :
URL:https://japanopenpoker.com/satellite/kklive-poker-shinjuku-15-5/2025-10-22/
CATEGORIES:2026 JOPT Tokyo #01
END:VEVENT
END:VCALENDAR