BEGIN:VCALENDAR
VERSION:2.0
PRODID:-//Japan Open Poker Tour - ECPv6.9.0//NONSGML v1.0//EN
CALSCALE:GREGORIAN
METHOD:PUBLISH
X-ORIGINAL-URL:https://japanopenpoker.com
X-WR-CALDESC:Japan Open Poker Tour のイベント
REFRESH-INTERVAL;VALUE=DURATION:PT1H
X-Robots-Tag:noindex
X-PUBLISHED-TTL:PT1H
BEGIN:VTIMEZONE
TZID:Asia/Tokyo
BEGIN:STANDARD
TZOFFSETFROM:+0900
TZOFFSETTO:+0900
TZNAME:JST
DTSTART:20250101T000000
END:STANDARD
END:VTIMEZONE
BEGIN:VEVENT
DTSTART;TZID=Asia/Tokyo:20251018T130000
DTEND;TZID=Asia/Tokyo:20251018T163000
DTSTAMP:20260424T085423
CREATED:20251016T022345Z
LAST-MODIFIED:20251016T022345Z
UID:10014641-1760792400-1760805000@japanopenpoker.com
SUMMARY:新宿ネオパラハ (2+)
DESCRIPTION:新宿ネオパラハ (2(10エントリー以上で2位に2枚追加)) \n<スケジュール / schedule> \nRegistration / 13:00-16:30 \n<参加費 / Fees>\nEntry / ¥4\,900\nChips / 15\,000 \nRe-Entry / ¥4\,900\nChips / 15\,000 \nRe-buy or Add-on / ¥2\,300\nChips / 15\,000 \nGame / No Limit Hold’em \n<プライズ / Prize>\n保証 / 2(10エントリー以上で2位に2枚追加) Tickets\n配分 / 1位 : 2 Tickets – 2位 : 2 Tickets – 3位 : 0 Ticket – 4位 : 0 Ticket – 5位 : 0 Ticket \n“Note : 1テーブル\n1レベル以内着席でアドオン無料”
URL:https://japanopenpoker.com/satellite/%e6%96%b0%e5%ae%bf%e3%83%8d%e3%82%aa%e3%83%91%e3%83%a9%e3%83%8f-2-22/2025-10-18/
CATEGORIES:2026 JOPT Tokyo #01
END:VEVENT
BEGIN:VEVENT
DTSTART;TZID=Asia/Tokyo:20251018T133000
DTEND;TZID=Asia/Tokyo:20251018T180000
DTSTAMP:20260424T085423
CREATED:20251020T014821Z
LAST-MODIFIED:20251020T014822Z
UID:10014725-1760794200-1760810400@japanopenpoker.com
SUMMARY:津田沼POM (9)
DESCRIPTION:津田沼POM (9) \n<スケジュール / schedule> \nRegistration / 13:30-18:00 \n<参加費 / Fees>\nEntry / ¥8000\nChips / 40\,000 \nRe-Entry / ¥5\,000\nChips / 40\,000 \nRe-buy or Add-on / 無し\nChips / 無し \nGame / No Limit Hold’em \n<プライズ / Prize>\n保証 / 9 Tickets\n配分 / 1位 : 3 Tickets – 2位 : 3 Tickets – 3位 : 3 Tickets – 4位 : 0 Ticket – 5位 : 0 Ticket \nNote :
URL:https://japanopenpoker.com/satellite/%e6%b4%a5%e7%94%b0%e6%b2%bcpom-9-6/2025-10-18/
CATEGORIES:2026 JOPT Tokyo #01
END:VEVENT
BEGIN:VEVENT
DTSTART;TZID=Asia/Tokyo:20251018T140000
DTEND;TZID=Asia/Tokyo:20251018T190000
DTSTAMP:20260424T085423
CREATED:20251014T063804Z
LAST-MODIFIED:20251014T063804Z
UID:10014635-1760796000-1760814000@japanopenpoker.com
SUMMARY:我龍ポーカースタジアム。 (6)
DESCRIPTION:<スケジュール / schedule> \nRegistration / 14:00-19:00 \n<参加費 / Fees>\nEntry / ¥6\,000\nChips / 40\,000 \nRe-Entry / ¥5\,000\nChips / 40\,000 \nRe-buy or Add-on / ¥2\,000\nChips / 20\,000 \nGame / No Limit Hold’em \n<プライズ / Prize>\n保証 / 6 Tickets\n配分 / 1位 : 3 Tickets – 2位 : 2 Tickets – 3位 : 1 Ticket – 4位 : 0 Ticket – 5位 : 0 Ticket \nNote :
URL:https://japanopenpoker.com/satellite/%e6%88%91%e9%be%8d%e3%83%9d%e3%83%bc%e3%82%ab%e3%83%bc%e3%82%b9%e3%82%bf%e3%82%b8%e3%82%a2%e3%83%a0%e3%80%82-6-8/
CATEGORIES:2026 JOPT Tokyo #01
END:VEVENT
END:VCALENDAR