BEGIN:VCALENDAR
VERSION:2.0
PRODID:-//Japan Open Poker Tour - ECPv6.9.0//NONSGML v1.0//EN
CALSCALE:GREGORIAN
METHOD:PUBLISH
X-ORIGINAL-URL:https://japanopenpoker.com
X-WR-CALDESC:Japan Open Poker Tour のイベント
REFRESH-INTERVAL;VALUE=DURATION:PT1H
X-Robots-Tag:noindex
X-PUBLISHED-TTL:PT1H
BEGIN:VTIMEZONE
TZID:Asia/Tokyo
BEGIN:STANDARD
TZOFFSETFROM:+0900
TZOFFSETTO:+0900
TZNAME:JST
DTSTART:20250101T000000
END:STANDARD
END:VTIMEZONE
BEGIN:VEVENT
DTSTART;TZID=Asia/Tokyo:20251014T174500
DTEND;TZID=Asia/Tokyo:20251014T205500
DTSTAMP:20260424T085346
CREATED:20251014T063606Z
LAST-MODIFIED:20251201T041103Z
UID:10014624-1760463900-1760475300@japanopenpoker.com
SUMMARY:GoodGame Poker Live SHINJUKU (15)
DESCRIPTION:<スケジュール / schedule> \nRegistration / 17:45-20:55 \n<参加費 / Fees>\nEntry / ¥5\,000\nChips / 15\,000 \nRe-Entry / ¥5\,000\nChips / 15\,000 \nRe-buy or Add-on / ¥2\,000\nChips / 15\,000 \nGame / No Limit Hold’em \n<プライズ / Prize>\n保証 / 15 Tickets\n配分 / 1位 : 3 Tickets – 2位 : 3 Tickets – 3位 : 3 Tickets – 4位 : 3 Tickets – 5位 : 3 Tickets \nNote :
URL:https://japanopenpoker.com/satellite/goodgame-poker-live-shinjuku-15-14/2025-10-14/
CATEGORIES:2026 JOPT Tokyo #01
END:VEVENT
END:VCALENDAR