BEGIN:VCALENDAR
VERSION:2.0
PRODID:-//Japan Open Poker Tour - ECPv6.9.0//NONSGML v1.0//EN
CALSCALE:GREGORIAN
METHOD:PUBLISH
X-WR-CALNAME:Japan Open Poker Tour
X-ORIGINAL-URL:https://japanopenpoker.com
X-WR-CALDESC:Japan Open Poker Tour のイベント
REFRESH-INTERVAL;VALUE=DURATION:PT1H
X-Robots-Tag:noindex
X-PUBLISHED-TTL:PT1H
BEGIN:VTIMEZONE
TZID:Asia/Tokyo
BEGIN:STANDARD
TZOFFSETFROM:+0900
TZOFFSETTO:+0900
TZNAME:JST
DTSTART:20250101T000000
END:STANDARD
END:VTIMEZONE
BEGIN:VEVENT
DTSTART;TZID=Asia/Tokyo:20251020T160000
DTEND;TZID=Asia/Tokyo:20251020T173000
DTSTAMP:20260424T085555
CREATED:20251016T023602Z
LAST-MODIFIED:20251016T023602Z
UID:10014646-1760976000-1760981400@japanopenpoker.com
SUMMARY:EGP EBISU (1)
DESCRIPTION:EGP EBISU (1) \n<スケジュール / schedule> \nRegistration / 16:00-17:30 \n<参加費 / Fees>\nEntry / ¥1\,000\nChips / 10\,000 \nRe-Entry / ¥1\,000\nChips / 10\,000 \nRe-buy or Add-on / ¥1\,000\nChips / 20\,000 \nGame / No Limit Hold’em \n<プライズ / Prize>\n保証 / 1 Tickets\n配分 / 1位 : 1 Ticket – 2位 : 0 Ticket – 3位 : 0 Ticket – 4位 : 0 Ticket – 5位 : 0 Ticket \nNote :
URL:https://japanopenpoker.com/satellite/egp-ebisu-1-11/2025-10-20/
CATEGORIES:2026 JOPT Tokyo #01
END:VEVENT
BEGIN:VEVENT
DTSTART;TZID=Asia/Tokyo:20251020T180000
DTEND;TZID=Asia/Tokyo:20251020T205000
DTSTAMP:20260424T085555
CREATED:20251014T062548Z
LAST-MODIFIED:20251014T062548Z
UID:10014547-1760983200-1760993400@japanopenpoker.com
SUMMARY:Casino Live Tokyo (15)
DESCRIPTION:<スケジュール / schedule> \nRegistration / 18:00-20:50 \n<参加費 / Fees>\nEntry / ¥5\,000\nChips / 15\,000 \nRe-Entry / ¥5\,000\nChips / 15\,000 \nRe-buy or Add-on / ¥2\,000\nChips / 15\,000 \nGame / No Limit Hold’em \n<プライズ / Prize>\n保証 / 15 Tickets\n配分 / 1位 : 3 Tickets – 2位 : 3 Tickets – 3位 : 3 Tickets – 4位 : 3 Tickets – 5位 : 3 Tickets \nNote :
URL:https://japanopenpoker.com/satellite/casino-live-tokyo-15-29/2025-10-20/
CATEGORIES:2026 JOPT Tokyo #01
END:VEVENT
BEGIN:VEVENT
DTSTART;TZID=Asia/Tokyo:20251021T160000
DTEND;TZID=Asia/Tokyo:20251021T173000
DTSTAMP:20260424T085555
CREATED:20251016T023602Z
LAST-MODIFIED:20251016T023602Z
UID:10014647-1761062400-1761067800@japanopenpoker.com
SUMMARY:EGP EBISU (1)
DESCRIPTION:EGP EBISU (1) \n<スケジュール / schedule> \nRegistration / 16:00-17:30 \n<参加費 / Fees>\nEntry / ¥1\,000\nChips / 10\,000 \nRe-Entry / ¥1\,000\nChips / 10\,000 \nRe-buy or Add-on / ¥1\,000\nChips / 20\,000 \nGame / No Limit Hold’em \n<プライズ / Prize>\n保証 / 1 Tickets\n配分 / 1位 : 1 Ticket – 2位 : 0 Ticket – 3位 : 0 Ticket – 4位 : 0 Ticket – 5位 : 0 Ticket \nNote :
URL:https://japanopenpoker.com/satellite/egp-ebisu-1-11/2025-10-21/
CATEGORIES:2026 JOPT Tokyo #01
END:VEVENT
BEGIN:VEVENT
DTSTART;TZID=Asia/Tokyo:20251021T174500
DTEND;TZID=Asia/Tokyo:20251021T205500
DTSTAMP:20260424T085555
CREATED:20251014T063606Z
LAST-MODIFIED:20251201T041103Z
UID:10014625-1761068700-1761080100@japanopenpoker.com
SUMMARY:GoodGame Poker Live SHINJUKU (15)
DESCRIPTION:<スケジュール / schedule> \nRegistration / 17:45-20:55 \n<参加費 / Fees>\nEntry / ¥5\,000\nChips / 15\,000 \nRe-Entry / ¥5\,000\nChips / 15\,000 \nRe-buy or Add-on / ¥2\,000\nChips / 15\,000 \nGame / No Limit Hold’em \n<プライズ / Prize>\n保証 / 15 Tickets\n配分 / 1位 : 3 Tickets – 2位 : 3 Tickets – 3位 : 3 Tickets – 4位 : 3 Tickets – 5位 : 3 Tickets \nNote :
URL:https://japanopenpoker.com/satellite/goodgame-poker-live-shinjuku-15-14/2025-10-21/
CATEGORIES:2026 JOPT Tokyo #01
END:VEVENT
BEGIN:VEVENT
DTSTART;TZID=Asia/Tokyo:20251021T203000
DTEND;TZID=Asia/Tokyo:20251021T223000
DTSTAMP:20260424T085555
CREATED:20251023T044736Z
LAST-MODIFIED:20251023T044736Z
UID:10014746-1761078600-1761085800@japanopenpoker.com
SUMMARY:Pokerbarspace浜松 (1+)
DESCRIPTION:Pokerbarspace浜松 (1+) \n<スケジュール / schedule> \nRegistration / 20:30-22:30 \n<参加費 / Fees>\nEntry / ¥3\,000\nChips / 12\,000 \nRe-Entry / ¥3\,000\nChips / 12\,000 \nRe-buy or Add-on / ¥1\,000\nChips / 12\,000 \nGame / No Limit Hold’em \n<プライズ / Prize>\n保証 / 1 Tickets\n配分 / 1位 : 1 Ticket – 2位 : 0 Ticket – 3位 : 0 Ticket – 4位 : 0 Ticket – 5位 : 0 Ticket \nNote : エントリー人数に応じて追加
URL:https://japanopenpoker.com/satellite/pokerbarspace%e6%b5%9c%e6%9d%be-1/2025-10-21/
CATEGORIES:2026 JOPT Tokyo #01
END:VEVENT
BEGIN:VEVENT
DTSTART;TZID=Asia/Tokyo:20251022T160000
DTEND;TZID=Asia/Tokyo:20251022T173000
DTSTAMP:20260424T085555
CREATED:20251016T023602Z
LAST-MODIFIED:20251016T023602Z
UID:10014648-1761148800-1761154200@japanopenpoker.com
SUMMARY:EGP EBISU (1)
DESCRIPTION:EGP EBISU (1) \n<スケジュール / schedule> \nRegistration / 16:00-17:30 \n<参加費 / Fees>\nEntry / ¥1\,000\nChips / 10\,000 \nRe-Entry / ¥1\,000\nChips / 10\,000 \nRe-buy or Add-on / ¥1\,000\nChips / 20\,000 \nGame / No Limit Hold’em \n<プライズ / Prize>\n保証 / 1 Tickets\n配分 / 1位 : 1 Ticket – 2位 : 0 Ticket – 3位 : 0 Ticket – 4位 : 0 Ticket – 5位 : 0 Ticket \nNote :
URL:https://japanopenpoker.com/satellite/egp-ebisu-1-11/2025-10-22/
CATEGORIES:2026 JOPT Tokyo #01
END:VEVENT
BEGIN:VEVENT
DTSTART;TZID=Asia/Tokyo:20251022T180000
DTEND;TZID=Asia/Tokyo:20251022T205500
DTSTAMP:20260424T085555
CREATED:20251014T062005Z
LAST-MODIFIED:20251021T074631Z
UID:10014537-1761156000-1761166500@japanopenpoker.com
SUMMARY:KKLIVE POKER SHINJUKU (上位20%3チケット)
DESCRIPTION:<スケジュール / schedule> \nRegistration / 18:00-20:55 \n<参加費 / Fees>\nEntry / ¥13\,000\nChips / 30\,000 \nRe-Entry / ¥13\,000\nChips / ¥30\,000 \nRe-buy or Add-on / なし\nChips / なし \nGame / No Limit Hold’em \n<プライズ / Prize>\n保証 / 上位20%3ticket補償 Tickets\n配分 / 1位 : 3 Tickets – 2位 : 3 Tickets – 3位 : 3 Tickets – 4位 : 3 Tickets – 5位 : 3 Tickets \nNote :
URL:https://japanopenpoker.com/satellite/kklive-poker-shinjuku-15-5/2025-10-22/
CATEGORIES:2026 JOPT Tokyo #01
END:VEVENT
BEGIN:VEVENT
DTSTART;TZID=Asia/Tokyo:20251023T160000
DTEND;TZID=Asia/Tokyo:20251023T173000
DTSTAMP:20260424T085555
CREATED:20251016T023602Z
LAST-MODIFIED:20251016T023602Z
UID:10014649-1761235200-1761240600@japanopenpoker.com
SUMMARY:EGP EBISU (1)
DESCRIPTION:EGP EBISU (1) \n<スケジュール / schedule> \nRegistration / 16:00-17:30 \n<参加費 / Fees>\nEntry / ¥1\,000\nChips / 10\,000 \nRe-Entry / ¥1\,000\nChips / 10\,000 \nRe-buy or Add-on / ¥1\,000\nChips / 20\,000 \nGame / No Limit Hold’em \n<プライズ / Prize>\n保証 / 1 Tickets\n配分 / 1位 : 1 Ticket – 2位 : 0 Ticket – 3位 : 0 Ticket – 4位 : 0 Ticket – 5位 : 0 Ticket \nNote :
URL:https://japanopenpoker.com/satellite/egp-ebisu-1-11/2025-10-23/
CATEGORIES:2026 JOPT Tokyo #01
END:VEVENT
BEGIN:VEVENT
DTSTART;TZID=Asia/Tokyo:20251023T180000
DTEND;TZID=Asia/Tokyo:20251023T213000
DTSTAMP:20260424T085555
CREATED:20251020T015146Z
LAST-MODIFIED:20251020T015146Z
UID:10014733-1761242400-1761255000@japanopenpoker.com
SUMMARY:ENPOKER町田 (6)
DESCRIPTION:ENPOKER町田 (6) \n<スケジュール / schedule> \nRegistration / 18:00-21:30 \n<参加費 / Fees>\nEntry / ¥4\,500\nChips / 40\,000 \nRe-Entry / ¥4\,500\nChips / 40\,000 \nRe-buy or Add-on / なし\nChips / なし \nGame / No Limit Hold’em \n<プライズ / Prize>\n保証 / 6 Tickets\n配分 / 1位 : 2 Tickets – 2位 : 2 Tickets – 3位 : 2 Tickets – 4位 : 0 Ticket – 5位 : 0 Ticket \nNote :
URL:https://japanopenpoker.com/satellite/enpoker%e7%94%ba%e7%94%b0-6-18/2025-10-23/
CATEGORIES:2026 JOPT Tokyo #01
END:VEVENT
BEGIN:VEVENT
DTSTART;TZID=Asia/Tokyo:20251024T143000
DTEND;TZID=Asia/Tokyo:20251024T170000
DTSTAMP:20260424T085555
CREATED:20251014T063859Z
LAST-MODIFIED:20251014T063859Z
UID:10014637-1761316200-1761325200@japanopenpoker.com
SUMMARY:池袋リレイズ (3)
DESCRIPTION:<スケジュール / schedule> \nRegistration / 14:30-17:00 \n<参加費 / Fees>\nEntry / 4000円\nChips / 15\,000 \nRe-Entry / 4000円\nChips / 15\,000 \nRe-buy or Add-on / 2000円\nChips / 15\,000 \nGame / No Limit Hold’em \n<プライズ / Prize>\n保証 / 3 Tickets\n配分 / 1位 : 3 Tickets – 2位 : 0 Ticket – 3位 : 0 Ticket – 4位 : 0 Ticket – 5位 : 0 Ticket \nNote :
URL:https://japanopenpoker.com/satellite/%e6%b1%a0%e8%a2%8b%e3%83%aa%e3%83%ac%e3%82%a4%e3%82%ba-3-5/2025-10-24/
CATEGORIES:2026 JOPT Tokyo #01
END:VEVENT
BEGIN:VEVENT
DTSTART;TZID=Asia/Tokyo:20251024T160000
DTEND;TZID=Asia/Tokyo:20251024T173000
DTSTAMP:20260424T085555
CREATED:20251016T023602Z
LAST-MODIFIED:20251016T023602Z
UID:10014650-1761321600-1761327000@japanopenpoker.com
SUMMARY:EGP EBISU (1)
DESCRIPTION:EGP EBISU (1) \n<スケジュール / schedule> \nRegistration / 16:00-17:30 \n<参加費 / Fees>\nEntry / ¥1\,000\nChips / 10\,000 \nRe-Entry / ¥1\,000\nChips / 10\,000 \nRe-buy or Add-on / ¥1\,000\nChips / 20\,000 \nGame / No Limit Hold’em \n<プライズ / Prize>\n保証 / 1 Tickets\n配分 / 1位 : 1 Ticket – 2位 : 0 Ticket – 3位 : 0 Ticket – 4位 : 0 Ticket – 5位 : 0 Ticket \nNote :
URL:https://japanopenpoker.com/satellite/egp-ebisu-1-11/2025-10-24/
CATEGORIES:2026 JOPT Tokyo #01
END:VEVENT
BEGIN:VEVENT
DTSTART;TZID=Asia/Tokyo:20251024T173000
DTEND;TZID=Asia/Tokyo:20251024T205000
DTSTAMP:20260424T085555
CREATED:20251017T043620Z
LAST-MODIFIED:20251017T043620Z
UID:10014696-1761327000-1761339000@japanopenpoker.com
SUMMARY:KKLIVE POKER SHIBUYA (21)
DESCRIPTION:KKLIVE POKER SHIBUYA (21) \n<スケジュール / schedule> \nRegistration / 17:30-20:50 \n<参加費 / Fees>\nEntry / ¥8\,000\nChips / 25\,000 \nRe-Entry / ¥8\,000\nChips / 25\,000 \nRe-buy or Add-on / ¥2\,000\nChips / 25\,000 \nGame / No Limit Hold’em \n<プライズ / Prize>\n保証 / 21 Tickets\n配分 / 1位 : 3 Tickets – 2位 : 3 Tickets – 3位 : 3 Tickets – 4位 : 3 Tickets – 5位 : 3 Tickets \n“Note : 1位-7位\nJOPT Ticket 3枠”
URL:https://japanopenpoker.com/satellite/kklive-poker-shibuya-21-9/2025-10-24/
CATEGORIES:2026 JOPT Tokyo #01
END:VEVENT
BEGIN:VEVENT
DTSTART;TZID=Asia/Tokyo:20251024T203000
DTEND;TZID=Asia/Tokyo:20251024T223000
DTSTAMP:20260424T085555
CREATED:20251023T044736Z
LAST-MODIFIED:20251023T044736Z
UID:10014747-1761337800-1761345000@japanopenpoker.com
SUMMARY:Pokerbarspace浜松 (1+)
DESCRIPTION:Pokerbarspace浜松 (1+) \n<スケジュール / schedule> \nRegistration / 20:30-22:30 \n<参加費 / Fees>\nEntry / ¥3\,000\nChips / 12\,000 \nRe-Entry / ¥3\,000\nChips / 12\,000 \nRe-buy or Add-on / ¥1\,000\nChips / 12\,000 \nGame / No Limit Hold’em \n<プライズ / Prize>\n保証 / 1 Tickets\n配分 / 1位 : 1 Ticket – 2位 : 0 Ticket – 3位 : 0 Ticket – 4位 : 0 Ticket – 5位 : 0 Ticket \nNote : エントリー人数に応じて追加
URL:https://japanopenpoker.com/satellite/pokerbarspace%e6%b5%9c%e6%9d%be-1/2025-10-24/
CATEGORIES:2026 JOPT Tokyo #01
END:VEVENT
BEGIN:VEVENT
DTSTART;TZID=Asia/Tokyo:20251025T130000
DTEND;TZID=Asia/Tokyo:20251025T163000
DTSTAMP:20260424T085555
CREATED:20251016T022345Z
LAST-MODIFIED:20251016T022345Z
UID:10014643-1761397200-1761409800@japanopenpoker.com
SUMMARY:新宿ネオパラハ (2+)
DESCRIPTION:新宿ネオパラハ (2(10エントリー以上で2位に2枚追加)) \n<スケジュール / schedule> \nRegistration / 13:00-16:30 \n<参加費 / Fees>\nEntry / ¥4\,900\nChips / 15\,000 \nRe-Entry / ¥4\,900\nChips / 15\,000 \nRe-buy or Add-on / ¥2\,300\nChips / 15\,000 \nGame / No Limit Hold’em \n<プライズ / Prize>\n保証 / 2(10エントリー以上で2位に2枚追加) Tickets\n配分 / 1位 : 2 Tickets – 2位 : 2 Tickets – 3位 : 0 Ticket – 4位 : 0 Ticket – 5位 : 0 Ticket \n“Note : 1テーブル\n1レベル以内着席でアドオン無料”
URL:https://japanopenpoker.com/satellite/%e6%96%b0%e5%ae%bf%e3%83%8d%e3%82%aa%e3%83%91%e3%83%a9%e3%83%8f-2-22/2025-10-25/
CATEGORIES:2026 JOPT Tokyo #01
END:VEVENT
BEGIN:VEVENT
DTSTART;TZID=Asia/Tokyo:20251025T133000
DTEND;TZID=Asia/Tokyo:20251025T170000
DTSTAMP:20260424T085555
CREATED:20251027T031222Z
LAST-MODIFIED:20251027T031222Z
UID:10014786-1761399000-1761411600@japanopenpoker.com
SUMMARY:D.D Poker高田馬場 (3+)
DESCRIPTION:D.D Poker高田馬場 (3（30エントリー以上で3位に1枚追加）) \n<スケジュール / schedule> \nRegistration / 13:30-17:00 \n<参加費 / Fees>\nEntry / 3\,300円\nChips / 25\,000 \nRe-Entry / 3\,300円\nChips / 25\,000 \nRe-buy or Add-on / ¥0\nChips / 0 \nGame / No Limit Hold’em \n<プライズ / Prize>\n保証 / 3（30エントリー以上で3位に1枚追加） Tickets\n配分 / 1位 : 2 Tickets – 2位 : 1 Ticket – 3位 : 0 Ticket – 4位 : 0 Ticket – 5位 : 0 Ticket \nNote :
URL:https://japanopenpoker.com/satellite/d-d-poker%e9%ab%98%e7%94%b0%e9%a6%ac%e5%a0%b4-3-9/2025-10-25/
CATEGORIES:2026 JOPT Tokyo #01
END:VEVENT
BEGIN:VEVENT
DTSTART;TZID=Asia/Tokyo:20251025T133000
DTEND;TZID=Asia/Tokyo:20251025T180000
DTSTAMP:20260424T085555
CREATED:20251020T014821Z
LAST-MODIFIED:20251020T014822Z
UID:10014726-1761399000-1761415200@japanopenpoker.com
SUMMARY:津田沼POM (9)
DESCRIPTION:津田沼POM (9) \n<スケジュール / schedule> \nRegistration / 13:30-18:00 \n<参加費 / Fees>\nEntry / ¥8000\nChips / 40\,000 \nRe-Entry / ¥5\,000\nChips / 40\,000 \nRe-buy or Add-on / 無し\nChips / 無し \nGame / No Limit Hold’em \n<プライズ / Prize>\n保証 / 9 Tickets\n配分 / 1位 : 3 Tickets – 2位 : 3 Tickets – 3位 : 3 Tickets – 4位 : 0 Ticket – 5位 : 0 Ticket \nNote :
URL:https://japanopenpoker.com/satellite/%e6%b4%a5%e7%94%b0%e6%b2%bcpom-9-6/2025-10-25/
CATEGORIES:2026 JOPT Tokyo #01
END:VEVENT
BEGIN:VEVENT
DTSTART;TZID=Asia/Tokyo:20251025T203000
DTEND;TZID=Asia/Tokyo:20251025T223000
DTSTAMP:20260424T085555
CREATED:20251023T044736Z
LAST-MODIFIED:20251023T044736Z
UID:10014748-1761424200-1761431400@japanopenpoker.com
SUMMARY:Pokerbarspace浜松 (1+)
DESCRIPTION:Pokerbarspace浜松 (1+) \n<スケジュール / schedule> \nRegistration / 20:30-22:30 \n<参加費 / Fees>\nEntry / ¥3\,000\nChips / 12\,000 \nRe-Entry / ¥3\,000\nChips / 12\,000 \nRe-buy or Add-on / ¥1\,000\nChips / 12\,000 \nGame / No Limit Hold’em \n<プライズ / Prize>\n保証 / 1 Tickets\n配分 / 1位 : 1 Ticket – 2位 : 0 Ticket – 3位 : 0 Ticket – 4位 : 0 Ticket – 5位 : 0 Ticket \nNote : エントリー人数に応じて追加
URL:https://japanopenpoker.com/satellite/pokerbarspace%e6%b5%9c%e6%9d%be-1/2025-10-25/
CATEGORIES:2026 JOPT Tokyo #01
END:VEVENT
BEGIN:VEVENT
DTSTART;TZID=Asia/Tokyo:20251026T130000
DTEND;TZID=Asia/Tokyo:20251026T163000
DTSTAMP:20260424T085555
CREATED:20251016T022345Z
LAST-MODIFIED:20251016T022345Z
UID:10014644-1761483600-1761496200@japanopenpoker.com
SUMMARY:新宿ネオパラハ (2+)
DESCRIPTION:新宿ネオパラハ (2(10エントリー以上で2位に2枚追加)) \n<スケジュール / schedule> \nRegistration / 13:00-16:30 \n<参加費 / Fees>\nEntry / ¥4\,900\nChips / 15\,000 \nRe-Entry / ¥4\,900\nChips / 15\,000 \nRe-buy or Add-on / ¥2\,300\nChips / 15\,000 \nGame / No Limit Hold’em \n<プライズ / Prize>\n保証 / 2(10エントリー以上で2位に2枚追加) Tickets\n配分 / 1位 : 2 Tickets – 2位 : 2 Tickets – 3位 : 0 Ticket – 4位 : 0 Ticket – 5位 : 0 Ticket \n“Note : 1テーブル\n1レベル以内着席でアドオン無料”
URL:https://japanopenpoker.com/satellite/%e6%96%b0%e5%ae%bf%e3%83%8d%e3%82%aa%e3%83%91%e3%83%a9%e3%83%8f-2-22/2025-10-26/
CATEGORIES:2026 JOPT Tokyo #01
END:VEVENT
BEGIN:VEVENT
DTSTART;TZID=Asia/Tokyo:20251026T131000
DTEND;TZID=Asia/Tokyo:20251026T171000
DTSTAMP:20260424T085555
CREATED:20251014T064006Z
LAST-MODIFIED:20251014T064006Z
UID:10014640-1761484200-1761498600@japanopenpoker.com
SUMMARY:池袋リレイズ (7)
DESCRIPTION:<スケジュール / schedule> \nRegistration / 13:10-17:10 \n<参加費 / Fees>\nEntry / 6000円\nChips / 15\,000 \nRe-Entry / 4000円\nChips / 15\,000 \nRe-buy or Add-on / 2000円\nChips / 15\,000 \nGame / No Limit Hold’em \n<プライズ / Prize>\n保証 / 7 Tickets\n配分 / 1位 : 3 Tickets – 2位 : 3 Tickets – 3位 : 1 Ticket – 4位 : 0 Ticket – 5位 : 0 Ticket \nNote :
URL:https://japanopenpoker.com/satellite/%e6%b1%a0%e8%a2%8b%e3%83%aa%e3%83%ac%e3%82%a4%e3%82%ba-7-4/2025-10-26/
CATEGORIES:2026 JOPT Tokyo #01
END:VEVENT
BEGIN:VEVENT
DTSTART;TZID=Asia/Tokyo:20251026T133000
DTEND;TZID=Asia/Tokyo:20251026T180000
DTSTAMP:20260424T085555
CREATED:20251014T063420Z
LAST-MODIFIED:20251014T063717Z
UID:10014564-1761485400-1761501600@japanopenpoker.com
SUMMARY:葛西H3AL (9)
DESCRIPTION:<スケジュール / schedule> \nRegistration / 13:30-18:00 \n<参加費 / Fees>\nEntry / ¥8\,000\nChips / 40\,000 \nRe-Entry / ¥5\,000\nChips / 40\,000 \nRe-buy or Add-on / ¥0\nChips / 0 \nGame / No Limit Hold’em \n<プライズ / Prize>\n保証 / 9 Tickets\n配分 / 1位 : 3 Tickets – 2位 : 3 Tickets – 3位 : 3 Tickets – 4位 : 0 Ticket – 5位 : 0 Ticket \nNote :
URL:https://japanopenpoker.com/satellite/%e8%91%9b%e8%a5%bfh3al-9-6/2025-10-26/
CATEGORIES:2026 JOPT Tokyo #01
END:VEVENT
BEGIN:VEVENT
DTSTART;TZID=Asia/Tokyo:20251027T160000
DTEND;TZID=Asia/Tokyo:20251027T173000
DTSTAMP:20260424T085555
CREATED:20251016T023602Z
LAST-MODIFIED:20251016T023602Z
UID:10014651-1761580800-1761586200@japanopenpoker.com
SUMMARY:EGP EBISU (1)
DESCRIPTION:EGP EBISU (1) \n<スケジュール / schedule> \nRegistration / 16:00-17:30 \n<参加費 / Fees>\nEntry / ¥1\,000\nChips / 10\,000 \nRe-Entry / ¥1\,000\nChips / 10\,000 \nRe-buy or Add-on / ¥1\,000\nChips / 20\,000 \nGame / No Limit Hold’em \n<プライズ / Prize>\n保証 / 1 Tickets\n配分 / 1位 : 1 Ticket – 2位 : 0 Ticket – 3位 : 0 Ticket – 4位 : 0 Ticket – 5位 : 0 Ticket \nNote :
URL:https://japanopenpoker.com/satellite/egp-ebisu-1-11/2025-10-27/
CATEGORIES:2026 JOPT Tokyo #01
END:VEVENT
BEGIN:VEVENT
DTSTART;TZID=Asia/Tokyo:20251027T180000
DTEND;TZID=Asia/Tokyo:20251027T205000
DTSTAMP:20260424T085555
CREATED:20251014T062548Z
LAST-MODIFIED:20251014T062548Z
UID:10014548-1761588000-1761598200@japanopenpoker.com
SUMMARY:Casino Live Tokyo (15)
DESCRIPTION:<スケジュール / schedule> \nRegistration / 18:00-20:50 \n<参加費 / Fees>\nEntry / ¥5\,000\nChips / 15\,000 \nRe-Entry / ¥5\,000\nChips / 15\,000 \nRe-buy or Add-on / ¥2\,000\nChips / 15\,000 \nGame / No Limit Hold’em \n<プライズ / Prize>\n保証 / 15 Tickets\n配分 / 1位 : 3 Tickets – 2位 : 3 Tickets – 3位 : 3 Tickets – 4位 : 3 Tickets – 5位 : 3 Tickets \nNote :
URL:https://japanopenpoker.com/satellite/casino-live-tokyo-15-29/2025-10-27/
CATEGORIES:2026 JOPT Tokyo #01
END:VEVENT
BEGIN:VEVENT
DTSTART;TZID=Asia/Tokyo:20251028T160000
DTEND;TZID=Asia/Tokyo:20251028T173000
DTSTAMP:20260424T085555
CREATED:20251016T023602Z
LAST-MODIFIED:20251016T023602Z
UID:10014652-1761667200-1761672600@japanopenpoker.com
SUMMARY:EGP EBISU (1)
DESCRIPTION:EGP EBISU (1) \n<スケジュール / schedule> \nRegistration / 16:00-17:30 \n<参加費 / Fees>\nEntry / ¥1\,000\nChips / 10\,000 \nRe-Entry / ¥1\,000\nChips / 10\,000 \nRe-buy or Add-on / ¥1\,000\nChips / 20\,000 \nGame / No Limit Hold’em \n<プライズ / Prize>\n保証 / 1 Tickets\n配分 / 1位 : 1 Ticket – 2位 : 0 Ticket – 3位 : 0 Ticket – 4位 : 0 Ticket – 5位 : 0 Ticket \nNote :
URL:https://japanopenpoker.com/satellite/egp-ebisu-1-11/2025-10-28/
CATEGORIES:2026 JOPT Tokyo #01
END:VEVENT
BEGIN:VEVENT
DTSTART;TZID=Asia/Tokyo:20251028T174500
DTEND;TZID=Asia/Tokyo:20251028T205500
DTSTAMP:20260424T085555
CREATED:20251014T063606Z
LAST-MODIFIED:20251201T041103Z
UID:10014626-1761673500-1761684900@japanopenpoker.com
SUMMARY:GoodGame Poker Live SHINJUKU (15)
DESCRIPTION:<スケジュール / schedule> \nRegistration / 17:45-20:55 \n<参加費 / Fees>\nEntry / ¥5\,000\nChips / 15\,000 \nRe-Entry / ¥5\,000\nChips / 15\,000 \nRe-buy or Add-on / ¥2\,000\nChips / 15\,000 \nGame / No Limit Hold’em \n<プライズ / Prize>\n保証 / 15 Tickets\n配分 / 1位 : 3 Tickets – 2位 : 3 Tickets – 3位 : 3 Tickets – 4位 : 3 Tickets – 5位 : 3 Tickets \nNote :
URL:https://japanopenpoker.com/satellite/goodgame-poker-live-shinjuku-15-14/2025-10-28/
CATEGORIES:2026 JOPT Tokyo #01
END:VEVENT
BEGIN:VEVENT
DTSTART;TZID=Asia/Tokyo:20251028T203000
DTEND;TZID=Asia/Tokyo:20251028T223000
DTSTAMP:20260424T085555
CREATED:20251023T044736Z
LAST-MODIFIED:20251023T044736Z
UID:10014749-1761683400-1761690600@japanopenpoker.com
SUMMARY:Pokerbarspace浜松 (1+)
DESCRIPTION:Pokerbarspace浜松 (1+) \n<スケジュール / schedule> \nRegistration / 20:30-22:30 \n<参加費 / Fees>\nEntry / ¥3\,000\nChips / 12\,000 \nRe-Entry / ¥3\,000\nChips / 12\,000 \nRe-buy or Add-on / ¥1\,000\nChips / 12\,000 \nGame / No Limit Hold’em \n<プライズ / Prize>\n保証 / 1 Tickets\n配分 / 1位 : 1 Ticket – 2位 : 0 Ticket – 3位 : 0 Ticket – 4位 : 0 Ticket – 5位 : 0 Ticket \nNote : エントリー人数に応じて追加
URL:https://japanopenpoker.com/satellite/pokerbarspace%e6%b5%9c%e6%9d%be-1/2025-10-28/
CATEGORIES:2026 JOPT Tokyo #01
END:VEVENT
BEGIN:VEVENT
DTSTART;TZID=Asia/Tokyo:20251029T160000
DTEND;TZID=Asia/Tokyo:20251029T173000
DTSTAMP:20260424T085555
CREATED:20251023T044910Z
LAST-MODIFIED:20251023T044910Z
UID:10014764-1761753600-1761759000@japanopenpoker.com
SUMMARY:EGP EBISU (1)
DESCRIPTION:EGP EBISU (1) \n<スケジュール / schedule> \nRegistration / 16:00-17:30 \n<参加費 / Fees>\nEntry / ¥1000\nChips / 10\,000 \nRe-Entry / ¥1\,000\nChips / 10\,000 \nRe-buy or Add-on / ¥1\,000\nChips / 20\,000 \nGame / No Limit Hold’em \n<プライズ / Prize>\n保証 / 1 Tickets\n配分 / 1位 : 1 Ticket – 2位 : 0 Ticket – 3位 : 0 Ticket – 4位 : 0 Ticket – 5位 : 0 Ticket \nNote :
URL:https://japanopenpoker.com/satellite/egp-ebisu-1-12/
CATEGORIES:2026 JOPT Tokyo #01
END:VEVENT
BEGIN:VEVENT
DTSTART;TZID=Asia/Tokyo:20251029T173000
DTEND;TZID=Asia/Tokyo:20251029T213000
DTSTAMP:20260424T085555
CREATED:20251028T094526Z
LAST-MODIFIED:20251028T094526Z
UID:10014806-1761759000-1761773400@japanopenpoker.com
SUMMARY:Giraffe蒲田 (4)
DESCRIPTION:Giraffe蒲田 (4) \n<スケジュール / schedule> \nRegistration / 17:30-21:30 \n<参加費 / Fees>\nEntry / ¥5\,500\nChips / 40\,000 \nRe-Entry / ¥5\,500\nChips / 40\,000 \nRe-buy or Add-on / ¥0\nChips / 0 \nGame / No Limit Hold’em \n<プライズ / Prize>\n保証 / 4 Tickets\n配分 / 1位 : 2 Tickets – 2位 : 2 Tickets – 3位 : 0 Ticket – 4位 : 0 Ticket – 5位 : 0 Ticket \nNote :
URL:https://japanopenpoker.com/satellite/giraffe%e8%92%b2%e7%94%b0-4/
CATEGORIES:2026 JOPT Tokyo #01
END:VEVENT
BEGIN:VEVENT
DTSTART;TZID=Asia/Tokyo:20251029T180000
DTEND;TZID=Asia/Tokyo:20251029T205500
DTSTAMP:20260424T085555
CREATED:20251014T062005Z
LAST-MODIFIED:20251021T074631Z
UID:10014538-1761760800-1761771300@japanopenpoker.com
SUMMARY:KKLIVE POKER SHINJUKU (上位20%3チケット)
DESCRIPTION:<スケジュール / schedule> \nRegistration / 18:00-20:55 \n<参加費 / Fees>\nEntry / ¥13\,000\nChips / 30\,000 \nRe-Entry / ¥13\,000\nChips / ¥30\,000 \nRe-buy or Add-on / なし\nChips / なし \nGame / No Limit Hold’em \n<プライズ / Prize>\n保証 / 上位20%3ticket補償 Tickets\n配分 / 1位 : 3 Tickets – 2位 : 3 Tickets – 3位 : 3 Tickets – 4位 : 3 Tickets – 5位 : 3 Tickets \nNote :
URL:https://japanopenpoker.com/satellite/kklive-poker-shinjuku-15-5/2025-10-29/
CATEGORIES:2026 JOPT Tokyo #01
END:VEVENT
BEGIN:VEVENT
DTSTART;TZID=Asia/Tokyo:20251029T180000
DTEND;TZID=Asia/Tokyo:20251029T213000
DTSTAMP:20260424T085555
CREATED:20251027T030914Z
LAST-MODIFIED:20251027T030914Z
UID:10014781-1761760800-1761773400@japanopenpoker.com
SUMMARY:D.D Poker高田馬場 (3+)
DESCRIPTION:D.D Poker高田馬場 (3（30エントリー以上で3位に1枚追加）) \n<スケジュール / schedule> \nRegistration / 18:00-21:30 \n<参加費 / Fees>\nEntry / 3\,300円\nChips / 25\,000 \nRe-Entry / 3\,300円\nChips / 25\,000 \nRe-buy or Add-on / ¥0\nChips / 0 \nGame / No Limit Hold’em \n<プライズ / Prize>\n保証 / 3（30エントリー以上で3位に1枚追加） Tickets\n配分 / 1位 : 2 Tickets – 2位 : 1 Ticket – 3位 : 0 Ticket – 4位 : 0 Ticket – 5位 : 0 Ticket \nNote :
URL:https://japanopenpoker.com/satellite/d-d-poker%e9%ab%98%e7%94%b0%e9%a6%ac%e5%a0%b4-3-8/2025-10-29/
CATEGORIES:2026 JOPT Tokyo #01
END:VEVENT
BEGIN:VEVENT
DTSTART;TZID=Asia/Tokyo:20251029T190000
DTEND;TZID=Asia/Tokyo:20251029T211000
DTSTAMP:20260424T085555
CREATED:20251025T011654Z
LAST-MODIFIED:20251025T011654Z
UID:10014773-1761764400-1761772200@japanopenpoker.com
SUMMARY:Jacks (1+)
DESCRIPTION:Jacks (1(7エントリー毎に1枚追加) \n<スケジュール / schedule> \nRegistration / 19:00-21:10 \n<参加費 / Fees>\nEntry / ¥3300\nChips / 30\,000 \nRe-Entry / ¥3300\nChips / 30\,000 \nRe-buy or Add-on / ¥2200\nChips / 30\,000 \nGame / No Limit Hold’em \n<プライズ / Prize>\n保証 / 1(7エントリー毎に1枚追加 Tickets\n配分 / 1位 : 1 Ticket – 2位 : 1 Ticket – 3位 : 1 Ticket – 4位 : 1 Ticket – 5位 : 1 Ticket \nNote :
URL:https://japanopenpoker.com/satellite/jacks-1-5/2025-10-29/
CATEGORIES:2026 JOPT Tokyo #01
END:VEVENT
END:VCALENDAR