BEGIN:VCALENDAR
VERSION:2.0
PRODID:-//Japan Open Poker Tour - ECPv6.9.0//NONSGML v1.0//EN
CALSCALE:GREGORIAN
METHOD:PUBLISH
X-WR-CALNAME:Japan Open Poker Tour
X-ORIGINAL-URL:https://japanopenpoker.com
X-WR-CALDESC:Japan Open Poker Tour のイベント
REFRESH-INTERVAL;VALUE=DURATION:PT1H
X-Robots-Tag:noindex
X-PUBLISHED-TTL:PT1H
BEGIN:VTIMEZONE
TZID:Asia/Tokyo
BEGIN:STANDARD
TZOFFSETFROM:+0900
TZOFFSETTO:+0900
TZNAME:JST
DTSTART:20250101T000000
END:STANDARD
END:VTIMEZONE
BEGIN:VEVENT
DTSTART;TZID=Asia/Tokyo:20251215T173000
DTEND;TZID=Asia/Tokyo:20251215T213000
DTSTAMP:20260424T062113
CREATED:20251212T175026Z
LAST-MODIFIED:20251212T175026Z
UID:10015110-1765819800-1765834200@japanopenpoker.com
SUMMARY:Poker Base 天王寺店  (9)
DESCRIPTION:Poker Base 天王寺店  (9) \n<スケジュール / schedule> \nRegistration / 17:30-21:30 \n<参加費 / Fees>\nEntry / ¥6\,000\nChips / 20\,000 \nRe-Entry / ¥6\,000\nChips / 20\,000 \nRe-buy or Add-on / ¥3\,000\nChips / 40\,000 \nGame / No Limit Hold’em \n<プライズ / Prize>\n保証 / 9 Tickets\n配分 / 1位 : 3 Tickets – 2位 : 3 Tickets – 3位 : 3 Tickets
URL:https://japanopenpoker.com/satellite/poker-base-%e5%a4%a9%e7%8e%8b%e5%af%ba%e5%ba%97-9-3/
CATEGORIES:2026 JOPT Osaka #01
END:VEVENT
BEGIN:VEVENT
DTSTART;TZID=Asia/Tokyo:20251216T123000
DTEND;TZID=Asia/Tokyo:20251216T144500
DTSTAMP:20260424T062113
CREATED:20251210T022211Z
LAST-MODIFIED:20251210T025043Z
UID:10015091-1765888200-1765896300@japanopenpoker.com
SUMMARY:心斎橋なんばポーカー倶楽部 (1+)
DESCRIPTION:心斎橋なんばポーカー倶楽部 (3名スタート1枠保証、9エントリー2枠保証、以降6エントリー毎に1枠づつ補償を追加) \n<スケジュール / schedule> \nRegistration / 12:30-14:45 \n<参加費 / Fees>\nEntry / ¥4\,000\nChips / 40\,000 \nRe-Entry / ¥4\,000\nChips / 40\,000 \nRe-buy or Add-on / ¥2\,000\nChips / 40\,000 \nGame / No Limit Hold’em \n<プライズ / Prize>\n保証 / 3名スタート1枠保証、9エントリー2枠保証、以降6エントリー毎に1枠づつ補償を追加 Tickets\n配分 / 1位 : 1 Ticket – 2位 : 1 Ticket – 3位 : 1 Ticket – 4位 : 1 Ticket \n“Note : エントランス1000円/ソフトドリンク飲放題付”
URL:https://japanopenpoker.com/satellite/%e5%bf%83%e6%96%8e%e6%a9%8b%e3%81%aa%e3%82%93%e3%81%b0%e3%83%9d%e3%83%bc%e3%82%ab%e3%83%bc%e5%80%b6%e6%a5%bd%e9%83%a8-1-12/
CATEGORIES:2026 JOPT Osaka #01
END:VEVENT
BEGIN:VEVENT
DTSTART;TZID=Asia/Tokyo:20251216T173000
DTEND;TZID=Asia/Tokyo:20251216T213000
DTSTAMP:20260424T062113
CREATED:20251210T025706Z
LAST-MODIFIED:20251212T175144Z
UID:10015097-1765906200-1765920600@japanopenpoker.com
SUMMARY:Poker Base 天王寺店  (9)
DESCRIPTION:Poker Base 天王寺店  (9) \n<スケジュール / schedule> \nRegistration / 17:30-21:30 \n<参加費 / Fees>\nEntry / ¥6\,000\nChips / 20\,000 \nRe-Entry / ¥6\,000\nChips / 20\,000 \nRe-buy or Add-on / ¥3\,000\nChips / 40\,000 \nGame / No Limit Hold’em \n<プライズ / Prize>\n保証 / 9 Tickets\n配分 / 1位 : 3 Tickets – 2位 : 3 Tickets – 3位 : 3 Tickets \n“Note : DOUBLE : ¥8\,000 / 40\,000”
URL:https://japanopenpoker.com/satellite/poker-base-%e5%a4%a9%e7%8e%8b%e5%af%ba%e5%ba%97-9-2/
CATEGORIES:2026 JOPT Osaka #01
END:VEVENT
BEGIN:VEVENT
DTSTART;TZID=Asia/Tokyo:20251216T181500
DTEND;TZID=Asia/Tokyo:20251216T210000
DTSTAMP:20260424T062113
CREATED:20251216T011808Z
LAST-MODIFIED:20251216T011808Z
UID:10015136-1765908900-1765918800@japanopenpoker.com
SUMMARY:THE POKER神戸店 (3+)
DESCRIPTION:<スケジュール / schedule> \nRegistration / 18:15-21:00 \n<参加費 / Fees>\nEntry / ¥5\,000\nChips / 15\,000 \nRe-Entry / ¥4\,000\nChips / 15\,000 \nRe-buy or Add-on / ¥2\,000\nChips / 15\,000 \nGame / No Limit Hold’em \n<プライズ / Prize>\n保証 / 3 Tickets(12エントリーから4エントリー毎に1枚追加。上位から2枚ずつ付与。奇数枚の場合は次点に1枚付与)\n配分 / 1位 : 2 Tickets – 2位 : 1 Ticket
URL:https://japanopenpoker.com/satellite/the-poker%e7%a5%9e%e6%88%b8%e5%ba%97-3-4/
CATEGORIES:2026 JOPT Osaka #01
END:VEVENT
BEGIN:VEVENT
DTSTART;TZID=Asia/Tokyo:20251218T181500
DTEND;TZID=Asia/Tokyo:20251218T210000
DTSTAMP:20260424T062113
CREATED:20251216T011932Z
LAST-MODIFIED:20251216T011932Z
UID:10015137-1766081700-1766091600@japanopenpoker.com
SUMMARY:THE POKER神戸店 (3+)
DESCRIPTION:<スケジュール / schedule> \nRegistration / 18:15-21:00 \n<参加費 / Fees>\nEntry / ¥5\,000\nChips / 15\,000 \nRe-Entry / ¥4\,000\nChips / 15\,000 \nRe-buy or Add-on / ¥2\,000\nChips / 15\,000 \nGame / No Limit Hold’em \n<プライズ / Prize>\n保証 / 3 Tickets(12エントリーから4エントリー毎に1枚追加。上位から2枚ずつ付与。奇数枚の場合は次点に1枚付与)\n配分 / 1位 : 2 Tickets – 2位 : 1 Ticket
URL:https://japanopenpoker.com/satellite/the-poker%e7%a5%9e%e6%88%b8%e5%ba%97-3-5/
CATEGORIES:2026 JOPT Osaka #01
END:VEVENT
BEGIN:VEVENT
DTSTART;TZID=Asia/Tokyo:20251219T190000
DTEND;TZID=Asia/Tokyo:20251219T212000
DTSTAMP:20260424T062113
CREATED:20251216T093640Z
LAST-MODIFIED:20251216T094335Z
UID:10015160-1766170800-1766179200@japanopenpoker.com
SUMMARY:POKER RING 河原町 (2)
DESCRIPTION:POKER RING 河原町 (2) \n<スケジュール / schedule> \nRegistration / 19:00-21:20 \n<参加費 / Fees>\nEntry / ¥4\,000\nChips / 20\,000 \nRe-Entry / ¥4\,000\nChips / 20\,000 \nRe-buy or Add-on / ¥2\,000\nChips / 20\,000 \nGame / No Limit Hold’em \n<プライズ / Prize>\n保証 / 2 Tickets\n配分 / 1位 : 1 Ticket – 2位 : 1 Ticket
URL:https://japanopenpoker.com/satellite/poker-ring-%e6%b2%b3%e5%8e%9f%e7%94%ba/
CATEGORIES:2026 JOPT Osaka #01
END:VEVENT
BEGIN:VEVENT
DTSTART;TZID=Asia/Tokyo:20251220T123000
DTEND;TZID=Asia/Tokyo:20251220T144500
DTSTAMP:20260424T062113
CREATED:20251210T022350Z
LAST-MODIFIED:20251210T025003Z
UID:10015092-1766233800-1766241900@japanopenpoker.com
SUMMARY:心斎橋なんばポーカー倶楽部 (1+)
DESCRIPTION:心斎橋なんばポーカー倶楽部 (3名スタート1枠保証、9エントリー2枠保証、以降6エントリー毎に1枠づつ補償を追加) \n<スケジュール / schedule> \nRegistration / 12:30-14:45 \n<参加費 / Fees>\nEntry / ¥4\,000\nChips / 40\,000 \nRe-Entry / ¥4\,000\nChips / 40\,000 \nRe-buy or Add-on / ¥2\,000\nChips / 40\,000 \nGame / No Limit Hold’em \n<プライズ / Prize>\n保証 / 3名スタート1枠保証、9エントリー2枠保証、以降6エントリー毎に1枠づつ補償を追加 Tickets\n配分 / 1位 : 1 Ticket – 2位 : 1 Ticket – 3位 : 1 Ticket – 4位 : 1 Ticket \n“Note : エントランス1000円/ソフトドリンク飲放題付”
URL:https://japanopenpoker.com/satellite/%e5%bf%83%e6%96%8e%e6%a9%8b%e3%81%aa%e3%82%93%e3%81%b0%e3%83%9d%e3%83%bc%e3%82%ab%e3%83%bc%e5%80%b6%e6%a5%bd%e9%83%a8-1-13/
CATEGORIES:2026 JOPT Osaka #01
END:VEVENT
BEGIN:VEVENT
DTSTART;TZID=Asia/Tokyo:20251220T181500
DTEND;TZID=Asia/Tokyo:20251220T210000
DTSTAMP:20260424T062113
CREATED:20251216T012037Z
LAST-MODIFIED:20251216T012037Z
UID:10015147-1766254500-1766264400@japanopenpoker.com
SUMMARY:THE POKER神戸店 (3+)
DESCRIPTION:<スケジュール / schedule> \nRegistration / 18:15-21:00 \n<参加費 / Fees>\nEntry / ¥5\,000\nChips / 15\,000 \nRe-Entry / ¥4\,000\nChips / 15\,000 \nRe-buy or Add-on / ¥2\,000\nChips / 15\,000 \nGame / No Limit Hold’em \n<プライズ / Prize>\n保証 / 3 Tickets(12エントリーから4エントリー毎に1枚追加。上位から2枚ずつ付与。奇数枚の場合は次点に1枚付与)\n配分 / 1位 : 2 Tickets – 2位 : 1 Ticket
URL:https://japanopenpoker.com/satellite/the-poker%e7%a5%9e%e6%88%b8%e5%ba%97-3-6/
CATEGORIES:2026 JOPT Osaka #01
END:VEVENT
END:VCALENDAR