BEGIN:VCALENDAR
VERSION:2.0
PRODID:-//Japan Open Poker Tour - ECPv6.9.0//NONSGML v1.0//EN
CALSCALE:GREGORIAN
METHOD:PUBLISH
X-ORIGINAL-URL:https://japanopenpoker.com
X-WR-CALDESC:Japan Open Poker Tour のイベント
REFRESH-INTERVAL;VALUE=DURATION:PT1H
X-Robots-Tag:noindex
X-PUBLISHED-TTL:PT1H
BEGIN:VTIMEZONE
TZID:Asia/Tokyo
BEGIN:STANDARD
TZOFFSETFROM:+0900
TZOFFSETTO:+0900
TZNAME:JST
DTSTART:20260101T000000
END:STANDARD
END:VTIMEZONE
BEGIN:VEVENT
DTSTART;TZID=Asia/Tokyo:20260206T183000
DTEND;TZID=Asia/Tokyo:20260206T213000
DTSTAMP:20260424T085736
CREATED:20260130T015807Z
LAST-MODIFIED:20260130T015807Z
UID:10015874-1770402600-1770413400@japanopenpoker.com
SUMMARY:Poker Room Gutshot (2+)
DESCRIPTION:Poker Room Gutshot (2+) \n<スケジュール / schedule> \nRegistration / 18:30-21:30 \n<参加費 / Fees>\nEntry / 4\,000円\nChips / 15\,000 \nRe-Entry / 4\,000円\nChips / 20\,000 \nRe-buy or Add-on / 2\,000円\nChips / 20\,000 \nGame / No Limit Hold’em \n<プライズ / Prize>\n保証 / 2 Tickets\n配分 / 1 – 2位 : 1 Ticket \nNote : 18エントリー以上で3位にも1枠追加、以降6エントリーで4位にも1枠追加
URL:https://japanopenpoker.com/satellite/poker-room-gutshot-2-2/
CATEGORIES:2026 JOPT Osaka #01
END:VEVENT
BEGIN:VEVENT
DTSTART;TZID=Asia/Tokyo:20260207T180000
DTEND;TZID=Asia/Tokyo:20260207T210000
DTSTAMP:20260424T085736
CREATED:20260205T045356Z
LAST-MODIFIED:20260207T014239Z
UID:10015942-1770487200-1770498000@japanopenpoker.com
SUMMARY:THE POKER神戸店 (3+) 
DESCRIPTION:THE POKER神戸店 (3+) \n<スケジュール / schedule> \nRegistration / 18:15-21:00 \n<参加費 / Fees>\nEntry / ¥5\,000\nChips / 15\,000 \nRe-Entry / ¥5\,000\nChips / 15\,000 \nRe-buy or Add-on / ¥2\,000\nChips / 15\,000 \nGame / No Limit Hold’em \n<プライズ / Prize>\n保証 / 3 Tickets(12エントリーから4エントリー毎に1枚追加。上位から2枚ずつ付与。奇数枚の場合は次点に1枚付与)\n配分 / 1位 : 2 Tickets – 2位 : 1 Ticket
URL:https://japanopenpoker.com/satellite/the-poker%e7%a5%9e%e6%88%b8%e5%ba%97-3-24/
CATEGORIES:2026 JOPT Osaka #01
END:VEVENT
BEGIN:VEVENT
DTSTART;TZID=Asia/Tokyo:20260210T170000
DTEND;TZID=Asia/Tokyo:20260210T210000
DTSTAMP:20260424T085736
CREATED:20260130T091019Z
LAST-MODIFIED:20260130T091019Z
UID:10015876-1770742800-1770757200@japanopenpoker.com
SUMMARY:Poker Base 天王寺店 (30)
DESCRIPTION:Poker Base 天王寺店 (30) \n<スケジュール / schedule> \nRegistration / 17:00-21:00 \n<参加費 / Fees>\nEntry / ¥13\,000\nChips / 50\,000 \nRe-Entry / ¥13\,000\nChips / 50\,000 \nRe-buy or Add-on / ¥3\,000\nChips / 30\,000 \nGame / No Limit Hold’em \n<プライズ / Prize>\n保証 / 30 Tickets\n配分 / 1 – 10位 : 3 Tickets
URL:https://japanopenpoker.com/satellite/poker-base-%e5%a4%a9%e7%8e%8b%e5%af%ba%e5%ba%97-30-2/
CATEGORIES:2026 JOPT Osaka #01
END:VEVENT
BEGIN:VEVENT
DTSTART;TZID=Asia/Tokyo:20260210T180000
DTEND;TZID=Asia/Tokyo:20260210T210000
DTSTAMP:20260424T085736
CREATED:20260205T045354Z
LAST-MODIFIED:20260207T014257Z
UID:10015941-1770746400-1770757200@japanopenpoker.com
SUMMARY:THE POKER神戸店 (3+) 
DESCRIPTION:THE POKER神戸店 (3+) \n<スケジュール / schedule> \nRegistration / 18:15-21:00 \n<参加費 / Fees>\nEntry / ¥5\,000\nChips / 15\,000 \nRe-Entry / ¥5\,000\nChips / 15\,000 \nRe-buy or Add-on / ¥2\,000\nChips / 15\,000 \nGame / No Limit Hold’em \n<プライズ / Prize>\n保証 / 3 Tickets(12エントリーから4エントリー毎に1枚追加。上位から2枚ずつ付与。奇数枚の場合は次点に1枚付与)\n配分 / 1位 : 2 Tickets – 2位 : 1 Ticket
URL:https://japanopenpoker.com/satellite/the-poker%e7%a5%9e%e6%88%b8%e5%ba%97-3-23/
CATEGORIES:2026 JOPT Osaka #01
END:VEVENT
BEGIN:VEVENT
DTSTART;TZID=Asia/Tokyo:20260210T183000
DTEND;TZID=Asia/Tokyo:20260210T213000
DTSTAMP:20260424T085736
CREATED:20260129T100153Z
LAST-MODIFIED:20260130T090558Z
UID:10015872-1770748200-1770759000@japanopenpoker.com
SUMMARY:Poker Room Gutshot (2+)
DESCRIPTION:Poker Room Gutshot (2+) \n<スケジュール / schedule> \nRegistration / 18:30-21:30 \n<参加費 / Fees>\nEntry / 4\,000円\nChips / 15\,000 \nRe-Entry / 4\,000円\nChips / 20\,000 \nRe-buy or Add-on / 2\,000円\nChips / 20\,000 \nGame / No Limit Hold’em \n<プライズ / Prize>\n保証 / 2 Tickets\n配分 / 1 – 2位 : 1 Ticket \nNote : 18エントリー以上で3位にも1枠追加、以降6エントリーで4位にも1枠追加
URL:https://japanopenpoker.com/satellite/poker-room-gutshot-2/
CATEGORIES:2026 JOPT Osaka #01
END:VEVENT
BEGIN:VEVENT
DTSTART;TZID=Asia/Tokyo:20260210T183000
DTEND;TZID=Asia/Tokyo:20260210T213000
DTSTAMP:20260424T085736
CREATED:20260130T020417Z
LAST-MODIFIED:20260205T050015Z
UID:10015875-1770748200-1770759000@japanopenpoker.com
SUMMARY:Poker Room Gutshot (2+)
DESCRIPTION:Poker Room Gutshot (2+) \n<スケジュール / schedule> \nRegistration / 18:30-21:30 \n<参加費 / Fees>\nEntry / 4\,000円\nChips / 15\,000 \nRe-Entry / 4\,000円\nChips / 20\,000 \nRe-buy or Add-on / 2\,000円\nChips / 20\,000 \nGame / No Limit Hold’em \n<プライズ / Prize>\n保証 / 2 Tickets\n配分 / 1 – 2位 : 1 Ticket \nNote : 18エントリー以上で3位にも1枠追加、以降6エントリーで4位にも1枠追加
URL:https://japanopenpoker.com/satellite/poker-room-gutshot-2-3/
CATEGORIES:2026 JOPT Osaka #01
ATTACH;FMTTYPE=image/jpeg:https://japanopenpoker.com/wp-content/uploads/2026/01/poker-room-gutshot.jpg
END:VEVENT
BEGIN:VEVENT
DTSTART;TZID=Asia/Tokyo:20260212T180000
DTEND;TZID=Asia/Tokyo:20260212T210000
DTSTAMP:20260424T085736
CREATED:20260205T045352Z
LAST-MODIFIED:20260207T014314Z
UID:10015940-1770919200-1770930000@japanopenpoker.com
SUMMARY:THE POKER神戸店 (3+) 
DESCRIPTION:THE POKER神戸店 (3+) \n<スケジュール / schedule> \nRegistration / 18:15-21:00 \n<参加費 / Fees>\nEntry / ¥5\,000\nChips / 15\,000 \nRe-Entry / ¥5\,000\nChips / 15\,000 \nRe-buy or Add-on / ¥2\,000\nChips / 15\,000 \nGame / No Limit Hold’em \n<プライズ / Prize>\n保証 / 3 Tickets(12エントリーから4エントリー毎に1枚追加。上位から2枚ずつ付与。奇数枚の場合は次点に1枚付与)\n配分 / 1位 : 2 Tickets – 2位 : 1 Ticket
URL:https://japanopenpoker.com/satellite/the-poker%e7%a5%9e%e6%88%b8%e5%ba%97-3-22/
CATEGORIES:2026 JOPT Osaka #01
END:VEVENT
BEGIN:VEVENT
DTSTART;TZID=Asia/Tokyo:20260213T181500
DTEND;TZID=Asia/Tokyo:20260213T204500
DTSTAMP:20260424T085736
CREATED:20260205T043116Z
LAST-MODIFIED:20260205T043529Z
UID:10015926-1771006500-1771015500@japanopenpoker.com
SUMMARY:PTG (4+)
DESCRIPTION:5G (4+) \n<スケジュール / schedule> \nRegistration / 18:15-20:45 \n<参加費 / Fees>\nEntry / ¥6\,000\nChips / 20\,000 \nRe-Entry / ¥6\,000\nChips / 20\,000 \nRe-buy or Add-on / ¥2\,000\nChips / 20\,000 \nGame / No Limit Hold’em \n<プライズ / Prize>\n保証 / 4 Tickets\n配分 / 1 位 : 3 Tickets – 2位：1 Ticket – 3位：0 Ticket \nNote：30エントリー以上で2位に１枚追加、36エントリーで2位にも３枚、42エントリーで3位に1枚
URL:https://japanopenpoker.com/satellite/ptg-4-2/
CATEGORIES:2026 JOPT Osaka #01
END:VEVENT
BEGIN:VEVENT
DTSTART;TZID=Asia/Tokyo:20260214T180000
DTEND;TZID=Asia/Tokyo:20260214T210000
DTSTAMP:20260424T085736
CREATED:20260205T045350Z
LAST-MODIFIED:20260207T014329Z
UID:10015939-1771092000-1771102800@japanopenpoker.com
SUMMARY:THE POKER神戸店 (3+) 
DESCRIPTION:THE POKER神戸店 (3+) \n<スケジュール / schedule> \nRegistration / 18:15-21:00 \n<参加費 / Fees>\nEntry / ¥5\,000\nChips / 15\,000 \nRe-Entry / ¥5\,000\nChips / 15\,000 \nRe-buy or Add-on / ¥2\,000\nChips / 15\,000 \nGame / No Limit Hold’em \n<プライズ / Prize>\n保証 / 3 Tickets(12エントリーから4エントリー毎に1枚追加。上位から2枚ずつ付与。奇数枚の場合は次点に1枚付与)\n配分 / 1位 : 2 Tickets – 2位 : 1 Ticket
URL:https://japanopenpoker.com/satellite/the-poker%e7%a5%9e%e6%88%b8%e5%ba%97-3-21/
CATEGORIES:2026 JOPT Osaka #01
END:VEVENT
BEGIN:VEVENT
DTSTART;TZID=Asia/Tokyo:20260215T183000
DTEND;TZID=Asia/Tokyo:20260215T213000
DTSTAMP:20260424T085736
CREATED:20260205T050434Z
LAST-MODIFIED:20260205T050434Z
UID:10015946-1771180200-1771191000@japanopenpoker.com
SUMMARY:Poker Room Gutshot (2+)
DESCRIPTION:Poker Room Gutshot (2+) \n<スケジュール / schedule> \nRegistration / 18:30-21:30 \n<参加費 / Fees>\nEntry / 4\,000円\nChips / 15\,000 \nRe-Entry / 4\,000円\nChips / 20\,000 \nRe-buy or Add-on / 2\,000円\nChips / 20\,000 \nGame / No Limit Hold’em \n<プライズ / Prize>\n保証 / 2 Tickets\n配分 / 1 – 2位 : 1 Ticket \nNote : 18エントリー以上で3位にも1枠追加、以降6エントリーで4位にも1枠追加
URL:https://japanopenpoker.com/satellite/poker-room-gutshot-2-7/
CATEGORIES:2026 JOPT Osaka #01
ATTACH;FMTTYPE=image/jpeg:https://japanopenpoker.com/wp-content/uploads/2026/01/poker-room-gutshot.jpg
END:VEVENT
BEGIN:VEVENT
DTSTART;TZID=Asia/Tokyo:20260220T193000
DTEND;TZID=Asia/Tokyo:20260220T221000
DTSTAMP:20260424T085736
CREATED:20260218T032216Z
LAST-MODIFIED:20260218T032346Z
UID:10016037-1771615800-1771625400@japanopenpoker.com
SUMMARY:TORNADO OKAYAMA (3)
DESCRIPTION:TORNADO OKAYAMA (3) \n<スケジュール / schedule> \nRegistration / 19:30-22:10 \n<参加費 / Fees>\nEntry / ¥5\,000\nChips / 30\,000 \nRe-Entry / ¥5\,000\nChips / 30\,000 \nRe-buy or Add-on / ¥3\,000\nChips / 25\,000 \nGame / No Limit Hold’em \n<プライズ / Prize>\n保証 / 3 Tickets\n配分 / 1 – 3位 : 1 Ticket
URL:https://japanopenpoker.com/satellite/tornado-okayama-3/
CATEGORIES:2026 JOPT Osaka #01
END:VEVENT
BEGIN:VEVENT
DTSTART;TZID=Asia/Tokyo:20260221T180000
DTEND;TZID=Asia/Tokyo:20260221T210000
DTSTAMP:20260424T085736
CREATED:20260205T045348Z
LAST-MODIFIED:20260207T014346Z
UID:10015938-1771696800-1771707600@japanopenpoker.com
SUMMARY:THE POKER神戸店 (3+) 
DESCRIPTION:THE POKER神戸店 (3+) \n<スケジュール / schedule> \nRegistration / 18:15-21:00 \n<参加費 / Fees>\nEntry / ¥5\,000\nChips / 15\,000 \nRe-Entry / ¥5\,000\nChips / 15\,000 \nRe-buy or Add-on / ¥2\,000\nChips / 15\,000 \nGame / No Limit Hold’em \n<プライズ / Prize>\n保証 / 3 Tickets(12エントリーから4エントリー毎に1枚追加。上位から2枚ずつ付与。奇数枚の場合は次点に1枚付与)\n配分 / 1位 : 2 Tickets – 2位 : 1 Ticket
URL:https://japanopenpoker.com/satellite/the-poker%e7%a5%9e%e6%88%b8%e5%ba%97-3-20/
CATEGORIES:2026 JOPT Osaka #01
ATTACH;FMTTYPE=image/jpeg:https://japanopenpoker.com/wp-content/uploads/2026/02/the-poker-kobe.jpg
END:VEVENT
BEGIN:VEVENT
DTSTART;TZID=Asia/Tokyo:20260222T183000
DTEND;TZID=Asia/Tokyo:20260222T213000
DTSTAMP:20260424T085736
CREATED:20260205T050432Z
LAST-MODIFIED:20260205T050432Z
UID:10015945-1771785000-1771795800@japanopenpoker.com
SUMMARY:Poker Room Gutshot (2+)
DESCRIPTION:Poker Room Gutshot (2+) \n<スケジュール / schedule> \nRegistration / 18:30-21:30 \n<参加費 / Fees>\nEntry / 4\,000円\nChips / 15\,000 \nRe-Entry / 4\,000円\nChips / 20\,000 \nRe-buy or Add-on / 2\,000円\nChips / 20\,000 \nGame / No Limit Hold’em \n<プライズ / Prize>\n保証 / 2 Tickets\n配分 / 1 – 2位 : 1 Ticket \nNote : 18エントリー以上で3位にも1枠追加、以降6エントリーで4位にも1枠追加
URL:https://japanopenpoker.com/satellite/poker-room-gutshot-2-6/
CATEGORIES:2026 JOPT Osaka #01
ATTACH;FMTTYPE=image/jpeg:https://japanopenpoker.com/wp-content/uploads/2026/01/poker-room-gutshot.jpg
END:VEVENT
BEGIN:VEVENT
DTSTART;TZID=Asia/Tokyo:20260224T180000
DTEND;TZID=Asia/Tokyo:20260224T210000
DTSTAMP:20260424T085736
CREATED:20260205T045345Z
LAST-MODIFIED:20260207T014402Z
UID:10015937-1771956000-1771966800@japanopenpoker.com
SUMMARY:THE POKER神戸店 (3+) 
DESCRIPTION:THE POKER神戸店 (3+) \n<スケジュール / schedule> \nRegistration / 18:15-21:00 \n<参加費 / Fees>\nEntry / ¥5\,000\nChips / 15\,000 \nRe-Entry / ¥5\,000\nChips / 15\,000 \nRe-buy or Add-on / ¥2\,000\nChips / 15\,000 \nGame / No Limit Hold’em \n<プライズ / Prize>\n保証 / 3 Tickets(12エントリーから4エントリー毎に1枚追加。上位から2枚ずつ付与。奇数枚の場合は次点に1枚付与)\n配分 / 1位 : 2 Tickets – 2位 : 1 Ticket
URL:https://japanopenpoker.com/satellite/the-poker%e7%a5%9e%e6%88%b8%e5%ba%97-3-19/
CATEGORIES:2026 JOPT Osaka #01
END:VEVENT
BEGIN:VEVENT
DTSTART;TZID=Asia/Tokyo:20260226T180000
DTEND;TZID=Asia/Tokyo:20260226T205000
DTSTAMP:20260424T085736
CREATED:20260226T012632Z
LAST-MODIFIED:20260226T012632Z
UID:10016073-1772128800-1772139000@japanopenpoker.com
SUMMARY:KYOTO de Poker (6)
DESCRIPTION:KYOTO de Poker (6) \n<スケジュール / schedule> \nRegistration / 18:00-20:50 \n<参加費 / Fees>\nEntry / ¥4\,500\nChips / 20\,000 \nRe-Entry / ¥4\,500\nChips / 20\,000 \nRe-buy or Add-on / ¥2\,000\nChips / 20\,000 \nGame / No Limit Hold’em \n<プライズ / Prize>\n保証 / 6 Tickets\n配分 / 1位 : 3 Tickets – 2位 :  2 Tickets – 3位 :  1 Ticket
URL:https://japanopenpoker.com/satellite/kyoto-de-poker-6-5/
CATEGORIES:2026 JOPT Osaka #01
END:VEVENT
BEGIN:VEVENT
DTSTART;TZID=Asia/Tokyo:20260226T183000
DTEND;TZID=Asia/Tokyo:20260226T213000
DTSTAMP:20260424T085736
CREATED:20260205T050430Z
LAST-MODIFIED:20260205T050430Z
UID:10015944-1772130600-1772141400@japanopenpoker.com
SUMMARY:Poker Room Gutshot (2+)
DESCRIPTION:Poker Room Gutshot (2+) \n<スケジュール / schedule> \nRegistration / 18:30-21:30 \n<参加費 / Fees>\nEntry / 4\,000円\nChips / 15\,000 \nRe-Entry / 4\,000円\nChips / 20\,000 \nRe-buy or Add-on / 2\,000円\nChips / 20\,000 \nGame / No Limit Hold’em \n<プライズ / Prize>\n保証 / 2 Tickets\n配分 / 1 – 2位 : 1 Ticket \nNote : 18エントリー以上で3位にも1枠追加、以降6エントリーで4位にも1枠追加
URL:https://japanopenpoker.com/satellite/poker-room-gutshot-2-5/
CATEGORIES:2026 JOPT Osaka #01
ATTACH;FMTTYPE=image/jpeg:https://japanopenpoker.com/wp-content/uploads/2026/01/poker-room-gutshot.jpg
END:VEVENT
BEGIN:VEVENT
DTSTART;TZID=Asia/Tokyo:20260227T181500
DTEND;TZID=Asia/Tokyo:20260227T204500
DTSTAMP:20260424T085736
CREATED:20260205T043118Z
LAST-MODIFIED:20260205T043521Z
UID:10015927-1772216100-1772225100@japanopenpoker.com
SUMMARY:PTG (4+)
DESCRIPTION:5G (4+) \n<スケジュール / schedule> \nRegistration / 18:15-20:45 \n<参加費 / Fees>\nEntry / ¥6\,000\nChips / 20\,000 \nRe-Entry / ¥6\,000\nChips / 20\,000 \nRe-buy or Add-on / ¥2\,000\nChips / 20\,000 \nGame / No Limit Hold’em \n<プライズ / Prize>\n保証 / 4 Tickets\n配分 / 1 位 : 3 Tickets – 2位：1 Ticket – 3位：0 Ticket \nNote：30エントリー以上で2位に１枚追加、36エントリーで2位にも３枚、42エントリーで3位に1枚
URL:https://japanopenpoker.com/satellite/ptg-4-3/
CATEGORIES:2026 JOPT Osaka #01
END:VEVENT
BEGIN:VEVENT
DTSTART;TZID=Asia/Tokyo:20260228T180000
DTEND;TZID=Asia/Tokyo:20260228T210000
DTSTAMP:20260424T085736
CREATED:20260205T045340Z
LAST-MODIFIED:20260207T014435Z
UID:10015935-1772301600-1772312400@japanopenpoker.com
SUMMARY:THE POKER神戸店 (3+) 
DESCRIPTION:THE POKER神戸店 (3+) \n<スケジュール / schedule> \nRegistration / 18:15-21:00 \n<参加費 / Fees>\nEntry / ¥5\,000\nChips / 15\,000 \nRe-Entry / ¥5\,000\nChips / 15\,000 \nRe-buy or Add-on / ¥2\,000\nChips / 15\,000 \nGame / No Limit Hold’em \n<プライズ / Prize>\n保証 / 3 Tickets(12エントリーから4エントリー毎に1枚追加。上位から2枚ずつ付与。奇数枚の場合は次点に1枚付与)\n配分 / 1位 : 2 Tickets – 2位 : 1 Ticket
URL:https://japanopenpoker.com/satellite/the-poker%e7%a5%9e%e6%88%b8%e5%ba%97-3-17/
CATEGORIES:2026 JOPT Osaka #01
END:VEVENT
BEGIN:VEVENT
DTSTART;TZID=Asia/Tokyo:20260228T183000
DTEND;TZID=Asia/Tokyo:20260228T213000
DTSTAMP:20260424T085736
CREATED:20260205T050429Z
LAST-MODIFIED:20260205T050429Z
UID:10015943-1772303400-1772314200@japanopenpoker.com
SUMMARY:Poker Room Gutshot (2+)
DESCRIPTION:Poker Room Gutshot (2+) \n<スケジュール / schedule> \nRegistration / 18:30-21:30 \n<参加費 / Fees>\nEntry / 4\,000円\nChips / 15\,000 \nRe-Entry / 4\,000円\nChips / 20\,000 \nRe-buy or Add-on / 2\,000円\nChips / 20\,000 \nGame / No Limit Hold’em \n<プライズ / Prize>\n保証 / 2 Tickets\n配分 / 1 – 2位 : 1 Ticket \nNote : 18エントリー以上で3位にも1枠追加、以降6エントリーで4位にも1枠追加
URL:https://japanopenpoker.com/satellite/poker-room-gutshot-2-4/
CATEGORIES:2026 JOPT Osaka #01
ATTACH;FMTTYPE=image/jpeg:https://japanopenpoker.com/wp-content/uploads/2026/01/poker-room-gutshot.jpg
END:VEVENT
BEGIN:VEVENT
DTSTART;TZID=Asia/Tokyo:20260301T150000
DTEND;TZID=Asia/Tokyo:20260301T180000
DTSTAMP:20260424T085736
CREATED:20260228T011259Z
LAST-MODIFIED:20260228T011740Z
UID:10016093-1772377200-1772388000@japanopenpoker.com
SUMMARY:TORNADO OKAYAMA (3)
DESCRIPTION:TORNADO OKAYAMA (3) \n<スケジュール / schedule> \nRegistration / 15:00-18:00 \n<参加費 / Fees>\nEntry / ¥5\,000\nChips / 30\,000 \nRe-Entry / ¥5\,000\nChips / 30\,000 \nRe-buy or Add-on / ¥2\,000\nChips / 25\,000 \nGame / No Limit Hold’em \n<プライズ / Prize>\n保証 / 3 Tickets\n配分 / 1 – 3位 : 1 Ticket
URL:https://japanopenpoker.com/satellite/60462/
CATEGORIES:2026 JOPT Osaka #01
END:VEVENT
BEGIN:VEVENT
DTSTART;TZID=Asia/Tokyo:20260302T190000
DTEND;TZID=Asia/Tokyo:20260302T214000
DTSTAMP:20260424T085736
CREATED:20260302T080456Z
LAST-MODIFIED:20260302T080456Z
UID:10016137-1772478000-1772487600@japanopenpoker.com
SUMMARY:poker spot white (18)
DESCRIPTION:poker spot white (18) \n<スケジュール / schedule> \nRegistration / 19:00-21:40 \n<参加費 / Fees>\nEntry / ¥6\,000\nChips / 20\,000 \nRe-Entry / ¥6\,000\nChips / 20\,000 \nRe-buy or Add-on / ¥2\,000\nChips / 20\,000 \nGame / No Limit Hold’em \n<プライズ / Prize>\n保証 / 18 Tickets\n配分 / 1位 : 3 Tickets – 2位 : 3 Tickets – 3位 : 3 Tickets – 4位 : 3 Tickets – 5位 : 3 Tickets \nNote : 1〜5位同様、6位にも3ticket
URL:https://japanopenpoker.com/satellite/poker-spot-white-18-2/
CATEGORIES:2026 JOPT Osaka #01
END:VEVENT
BEGIN:VEVENT
DTSTART;TZID=Asia/Tokyo:20260303T180000
DTEND;TZID=Asia/Tokyo:20260303T210000
DTSTAMP:20260424T085736
CREATED:20260205T045336Z
LAST-MODIFIED:20260207T014449Z
UID:10015934-1772560800-1772571600@japanopenpoker.com
SUMMARY:THE POKER神戸店 (3+) 
DESCRIPTION:THE POKER神戸店 (3+) \n<スケジュール / schedule> \nRegistration / 18:15-21:00 \n<参加費 / Fees>\nEntry / ¥5\,000\nChips / 15\,000 \nRe-Entry / ¥5\,000\nChips / 15\,000 \nRe-buy or Add-on / ¥2\,000\nChips / 15\,000 \nGame / No Limit Hold’em \n<プライズ / Prize>\n保証 / 3 Tickets(12エントリーから4エントリー毎に1枚追加。上位から2枚ずつ付与。奇数枚の場合は次点に1枚付与)\n配分 / 1位 : 2 Tickets – 2位 : 1 Ticket
URL:https://japanopenpoker.com/satellite/the-poker%e7%a5%9e%e6%88%b8%e5%ba%97-3-16/
CATEGORIES:2026 JOPT Osaka #01
END:VEVENT
BEGIN:VEVENT
DTSTART;TZID=Asia/Tokyo:20260303T183000
DTEND;TZID=Asia/Tokyo:20260303T213000
DTSTAMP:20260424T085736
CREATED:20260302T075711Z
LAST-MODIFIED:20260302T075730Z
UID:10016134-1772562600-1772573400@japanopenpoker.com
SUMMARY:Poker Room Gutshot (2+)
DESCRIPTION:Poker Room Gutshot (2+) \n<スケジュール / schedule> \nRegistration / 18:30-21:30 \n<参加費 / Fees>\nEntry / 4\,000円\nChips / 15\,000 \nRe-Entry / 4\,000円\nChips / 20\,000 \nRe-buy or Add-on / 2\,000円\nChips / 20\,000 \nGame / No Limit Hold’em \n<プライズ / Prize>\n保証 / 2 Tickets\n配分 / 1 – 2位 : 1 Ticket \nNote : 18エントリーで以上で3位にも1枠追加、以降6エントリー毎に4位に1枠、5位に1枠追加
URL:https://japanopenpoker.com/satellite/60530/
CATEGORIES:2026 JOPT Osaka #01
END:VEVENT
BEGIN:VEVENT
DTSTART;TZID=Asia/Tokyo:20260303T190000
DTEND;TZID=Asia/Tokyo:20260303T214000
DTSTAMP:20260424T085736
CREATED:20260302T073019Z
LAST-MODIFIED:20260302T073019Z
UID:10016128-1772564400-1772574000@japanopenpoker.com
SUMMARY:Nuts 布施 (5)
DESCRIPTION:Nuts 布施 (5) \n<スケジュール / schedule> \nRegistration / 19:00-21:40 \n<参加費 / Fees>\nEntry / ¥5\,000\nChips / 30\,000 \nRe-Entry / ¥5\,000\nChips / 30\,000 \nRe-buy or Add-on / ¥2\,000\nChips / 30\,000 \nGame / No Limit Hold’em \n<プライズ / Prize>\n保証 / 5 Tickets\n配分 / 1位 : 2 Tickets – 2位 : 2 Tickets – 3位 : 1 Ticket
URL:https://japanopenpoker.com/satellite/nuts-%e5%b8%83%e6%96%bd-5-3/
CATEGORIES:2026 JOPT Osaka #01
END:VEVENT
BEGIN:VEVENT
DTSTART;TZID=Asia/Tokyo:20260303T190000
DTEND;TZID=Asia/Tokyo:20260303T214000
DTSTAMP:20260424T085736
CREATED:20260302T080611Z
LAST-MODIFIED:20260302T080611Z
UID:10016138-1772564400-1772574000@japanopenpoker.com
SUMMARY:poker spot white (18)
DESCRIPTION:poker spot white (18) \n<スケジュール / schedule> \nRegistration / 19:00-21:40 \n<参加費 / Fees>\nEntry / ¥6\,000\nChips / 20\,000 \nRe-Entry / ¥6\,000\nChips / 20\,000 \nRe-buy or Add-on / ¥2\,000\nChips / 20\,000 \nGame / No Limit Hold’em \n<プライズ / Prize>\n保証 / 18 Tickets\n配分 / 1位 : 3 Tickets – 2位 : 3 Tickets – 3位 : 3 Tickets – 4位 : 3 Tickets – 5位 : 3 Tickets \nNote : 1〜5位同様、6位にも3ticket
URL:https://japanopenpoker.com/satellite/poker-spot-white-18-3/
CATEGORIES:2026 JOPT Osaka #01
END:VEVENT
BEGIN:VEVENT
DTSTART;TZID=Asia/Tokyo:20260304T170000
DTEND;TZID=Asia/Tokyo:20260304T213000
DTSTAMP:20260424T085736
CREATED:20260303T062458Z
LAST-MODIFIED:20260303T062458Z
UID:10016142-1772643600-1772659800@japanopenpoker.com
SUMMARY:Poker Base 天王寺店 (30)
DESCRIPTION:Poker Base 天王寺店 (30) \n<スケジュール / schedule> \nRegistration / 17:10-21:40 \n<参加費 / Fees>\nEntry / ¥13\,000\nChips / 50\,000 \nRe-Entry / ¥13\,000\nChips / 50\,000 \nRe-buy or Add-on / ¥5\,000\nChips / 30\,000 \nGame / No Limit Hold’em \n<プライズ / Prize>\n保証 / 30 Tickets\n配分 / 1 – 10位 : 3 Tickets
URL:https://japanopenpoker.com/satellite/poker-base-%e5%a4%a9%e7%8e%8b%e5%af%ba%e5%ba%97-30-3/
CATEGORIES:2026 JOPT Osaka #01
END:VEVENT
BEGIN:VEVENT
DTSTART;TZID=Asia/Tokyo:20260305T180000
DTEND;TZID=Asia/Tokyo:20260305T205000
DTSTAMP:20260424T085736
CREATED:20260304T042954Z
LAST-MODIFIED:20260304T042954Z
UID:10016145-1772733600-1772743800@japanopenpoker.com
SUMMARY:KYOTO de Poker (6+)
DESCRIPTION:KYOTO de Poker (6+) \n<スケジュール / schedule> \nRegistration / 18:00-20:50 \n<参加費 / Fees>\nEntry / ¥4\,500\nChips / 20\,000 \nRe-Entry / ¥4\,500\nChips / 20\,000 \nRe-buy or Add-on / ¥2\,000\nChips / 20\,000 \nGame / No Limit Hold’em \n<プライズ / Prize>\n保証 / 6 Tickets\n配分 / 1位 : 3 Tickets – 2位 :  3 Tickets \nNote :\n【30E以上】\n1位 : 3 Tickets\n2位 : 3 Tickets\n3位 : 2 Tickets \n【40E以上】\n1位 : 3 Tickets\n2位 : 3 Tickets\n3位 : 2 Tickets\n4位 : 2 Tickets
URL:https://japanopenpoker.com/satellite/kyoto-de-poker-6-6/
CATEGORIES:2026 JOPT Osaka #01
END:VEVENT
BEGIN:VEVENT
DTSTART;TZID=Asia/Tokyo:20260305T180000
DTEND;TZID=Asia/Tokyo:20260305T210000
DTSTAMP:20260424T085736
CREATED:20260205T045334Z
LAST-MODIFIED:20260207T014606Z
UID:10015933-1772733600-1772744400@japanopenpoker.com
SUMMARY:THE POKER神戸店 (3+) 
DESCRIPTION:THE POKER神戸店 (3+) \n<スケジュール / schedule> \nRegistration / 18:15-21:00 \n<参加費 / Fees>\nEntry / ¥5\,000\nChips / 15\,000 \nRe-Entry / ¥5\,000\nChips / 15\,000 \nRe-buy or Add-on / ¥2\,000\nChips / 15\,000 \nGame / No Limit Hold’em \n<プライズ / Prize>\n保証 / 3 Tickets(12エントリーから4エントリー毎に1枚追加。上位から2枚ずつ付与。奇数枚の場合は次点に1枚付与)\n配分 / 1位 : 2 Tickets – 2位 : 1 Ticket
URL:https://japanopenpoker.com/satellite/the-poker%e7%a5%9e%e6%88%b8%e5%ba%97-3-15/
CATEGORIES:2026 JOPT Osaka #01
END:VEVENT
BEGIN:VEVENT
DTSTART;TZID=Asia/Tokyo:20260305T190000
DTEND;TZID=Asia/Tokyo:20260305T214000
DTSTAMP:20260424T085736
CREATED:20260302T074203Z
LAST-MODIFIED:20260302T074203Z
UID:10016129-1772737200-1772746800@japanopenpoker.com
SUMMARY:Nuts 布施 (5)
DESCRIPTION:Nuts 布施 (5) \n<スケジュール / schedule> \nRegistration / 19:00-21:40 \n<参加費 / Fees>\nEntry / ¥5\,000\nChips / 30\,000 \nRe-Entry / ¥5\,000\nChips / 30\,000 \nRe-buy or Add-on / ¥2\,000\nChips / 30\,000 \nGame / No Limit Hold’em \n<プライズ / Prize>\n保証 / 5 Tickets\n配分 / 1位 : 2 Tickets – 2位 : 2 Tickets – 3位 : 1 Ticket
URL:https://japanopenpoker.com/satellite/nuts-%e5%b8%83%e6%96%bd-5-4/
CATEGORIES:2026 JOPT Osaka #01
END:VEVENT
BEGIN:VEVENT
DTSTART;TZID=Asia/Tokyo:20260306T181500
DTEND;TZID=Asia/Tokyo:20260306T204500
DTSTAMP:20260424T085736
CREATED:20260301T061543Z
LAST-MODIFIED:20260301T061930Z
UID:10016094-1772820900-1772829900@japanopenpoker.com
SUMMARY:PTG (4+)
DESCRIPTION:PTG (4+) \n<スケジュール / schedule> \nRegistration / 18:15-20:45 \n<参加費 / Fees>\nEntry / ¥6\,000\nChips / 20\,000 \nRe-Entry / ¥6\,000\nChips / 20\,000 \nRe-buy or Add-on / ¥2\,000\nChips / 20\,000 \nGame / No Limit Hold’em \n<プライズ / Prize>\n保証 / 4 Tickets\n配分 / 1 位 : 3 Tickets – 2位：1 Ticket – 3位：0 Ticket \nNote：25エントリー以上で2位に1枚追加
URL:https://japanopenpoker.com/satellite/ptg-4-4/
CATEGORIES:2026 JOPT Osaka #01
END:VEVENT
END:VCALENDAR