BEGIN:VCALENDAR
VERSION:2.0
PRODID:-//Japan Open Poker Tour - ECPv6.9.0//NONSGML v1.0//EN
CALSCALE:GREGORIAN
METHOD:PUBLISH
X-WR-CALNAME:Japan Open Poker Tour
X-ORIGINAL-URL:https://japanopenpoker.com
X-WR-CALDESC:Japan Open Poker Tour のイベント
REFRESH-INTERVAL;VALUE=DURATION:PT1H
X-Robots-Tag:noindex
X-PUBLISHED-TTL:PT1H
BEGIN:VTIMEZONE
TZID:Asia/Tokyo
BEGIN:STANDARD
TZOFFSETFROM:+0900
TZOFFSETTO:+0900
TZNAME:JST
DTSTART:20260101T000000
END:STANDARD
END:VTIMEZONE
BEGIN:VEVENT
DTSTART;TZID=Asia/Tokyo:20260313T210000
DTEND;TZID=Asia/Tokyo:20260314T003000
DTSTAMP:20260424T063942
CREATED:20260307T004511Z
LAST-MODIFIED:20260307T004511Z
UID:10016161-1773435600-1773448200@japanopenpoker.com
SUMMARY:RE:ALAB (8)
DESCRIPTION:<スケジュール / schedule> \nRegistration / 21:00-0:20 \n<参加費 / Fees>\nEntry / ¥6\,000\nChips / 40\,000 \nRe-Entry / ¥5\,000\nChips / 40\,000 \nRe-buy or Add-on / ¥2\,000\nChips / 30\,000 \nGame / No Limit Hold’em \n<プライズ / Prize>\n保証 / 8 Tickets\n配分 / 1位 : 2 Tickets – 2位 : 2 Tickets – 3位 : 2 Tickets – 4位 : 2 Tickets – 5位 : 0 Ticket
URL:https://japanopenpoker.com/satellite/realab-8-5/
CATEGORIES:2026 JOPT Osaka #01
END:VEVENT
BEGIN:VEVENT
DTSTART;TZID=Asia/Tokyo:20260313T190000
DTEND;TZID=Asia/Tokyo:20260313T221000
DTSTAMP:20260424T063942
CREATED:20260311T053212Z
LAST-MODIFIED:20260311T053212Z
UID:10016190-1773428400-1773439800@japanopenpoker.com
SUMMARY:35BAR (15)
DESCRIPTION:35BAR (15) \n<スケジュール / schedule> \nRegistration / 19:00-22:10 \n<参加費 / Fees>\nEntry / ¥8\,000\nChips / 20\,000 \nRe-Entry / ¥8\,000\nChips / 20\,000 \nRe-buy or Add-on / ¥3\,000\nChips / 20\,000 \nGame / No Limit Hold’em \n<プライズ / Prize>\n保証 / 15 Tickets\n配分 / 1 – 5位 : 3 Tickets
URL:https://japanopenpoker.com/satellite/35bar-15-3/
CATEGORIES:2026 JOPT Osaka #01
END:VEVENT
BEGIN:VEVENT
DTSTART;TZID=Asia/Tokyo:20260313T190000
DTEND;TZID=Asia/Tokyo:20260313T212000
DTSTAMP:20260424T063942
CREATED:20260304T044219Z
LAST-MODIFIED:20260304T044219Z
UID:10016148-1773428400-1773436800@japanopenpoker.com
SUMMARY:POKER RING 河原町 (2)
DESCRIPTION:POKER RING 河原町 (2) \n<スケジュール / schedule> \nRegistration / 19:00-21:20 \n<参加費 / Fees>\nEntry / ¥4\,000\nChips / 20\,000 \nRe-Entry / ¥4\,000\nChips / 20\,000 \nRe-buy or Add-on / ¥2\,000\nChips / 20\,000 \nGame / No Limit Hold’em \n<プライズ / Prize>\n保証 / 2 Tickets\n配分 / 1位 : 1 Ticket – 2位 : 1 Ticket
URL:https://japanopenpoker.com/satellite/poker-ring-%e6%b2%b3%e5%8e%9f%e7%94%ba-2-11/
CATEGORIES:2026 JOPT Osaka #01
END:VEVENT
BEGIN:VEVENT
DTSTART;TZID=Asia/Tokyo:20260313T181500
DTEND;TZID=Asia/Tokyo:20260313T204500
DTSTAMP:20260424T063942
CREATED:20260301T061747Z
LAST-MODIFIED:20260301T061852Z
UID:10016095-1773425700-1773434700@japanopenpoker.com
SUMMARY:PTG (4+)
DESCRIPTION:PTG (4+) \n<スケジュール / schedule> \nRegistration / 18:15-20:45 \n<参加費 / Fees>\nEntry / ¥6\,000\nChips / 20\,000 \nRe-Entry / ¥6\,000\nChips / 20\,000 \nRe-buy or Add-on / ¥2\,000\nChips / 20\,000 \nGame / No Limit Hold’em \n<プライズ / Prize>\n保証 / 4 Tickets\n配分 / 1 位 : 3 Tickets – 2位：1 Ticket – 3位：0 Ticket \nNote：25エントリー以上で2位に1枚追加
URL:https://japanopenpoker.com/satellite/ptg-4-5/
CATEGORIES:2026 JOPT Osaka #01
END:VEVENT
BEGIN:VEVENT
DTSTART;TZID=Asia/Tokyo:20260313T170000
DTEND;TZID=Asia/Tokyo:20260313T213000
DTSTAMP:20260424T063942
CREATED:20260311T045640Z
LAST-MODIFIED:20260311T045640Z
UID:10016176-1773421200-1773437400@japanopenpoker.com
SUMMARY:ATLAS (30)
DESCRIPTION:ATLAS (30) \n<スケジュール / schedule> \nRegistration / 17:00-21:30 \n<参加費 / Fees>\nEntry / ¥10\,000\nChips / 50\,000 \nRe-Entry / ¥10\,000\nChips / 50\,000 \nRe-buy or Add-on / ¥3\,000\nChips / 25\,000 \nGame / No Limit Hold’em \n<プライズ / Prize>\n保証 / 30 Tickets\n配分 / 1 – 10位 : 3 Tickets
URL:https://japanopenpoker.com/satellite/atlas-30/
CATEGORIES:2026 JOPT Osaka #01
END:VEVENT
BEGIN:VEVENT
DTSTART;TZID=Asia/Tokyo:20260313T160000
DTEND;TZID=Asia/Tokyo:20260313T183000
DTSTAMP:20260424T063942
CREATED:20260311T054015Z
LAST-MODIFIED:20260311T054015Z
UID:10016195-1773417600-1773426600@japanopenpoker.com
SUMMARY:35BAR (6)
DESCRIPTION:35BAR (6) \n<スケジュール / schedule>\nRegistration / 16:00-18:30 \n<参加費 / Fees>\nEntry / ¥4\,000\nChips / 20\,000 \nRe-Entry / ¥4\,000\nChips / 20\,000 \nRe-buy or Add-on / ¥3\,000\nChips / 20\,000 \nGame / No Limit Hold’em \n<プライズ / Prize>\n保証 / 6 Tickets\n配分 / 1 – 2位 : 3 Tickets
URL:https://japanopenpoker.com/satellite/35bar-6-3/
CATEGORIES:2026 JOPT Osaka #01
END:VEVENT
BEGIN:VEVENT
DTSTART;TZID=Asia/Tokyo:20260312T210000
DTEND;TZID=Asia/Tokyo:20260313T003000
DTSTAMP:20260424T063942
CREATED:20260307T004318Z
LAST-MODIFIED:20260307T004318Z
UID:10016160-1773349200-1773361800@japanopenpoker.com
SUMMARY:RE:ALAB (8)
DESCRIPTION:<スケジュール / schedule> \nRegistration / 21:00-0:20 \n<参加費 / Fees>\nEntry / ¥6\,000\nChips / 40\,000 \nRe-Entry / ¥5\,000\nChips / 40\,000 \nRe-buy or Add-on / ¥2\,000\nChips / 30\,000 \nGame / No Limit Hold’em \n<プライズ / Prize>\n保証 / 8 Tickets\n配分 / 1位 : 2 Tickets – 2位 : 2 Tickets – 3位 : 2 Tickets – 4位 : 2 Tickets – 5位 : 0 Ticket
URL:https://japanopenpoker.com/satellite/realab-8-4/
CATEGORIES:2026 JOPT Osaka #01
END:VEVENT
BEGIN:VEVENT
DTSTART;TZID=Asia/Tokyo:20260312T193000
DTEND;TZID=Asia/Tokyo:20260312T223000
DTSTAMP:20260424T063942
CREATED:20260311T044954Z
LAST-MODIFIED:20260311T044954Z
UID:10016174-1773343800-1773354600@japanopenpoker.com
SUMMARY:TORNADO OKAYAMA (3)
DESCRIPTION:TORNADO OKAYAMA (3) \n<スケジュール / schedule> \nRegistration / 19:30-22:30 \n<参加費 / Fees>\nEntry / ¥5\,000\nChips / 30\,000 \nRe-Entry / ¥5\,000\nChips / 30\,000 \nRe-buy or Add-on / ¥3\,000\nChips / 25\,000 \nGame / No Limit Hold’em \n<プライズ / Prize>\n保証 / 3 Tickets\n配分 / 1 – 3位 : 1 Ticket
URL:https://japanopenpoker.com/satellite/tornado-okayama-3-3/
CATEGORIES:2026 JOPT Osaka #01
END:VEVENT
BEGIN:VEVENT
DTSTART;TZID=Asia/Tokyo:20260312T190000
DTEND;TZID=Asia/Tokyo:20260312T221000
DTSTAMP:20260424T063942
CREATED:20260311T053146Z
LAST-MODIFIED:20260311T053146Z
UID:10016189-1773342000-1773353400@japanopenpoker.com
SUMMARY:35BAR (15)
DESCRIPTION:35BAR (15) \n<スケジュール / schedule> \nRegistration / 19:00-22:10 \n<参加費 / Fees>\nEntry / ¥8\,000\nChips / 20\,000 \nRe-Entry / ¥8\,000\nChips / 20\,000 \nRe-buy or Add-on / ¥3\,000\nChips / 20\,000 \nGame / No Limit Hold’em \n<プライズ / Prize>\n保証 / 15 Tickets\n配分 / 1 – 5位 : 3 Tickets
URL:https://japanopenpoker.com/satellite/35bar-15-2/
CATEGORIES:2026 JOPT Osaka #01
END:VEVENT
BEGIN:VEVENT
DTSTART;TZID=Asia/Tokyo:20260312T190000
DTEND;TZID=Asia/Tokyo:20260312T214000
DTSTAMP:20260424T063942
CREATED:20260302T074509Z
LAST-MODIFIED:20260302T074509Z
UID:10016132-1773342000-1773351600@japanopenpoker.com
SUMMARY:Nuts 布施 (5)
DESCRIPTION:Nuts 布施 (5) \n<スケジュール / schedule> \nRegistration / 19:00-21:40 \n<参加費 / Fees>\nEntry / ¥5\,000\nChips / 30\,000 \nRe-Entry / ¥5\,000\nChips / 30\,000 \nRe-buy or Add-on / ¥2\,000\nChips / 30\,000 \nGame / No Limit Hold’em \n<プライズ / Prize>\n保証 / 5 Tickets\n配分 / 1位 : 2 Tickets – 2位 : 2 Tickets – 3位 : 1 Ticket
URL:https://japanopenpoker.com/satellite/nuts-%e5%b8%83%e6%96%bd-5-7/
CATEGORIES:2026 JOPT Osaka #01
END:VEVENT
BEGIN:VEVENT
DTSTART;TZID=Asia/Tokyo:20260312T180000
DTEND;TZID=Asia/Tokyo:20260312T210000
DTSTAMP:20260424T063942
CREATED:20260205T045330Z
LAST-MODIFIED:20260207T014600Z
UID:10015931-1773338400-1773349200@japanopenpoker.com
SUMMARY:THE POKER神戸店 (3+) 
DESCRIPTION:THE POKER神戸店 (3+) \n<スケジュール / schedule> \nRegistration / 18:15-21:00 \n<参加費 / Fees>\nEntry / ¥5\,000\nChips / 15\,000 \nRe-Entry / ¥5\,000\nChips / 15\,000 \nRe-buy or Add-on / ¥2\,000\nChips / 15\,000 \nGame / No Limit Hold’em \n<プライズ / Prize>\n保証 / 3 Tickets(12エントリーから4エントリー毎に1枚追加。上位から2枚ずつ付与。奇数枚の場合は次点に1枚付与)\n配分 / 1位 : 2 Tickets – 2位 : 1 Ticket
URL:https://japanopenpoker.com/satellite/the-poker%e7%a5%9e%e6%88%b8%e5%ba%97-3-13/
CATEGORIES:2026 JOPT Osaka #01
END:VEVENT
BEGIN:VEVENT
DTSTART;TZID=Asia/Tokyo:20260312T180000
DTEND;TZID=Asia/Tokyo:20260312T205000
DTSTAMP:20260424T063942
CREATED:20260304T043733Z
LAST-MODIFIED:20260311T050711Z
UID:10016146-1773338400-1773348600@japanopenpoker.com
SUMMARY:KYOTO de Poker (6+)
DESCRIPTION:KYOTO de Poker (6+) \n<スケジュール / schedule> \nRegistration / 18:00-20:50 \n<参加費 / Fees>\nEntry / ¥4\,500\nChips / 20\,000 \nRe-Entry / ¥4\,500\nChips / 20\,000 \nRe-buy or Add-on / ¥2\,000\nChips / 20\,000 \nGame / No Limit Hold’em \n<プライズ / Prize>\n保証 / 6 Tickets\n配分 / 1位 : 3 Tickets – 2位 :  3 Tickets \nNote :\n【31E以上】\n1位 : 3 Tickets\n2位 : 3 Tickets\n3位 : 2 Tickets \n【41E以上】\n1位 : 3 Tickets\n2位 : 3 Tickets\n3位 : 2 Tickets\n4位 : 2 Tickets
URL:https://japanopenpoker.com/satellite/kyoto-de-poker-6-6-2/
CATEGORIES:2026 JOPT Osaka #01
END:VEVENT
BEGIN:VEVENT
DTSTART;TZID=Asia/Tokyo:20260312T160000
DTEND;TZID=Asia/Tokyo:20260312T183000
DTSTAMP:20260424T063942
CREATED:20260311T053900Z
LAST-MODIFIED:20260311T053900Z
UID:10016194-1773331200-1773340200@japanopenpoker.com
SUMMARY:35BAR (6)
DESCRIPTION:35BAR (6) \n<スケジュール / schedule> \nRegistration / 16:00-18:30 \n<参加費 / Fees>\nEntry / ¥4\,000\nChips / 20\,000 \nRe-Entry / ¥4\,000\nChips / 20\,000 \nRe-buy or Add-on / ¥3\,000\nChips / 20\,000 \nGame / No Limit Hold’em \n<プライズ / Prize>\n保証 / 6 Tickets\n配分 / 1 – 2位 : 3 Tickets
URL:https://japanopenpoker.com/satellite/35bar-6-2/
CATEGORIES:2026 JOPT Osaka #01
END:VEVENT
BEGIN:VEVENT
DTSTART;TZID=Asia/Tokyo:20260311T190000
DTEND;TZID=Asia/Tokyo:20260311T221000
DTSTAMP:20260424T063942
CREATED:20260311T052616Z
LAST-MODIFIED:20260311T053057Z
UID:10016188-1773255600-1773267000@japanopenpoker.com
SUMMARY:35BAR (15)
DESCRIPTION:35BAR (15) \n<スケジュール / schedule> \nRegistration / 19:00-22:10 \n<参加費 / Fees>\nEntry / ¥8\,000\nChips / 20\,000 \nRe-Entry / ¥8\,000\nChips / 20\,000 \nRe-buy or Add-on / ¥3\,000\nChips / 20\,000 \nGame / No Limit Hold’em \n<プライズ / Prize>\n保証 / 15 Tickets\n配分 / 1 – 5位 : 3 Tickets
URL:https://japanopenpoker.com/satellite/35bar-15/
CATEGORIES:2026 JOPT Osaka #01
END:VEVENT
BEGIN:VEVENT
DTSTART;TZID=Asia/Tokyo:20260311T190000
DTEND;TZID=Asia/Tokyo:20260311T215000
DTSTAMP:20260424T063942
CREATED:20260307T010715Z
LAST-MODIFIED:20260307T010715Z
UID:10016167-1773255600-1773265800@japanopenpoker.com
SUMMARY:ZEUS (6)
DESCRIPTION:ZEUS (6) \n<スケジュール / schedule> \nRegistration / 19:00-21:50 \n<参加費 / Fees>\nEntry / ¥6\,000\nChips / 30\,000 \nRe-Entry / ¥6\,000\nChips / 30\,000 \nRe-buy or Add-on / ¥2\,000\nChips / 20\,000 \nGame / No Limit Hold’em \n<プライズ / Prize>\n保証 / 6 Tickets\n配分 / 1位 : 3 Tickets – 2位 : 3 Tickets
URL:https://japanopenpoker.com/satellite/zeus-6-2/
CATEGORIES:2026 JOPT Osaka #01
END:VEVENT
BEGIN:VEVENT
DTSTART;TZID=Asia/Tokyo:20260311T180000
DTEND;TZID=Asia/Tokyo:20260311T213000
DTSTAMP:20260424T063942
CREATED:20260311T052254Z
LAST-MODIFIED:20260311T052254Z
UID:10016186-1773252000-1773264600@japanopenpoker.com
SUMMARY:Amusement Casino pocket (6)
DESCRIPTION:Amusement Casino pocket (6) \n<スケジュール / schedule> \nRegistration / 18:00-21:30 \n<参加費 / Fees>\nEntry / ¥6\,000\nChips / 20\,000 \nRe-Entry / ¥6\,000\nChips / 20\,000 \nRe-buy or Add-on / ¥4\,000\nChips / 40\,000 \nGame / No Limit Hold’em \n<プライズ / Prize>\n保証 / 6 Tickets\n配分 / 1位 : 3 Tickets – 2位 : 3 Tickets
URL:https://japanopenpoker.com/satellite/amusement-casino-pocket-6-3/
CATEGORIES:2026 JOPT Osaka #01
END:VEVENT
BEGIN:VEVENT
DTSTART;TZID=Asia/Tokyo:20260310T190000
DTEND;TZID=Asia/Tokyo:20260310T214000
DTSTAMP:20260424T063942
CREATED:20260302T080800Z
LAST-MODIFIED:20260302T080800Z
UID:10016140-1773169200-1773178800@japanopenpoker.com
SUMMARY:poker spot white (18)
DESCRIPTION:poker spot white (18) \n<スケジュール / schedule> \nRegistration / 19:00-21:40 \n<参加費 / Fees>\nEntry / ¥6\,000\nChips / 20\,000 \nRe-Entry / ¥6\,000\nChips / 20\,000 \nRe-buy or Add-on / ¥2\,000\nChips / 20\,000 \nGame / No Limit Hold’em \n<プライズ / Prize>\n保証 / 18 Tickets\n配分 / 1位 : 3 Tickets – 2位 : 3 Tickets – 3位 : 3 Tickets – 4位 : 3 Tickets – 5位 : 3 Tickets \nNote : 1〜5位同様、6位にも3ticket
URL:https://japanopenpoker.com/satellite/poker-spot-white-18-5/
CATEGORIES:2026 JOPT Osaka #01
END:VEVENT
BEGIN:VEVENT
DTSTART;TZID=Asia/Tokyo:20260310T190000
DTEND;TZID=Asia/Tokyo:20260310T214000
DTSTAMP:20260424T063942
CREATED:20260302T074402Z
LAST-MODIFIED:20260302T074411Z
UID:10016131-1773169200-1773178800@japanopenpoker.com
SUMMARY:Nuts 布施 (5)
DESCRIPTION:Nuts 布施 (5) \n<スケジュール / schedule> \nRegistration / 19:00-21:40 \n<参加費 / Fees>\nEntry / ¥5\,000\nChips / 30\,000 \nRe-Entry / ¥5\,000\nChips / 30\,000 \nRe-buy or Add-on / ¥2\,000\nChips / 30\,000 \nGame / No Limit Hold’em \n<プライズ / Prize>\n保証 / 5 Tickets\n配分 / 1位 : 2 Tickets – 2位 : 2 Tickets – 3位 : 1 Ticket
URL:https://japanopenpoker.com/satellite/nuts-%e5%b8%83%e6%96%bd-5-6/
CATEGORIES:2026 JOPT Osaka #01
END:VEVENT
BEGIN:VEVENT
DTSTART;TZID=Asia/Tokyo:20260310T180000
DTEND;TZID=Asia/Tokyo:20260310T210000
DTSTAMP:20260424T063942
CREATED:20260205T045332Z
LAST-MODIFIED:20260207T014602Z
UID:10015932-1773165600-1773176400@japanopenpoker.com
SUMMARY:THE POKER神戸店 (3+) 
DESCRIPTION:THE POKER神戸店 (3+) \n<スケジュール / schedule> \nRegistration / 18:15-21:00 \n<参加費 / Fees>\nEntry / ¥5\,000\nChips / 15\,000 \nRe-Entry / ¥5\,000\nChips / 15\,000 \nRe-buy or Add-on / ¥2\,000\nChips / 15\,000 \nGame / No Limit Hold’em \n<プライズ / Prize>\n保証 / 3 Tickets(12エントリーから4エントリー毎に1枚追加。上位から2枚ずつ付与。奇数枚の場合は次点に1枚付与)\n配分 / 1位 : 2 Tickets – 2位 : 1 Ticket
URL:https://japanopenpoker.com/satellite/the-poker%e7%a5%9e%e6%88%b8%e5%ba%97-3-14/
CATEGORIES:2026 JOPT Osaka #01
END:VEVENT
BEGIN:VEVENT
DTSTART;TZID=Asia/Tokyo:20260309T190000
DTEND;TZID=Asia/Tokyo:20260309T214000
DTSTAMP:20260424T063942
CREATED:20260302T080716Z
LAST-MODIFIED:20260302T080716Z
UID:10016139-1773082800-1773092400@japanopenpoker.com
SUMMARY:poker spot white (18)
DESCRIPTION:poker spot white (18) \n<スケジュール / schedule> \nRegistration / 19:00-21:40 \n<参加費 / Fees>\nEntry / ¥6\,000\nChips / 20\,000 \nRe-Entry / ¥6\,000\nChips / 20\,000 \nRe-buy or Add-on / ¥2\,000\nChips / 20\,000 \nGame / No Limit Hold’em \n<プライズ / Prize>\n保証 / 18 Tickets\n配分 / 1位 : 3 Tickets – 2位 : 3 Tickets – 3位 : 3 Tickets – 4位 : 3 Tickets – 5位 : 3 Tickets \nNote : 1〜5位同様、6位にも3ticket
URL:https://japanopenpoker.com/satellite/poker-spot-white-18-4/
CATEGORIES:2026 JOPT Osaka #01
END:VEVENT
BEGIN:VEVENT
DTSTART;TZID=Asia/Tokyo:20260308T210000
DTEND;TZID=Asia/Tokyo:20260309T000000
DTSTAMP:20260424T063942
CREATED:20260307T003913Z
LAST-MODIFIED:20260307T003913Z
UID:10016159-1773003600-1773014400@japanopenpoker.com
SUMMARY:RE:ALAB (8)
DESCRIPTION:<スケジュール / schedule> \nRegistration / 21:00-0:00 \n<参加費 / Fees>\nEntry / ¥6\,000\nChips / 40\,000 \nRe-Entry / ¥5\,000\nChips / 40\,000 \nRe-buy or Add-on / ¥2\,000\nChips / 30\,000 \nGame / No Limit Hold’em \n<プライズ / Prize>\n保証 / 8 Tickets\n配分 / 1位 : 2 Tickets – 2位 : 2 Tickets – 3位 : 2 Tickets – 4位 : 2 Tickets – 5位 : 0 Ticket
URL:https://japanopenpoker.com/satellite/realab-8-3/
CATEGORIES:2026 JOPT Osaka #01
END:VEVENT
BEGIN:VEVENT
DTSTART;TZID=Asia/Tokyo:20260308T183000
DTEND;TZID=Asia/Tokyo:20260308T213000
DTSTAMP:20260424T063942
CREATED:20260302T075841Z
LAST-MODIFIED:20260302T075841Z
UID:10016135-1772994600-1773005400@japanopenpoker.com
SUMMARY:Poker Room Gutshot (2+)
DESCRIPTION:Poker Room Gutshot (2+) \n<スケジュール / schedule> \nRegistration / 18:30-21:30 \n<参加費 / Fees>\nEntry / 4\,000円\nChips / 15\,000 \nRe-Entry / 4\,000円\nChips / 20\,000 \nRe-buy or Add-on / 2\,000円\nChips / 20\,000 \nGame / No Limit Hold’em \n<プライズ / Prize>\n保証 / 2 Tickets\n配分 / 1 – 2位 : 1 Ticket \nNote : 18エントリーで以上で3位にも1枠追加、以降6エントリー毎に4位に1枠、5位に1枠追加
URL:https://japanopenpoker.com/satellite/poker-room-gutshot-2-8/
CATEGORIES:2026 JOPT Osaka #01
END:VEVENT
BEGIN:VEVENT
DTSTART;TZID=Asia/Tokyo:20260308T140000
DTEND;TZID=Asia/Tokyo:20260308T170000
DTSTAMP:20260424T063942
CREATED:20260307T005656Z
LAST-MODIFIED:20260307T005656Z
UID:10016164-1772978400-1772989200@japanopenpoker.com
SUMMARY:TORNADO OKAYAMA (3)
DESCRIPTION:TORNADO OKAYAMA (3) \n<スケジュール / schedule> \nRegistration / 14:00-17:00 \n<参加費 / Fees>\nEntry / ¥5\,000\nChips / 30\,000 \nRe-Entry / ¥5\,000\nChips / 30\,000 \nRe-buy or Add-on / ¥3\,000\nChips / 25\,000 \nGame / No Limit Hold’em \n<プライズ / Prize>\n保証 / 3 Tickets\n配分 / 1 – 3位 : 1 Ticket
URL:https://japanopenpoker.com/satellite/tornado-okayama-3-2/
CATEGORIES:2026 JOPT Osaka #01
END:VEVENT
BEGIN:VEVENT
DTSTART;TZID=Asia/Tokyo:20260307T190000
DTEND;TZID=Asia/Tokyo:20260307T215000
DTSTAMP:20260424T063942
CREATED:20260307T010457Z
LAST-MODIFIED:20260307T010652Z
UID:10016165-1772910000-1772920200@japanopenpoker.com
SUMMARY:ZEUS (6)
DESCRIPTION:ZEUS (6) \n<スケジュール / schedule> \nRegistration / 19:00-21:50 \n<参加費 / Fees>\nEntry / ¥6\,000\nChips / 30\,000 \nRe-Entry / ¥6\,000\nChips / 30\,000 \nRe-buy or Add-on / ¥2\,000\nChips / 20\,000 \nGame / No Limit Hold’em \n<プライズ / Prize>\n保証 / 6 Tickets\n配分 / 1位 : 3 Tickets – 2位 : 3 Tickets
URL:https://japanopenpoker.com/satellite/zeus-6/
CATEGORIES:2026 JOPT Osaka #01
END:VEVENT
BEGIN:VEVENT
DTSTART;TZID=Asia/Tokyo:20260307T133000
DTEND;TZID=Asia/Tokyo:20260307T164000
DTSTAMP:20260424T063942
CREATED:20260304T042325Z
LAST-MODIFIED:20260304T042325Z
UID:10016144-1772890200-1772901600@japanopenpoker.com
SUMMARY:ポーカーステーション (3)
DESCRIPTION:ポーカーステーション (3) \n<スケジュール / schedule> \nRegistration / 13:30-16:40 \n<参加費 / Fees>\nEntry / ¥5\,000\nChips / 35\,000 \nRe-Entry / ¥5\,000\nChips / 35\,000 \nRe-buy or Add-on / ¥2\,000\nChips / 20\,000 \nGame / No Limit Hold’em \n<プライズ / Prize>\n保証 / 3 Tickets\n配分 / 1位 :  2 Tickets – 2位 :  1 Ticket
URL:https://japanopenpoker.com/satellite/%e3%83%9d%e3%83%bc%e3%82%ab%e3%83%bc%e3%82%b9%e3%83%86%e3%83%bc%e3%82%b7%e3%83%a7%e3%83%b3-3/
CATEGORIES:2026 JOPT Osaka #01
END:VEVENT
BEGIN:VEVENT
DTSTART;TZID=Asia/Tokyo:20260307T131000
DTEND;TZID=Asia/Tokyo:20260307T163000
DTSTAMP:20260424T063942
CREATED:20260307T011011Z
LAST-MODIFIED:20260307T011011Z
UID:10016168-1772889000-1772901000@japanopenpoker.com
SUMMARY:KYOTO de Poker (12)
DESCRIPTION:KYOTO de Poker (12) \n<スケジュール / schedule> \nRegistration / 13:10-16:30 \n<参加費 / Fees>\nEntry / ¥4\,500\nChips / 20\,000 \nRe-Entry / ¥4\,500\nChips / 20\,000 \nRe-buy or Add-on / ¥2\,000\nChips / 20\,000 \nGame / No Limit Hold’em \n<プライズ / Prize>\n保証 / 12 Tickets\n配分 / 1 – 4位 : 3 Tickets
URL:https://japanopenpoker.com/satellite/kyoto-de-poker-12-3/
CATEGORIES:2026 JOPT Osaka #01
END:VEVENT
BEGIN:VEVENT
DTSTART;TZID=Asia/Tokyo:20260306T193000
DTEND;TZID=Asia/Tokyo:20260306T211000
DTSTAMP:20260424T063942
CREATED:20260304T041854Z
LAST-MODIFIED:20260304T042012Z
UID:10016143-1772825400-1772831400@japanopenpoker.com
SUMMARY:ポーカーステーション (2)
DESCRIPTION:ポーカーステーション (2) \n<スケジュール / schedule> \nRegistration / 19:30-21:10 \n<参加費 / Fees>\nEntry / ¥4\,000\nChips / 20\,000 \nRe-Entry / ¥4\,000\nChips / 20\,000 \nRe-buy or Add-on / ¥2\,000\nChips / 20\,000 \nGame / No Limit Hold’em \n<プライズ / Prize>\n保証 / 2 Tickets\n配分 / 1位 :  1 Ticket – 2位 :  1 Ticket
URL:https://japanopenpoker.com/satellite/%e3%83%9d%e3%83%bc%e3%82%ab%e3%83%bc%e3%82%b9%e3%83%86%e3%83%bc%e3%82%b7%e3%83%a7%e3%83%b3-2/
CATEGORIES:2026 JOPT Osaka #01
END:VEVENT
BEGIN:VEVENT
DTSTART;TZID=Asia/Tokyo:20260306T190000
DTEND;TZID=Asia/Tokyo:20260306T212000
DTSTAMP:20260424T063942
CREATED:20260304T044114Z
LAST-MODIFIED:20260304T044114Z
UID:10016147-1772823600-1772832000@japanopenpoker.com
SUMMARY:POKER RING 河原町 (2)
DESCRIPTION:POKER RING 河原町 (2) \n<スケジュール / schedule> \nRegistration / 19:00-21:20 \n<参加費 / Fees>\nEntry / ¥4\,000\nChips / 20\,000 \nRe-Entry / ¥4\,000\nChips / 20\,000 \nRe-buy or Add-on / ¥2\,000\nChips / 20\,000 \nGame / No Limit Hold’em \n<プライズ / Prize>\n保証 / 2 Tickets\n配分 / 1位 : 1 Ticket – 2位 : 1 Ticket
URL:https://japanopenpoker.com/satellite/poker-ring-%e6%b2%b3%e5%8e%9f%e7%94%ba-2-10/
CATEGORIES:2026 JOPT Osaka #01
END:VEVENT
BEGIN:VEVENT
DTSTART;TZID=Asia/Tokyo:20260306T181500
DTEND;TZID=Asia/Tokyo:20260306T204500
DTSTAMP:20260424T063942
CREATED:20260301T061543Z
LAST-MODIFIED:20260301T061930Z
UID:10016094-1772820900-1772829900@japanopenpoker.com
SUMMARY:PTG (4+)
DESCRIPTION:PTG (4+) \n<スケジュール / schedule> \nRegistration / 18:15-20:45 \n<参加費 / Fees>\nEntry / ¥6\,000\nChips / 20\,000 \nRe-Entry / ¥6\,000\nChips / 20\,000 \nRe-buy or Add-on / ¥2\,000\nChips / 20\,000 \nGame / No Limit Hold’em \n<プライズ / Prize>\n保証 / 4 Tickets\n配分 / 1 位 : 3 Tickets – 2位：1 Ticket – 3位：0 Ticket \nNote：25エントリー以上で2位に1枚追加
URL:https://japanopenpoker.com/satellite/ptg-4-4/
CATEGORIES:2026 JOPT Osaka #01
END:VEVENT
BEGIN:VEVENT
DTSTART;TZID=Asia/Tokyo:20260305T190000
DTEND;TZID=Asia/Tokyo:20260305T214000
DTSTAMP:20260424T063942
CREATED:20260302T074203Z
LAST-MODIFIED:20260302T074203Z
UID:10016129-1772737200-1772746800@japanopenpoker.com
SUMMARY:Nuts 布施 (5)
DESCRIPTION:Nuts 布施 (5) \n<スケジュール / schedule> \nRegistration / 19:00-21:40 \n<参加費 / Fees>\nEntry / ¥5\,000\nChips / 30\,000 \nRe-Entry / ¥5\,000\nChips / 30\,000 \nRe-buy or Add-on / ¥2\,000\nChips / 30\,000 \nGame / No Limit Hold’em \n<プライズ / Prize>\n保証 / 5 Tickets\n配分 / 1位 : 2 Tickets – 2位 : 2 Tickets – 3位 : 1 Ticket
URL:https://japanopenpoker.com/satellite/nuts-%e5%b8%83%e6%96%bd-5-4/
CATEGORIES:2026 JOPT Osaka #01
END:VEVENT
END:VCALENDAR