BEGIN:VCALENDAR
VERSION:2.0
PRODID:-//Japan Open Poker Tour - ECPv6.9.0//NONSGML v1.0//EN
CALSCALE:GREGORIAN
METHOD:PUBLISH
X-ORIGINAL-URL:https://japanopenpoker.com
X-WR-CALDESC:Japan Open Poker Tour のイベント
REFRESH-INTERVAL;VALUE=DURATION:PT1H
X-Robots-Tag:noindex
X-PUBLISHED-TTL:PT1H
BEGIN:VTIMEZONE
TZID:Asia/Tokyo
BEGIN:STANDARD
TZOFFSETFROM:+0900
TZOFFSETTO:+0900
TZNAME:JST
DTSTART:20260101T000000
END:STANDARD
END:VTIMEZONE
BEGIN:VEVENT
DTSTART;TZID=Asia/Tokyo:20260430T233000
DTEND;TZID=Asia/Tokyo:20260501T020000
DTSTAMP:20260424T131339
CREATED:20260321T221900Z
LAST-MODIFIED:20260321T221900Z
UID:10016306-1777591800-1777600800@japanopenpoker.com
SUMMARY:ガットショット上野池之端店 (2)
DESCRIPTION:ガットショット上野池之端店 (2) \n<スケジュール / schedule> \nRegistration / 23:30-2:00 \n<参加費 / Fees>\nEntry / ¥2\,000\nChips / 30\,000 \nRe-Entry / ¥2\,000\nChips / 30\,000 \nRe-buy or Add-on / ¥0\nChips / 0 \nGame / No Limit Hold’em \n<プライズ / Prize>\n保証 / 2 Tickets\n配分 / 1位 : 1 Ticket – 2位 : 1 Ticket – 3位 : 0 Ticket – 4位 : 0 Ticket – 5位 : 0 Ticket \nNote :
URL:https://japanopenpoker.com/satellite/%e3%82%ac%e3%83%83%e3%83%88%e3%82%b7%e3%83%a7%e3%83%83%e3%83%88%e4%b8%8a%e9%87%8e%e6%b1%a0%e4%b9%8b%e7%ab%af%e5%ba%97-2-2/2026-04-30/
CATEGORIES:2026 JOPT Grand Final
END:VEVENT
BEGIN:VEVENT
DTSTART;TZID=Asia/Tokyo:20260501T173000
DTEND;TZID=Asia/Tokyo:20260501T213000
DTSTAMP:20260424T131339
CREATED:20260319T230844Z
LAST-MODIFIED:20260319T230844Z
UID:10016271-1777656600-1777671000@japanopenpoker.com
SUMMARY:化猫ポーカー倶楽部 (2)
DESCRIPTION:化猫ポーカー倶楽部 (2) \n<スケジュール / schedule> \nRegistration / 17:30-21:30 \n<参加費 / Fees>\nEntry / ¥5\,000\nChips / 25\,000 \nRe-Entry / ¥5\,000\nChips / 25\,000 \nRe-buy or Add-on / ¥2\,000\nChips / 25\,000 \nGame / No Limit Hold’em \n<プライズ / Prize>\n保証 / 2 Tickets\n配分 / 1位 : 1 Ticket – 2位 : 1 Ticket – 3位 : 0 Ticket – 4位 : 0 Ticket – 5位 : 0 Ticket \nNote : 早割で何度でもアドオン+飲み放題 無料
URL:https://japanopenpoker.com/satellite/%e5%8c%96%e7%8c%ab%e3%83%9d%e3%83%bc%e3%82%ab%e3%83%bc%e5%80%b6%e6%a5%bd%e9%83%a8-2-3/2026-05-01/
CATEGORIES:2026 JOPT Grand Final
END:VEVENT
BEGIN:VEVENT
DTSTART;TZID=Asia/Tokyo:20260502T120000
DTEND;TZID=Asia/Tokyo:20260502T145500
DTSTAMP:20260424T131339
CREATED:20260421T105806Z
LAST-MODIFIED:20260421T105806Z
UID:10016531-1777723200-1777733700@japanopenpoker.com
SUMMARY:NEKOKAJI新宿本店 (1)
DESCRIPTION:NEKOKAJI新宿本店 (優勝1枚) \n<スケジュール / schedule> \nRegistration / 12:00-14:55 \n<参加費 / Fees>\nEntry / ¥2\,000\nChips / 200\,000 \nRe-Entry / ¥2\,000\nChips / 200\,000 \nRe-buy or Add-on / なし\nChips / なし \nGame / No Limit Hold’em \n<プライズ / Prize>\n保証 / 優勝1枚 Tickets\n配分 / 1位 : 1 Ticket – 2位 : 0 Ticket – 3位 : 0 Ticket – 4位 : 0 Ticket – 5位 : 0 Ticket \nNote :
URL:https://japanopenpoker.com/satellite/nekokaji%e6%96%b0%e5%ae%bf%e6%9c%ac%e5%ba%97-1-6/2026-05-02/
CATEGORIES:2026 JOPT Grand Final
END:VEVENT
BEGIN:VEVENT
DTSTART;TZID=Asia/Tokyo:20260502T173000
DTEND;TZID=Asia/Tokyo:20260502T213000
DTSTAMP:20260424T131339
CREATED:20260319T230844Z
LAST-MODIFIED:20260319T230844Z
UID:10016272-1777743000-1777757400@japanopenpoker.com
SUMMARY:化猫ポーカー倶楽部 (2)
DESCRIPTION:化猫ポーカー倶楽部 (2) \n<スケジュール / schedule> \nRegistration / 17:30-21:30 \n<参加費 / Fees>\nEntry / ¥5\,000\nChips / 25\,000 \nRe-Entry / ¥5\,000\nChips / 25\,000 \nRe-buy or Add-on / ¥2\,000\nChips / 25\,000 \nGame / No Limit Hold’em \n<プライズ / Prize>\n保証 / 2 Tickets\n配分 / 1位 : 1 Ticket – 2位 : 1 Ticket – 3位 : 0 Ticket – 4位 : 0 Ticket – 5位 : 0 Ticket \nNote : 早割で何度でもアドオン+飲み放題 無料
URL:https://japanopenpoker.com/satellite/%e5%8c%96%e7%8c%ab%e3%83%9d%e3%83%bc%e3%82%ab%e3%83%bc%e5%80%b6%e6%a5%bd%e9%83%a8-2-3/2026-05-02/
CATEGORIES:2026 JOPT Grand Final
END:VEVENT
BEGIN:VEVENT
DTSTART;TZID=Asia/Tokyo:20260503T120000
DTEND;TZID=Asia/Tokyo:20260503T145500
DTSTAMP:20260424T131339
CREATED:20260421T105806Z
LAST-MODIFIED:20260421T105806Z
UID:10016532-1777809600-1777820100@japanopenpoker.com
SUMMARY:NEKOKAJI新宿本店 (1)
DESCRIPTION:NEKOKAJI新宿本店 (優勝1枚) \n<スケジュール / schedule> \nRegistration / 12:00-14:55 \n<参加費 / Fees>\nEntry / ¥2\,000\nChips / 200\,000 \nRe-Entry / ¥2\,000\nChips / 200\,000 \nRe-buy or Add-on / なし\nChips / なし \nGame / No Limit Hold’em \n<プライズ / Prize>\n保証 / 優勝1枚 Tickets\n配分 / 1位 : 1 Ticket – 2位 : 0 Ticket – 3位 : 0 Ticket – 4位 : 0 Ticket – 5位 : 0 Ticket \nNote :
URL:https://japanopenpoker.com/satellite/nekokaji%e6%96%b0%e5%ae%bf%e6%9c%ac%e5%ba%97-1-6/2026-05-03/
CATEGORIES:2026 JOPT Grand Final
END:VEVENT
BEGIN:VEVENT
DTSTART;TZID=Asia/Tokyo:20260503T173000
DTEND;TZID=Asia/Tokyo:20260503T213000
DTSTAMP:20260424T131339
CREATED:20260319T230844Z
LAST-MODIFIED:20260319T230844Z
UID:10016273-1777829400-1777843800@japanopenpoker.com
SUMMARY:化猫ポーカー倶楽部 (2)
DESCRIPTION:化猫ポーカー倶楽部 (2) \n<スケジュール / schedule> \nRegistration / 17:30-21:30 \n<参加費 / Fees>\nEntry / ¥5\,000\nChips / 25\,000 \nRe-Entry / ¥5\,000\nChips / 25\,000 \nRe-buy or Add-on / ¥2\,000\nChips / 25\,000 \nGame / No Limit Hold’em \n<プライズ / Prize>\n保証 / 2 Tickets\n配分 / 1位 : 1 Ticket – 2位 : 1 Ticket – 3位 : 0 Ticket – 4位 : 0 Ticket – 5位 : 0 Ticket \nNote : 早割で何度でもアドオン+飲み放題 無料
URL:https://japanopenpoker.com/satellite/%e5%8c%96%e7%8c%ab%e3%83%9d%e3%83%bc%e3%82%ab%e3%83%bc%e5%80%b6%e6%a5%bd%e9%83%a8-2-3/2026-05-03/
CATEGORIES:2026 JOPT Grand Final
END:VEVENT
BEGIN:VEVENT
DTSTART;TZID=Asia/Tokyo:20260504T173000
DTEND;TZID=Asia/Tokyo:20260504T213000
DTSTAMP:20260424T131339
CREATED:20260319T230844Z
LAST-MODIFIED:20260319T230844Z
UID:10016274-1777915800-1777930200@japanopenpoker.com
SUMMARY:化猫ポーカー倶楽部 (2)
DESCRIPTION:化猫ポーカー倶楽部 (2) \n<スケジュール / schedule> \nRegistration / 17:30-21:30 \n<参加費 / Fees>\nEntry / ¥5\,000\nChips / 25\,000 \nRe-Entry / ¥5\,000\nChips / 25\,000 \nRe-buy or Add-on / ¥2\,000\nChips / 25\,000 \nGame / No Limit Hold’em \n<プライズ / Prize>\n保証 / 2 Tickets\n配分 / 1位 : 1 Ticket – 2位 : 1 Ticket – 3位 : 0 Ticket – 4位 : 0 Ticket – 5位 : 0 Ticket \nNote : 早割で何度でもアドオン+飲み放題 無料
URL:https://japanopenpoker.com/satellite/%e5%8c%96%e7%8c%ab%e3%83%9d%e3%83%bc%e3%82%ab%e3%83%bc%e5%80%b6%e6%a5%bd%e9%83%a8-2-3/2026-05-04/
CATEGORIES:2026 JOPT Grand Final
END:VEVENT
BEGIN:VEVENT
DTSTART;TZID=Asia/Tokyo:20260505T173000
DTEND;TZID=Asia/Tokyo:20260505T213000
DTSTAMP:20260424T131339
CREATED:20260319T230844Z
LAST-MODIFIED:20260319T230844Z
UID:10016275-1778002200-1778016600@japanopenpoker.com
SUMMARY:化猫ポーカー倶楽部 (2)
DESCRIPTION:化猫ポーカー倶楽部 (2) \n<スケジュール / schedule> \nRegistration / 17:30-21:30 \n<参加費 / Fees>\nEntry / ¥5\,000\nChips / 25\,000 \nRe-Entry / ¥5\,000\nChips / 25\,000 \nRe-buy or Add-on / ¥2\,000\nChips / 25\,000 \nGame / No Limit Hold’em \n<プライズ / Prize>\n保証 / 2 Tickets\n配分 / 1位 : 1 Ticket – 2位 : 1 Ticket – 3位 : 0 Ticket – 4位 : 0 Ticket – 5位 : 0 Ticket \nNote : 早割で何度でもアドオン+飲み放題 無料
URL:https://japanopenpoker.com/satellite/%e5%8c%96%e7%8c%ab%e3%83%9d%e3%83%bc%e3%82%ab%e3%83%bc%e5%80%b6%e6%a5%bd%e9%83%a8-2-3/2026-05-05/
CATEGORIES:2026 JOPT Grand Final
END:VEVENT
BEGIN:VEVENT
DTSTART;TZID=Asia/Tokyo:20260506T173000
DTEND;TZID=Asia/Tokyo:20260506T210000
DTSTAMP:20260424T131339
CREATED:20260129T014158Z
LAST-MODIFIED:20260129T014158Z
UID:10015825-1778088600-1778101200@japanopenpoker.com
SUMMARY:ガットショット上野池之端店 (18)
DESCRIPTION:ガットショット上野池之端店 (18) \n<スケジュール / schedule> \nRegistration / 17:30-21:00 \n<参加費 / Fees>\nEntry / 10\,000円\nChips / 40\,000点 \nRe-Entry / 10\,000円\nChips / 40\,000点 \nRe-buy or Add-on / ¥0\nChips / 0 \nGame / No Limit Hold’em \n<プライズ / Prize>\n保証 / 18 Tickets\n配分 / 1位 : 3 Tickets – 2位 : 3 Tickets – 3位 : 3 Tickets – 4位 : 3 Tickets – 5位 : 3 Tickets \nNote : 6位 3Tickets
URL:https://japanopenpoker.com/satellite/%e3%82%ac%e3%83%83%e3%83%88%e3%82%b7%e3%83%a7%e3%83%83%e3%83%88%e4%b8%8a%e9%87%8e%e6%b1%a0%e4%b9%8b%e7%ab%af%e5%ba%97-18-6/2026-05-06/
CATEGORIES:2026 JOPT Grand Final
END:VEVENT
BEGIN:VEVENT
DTSTART;TZID=Asia/Tokyo:20260506T173000
DTEND;TZID=Asia/Tokyo:20260506T213000
DTSTAMP:20260424T131339
CREATED:20260319T230844Z
LAST-MODIFIED:20260319T230844Z
UID:10016276-1778088600-1778103000@japanopenpoker.com
SUMMARY:化猫ポーカー倶楽部 (2)
DESCRIPTION:化猫ポーカー倶楽部 (2) \n<スケジュール / schedule> \nRegistration / 17:30-21:30 \n<参加費 / Fees>\nEntry / ¥5\,000\nChips / 25\,000 \nRe-Entry / ¥5\,000\nChips / 25\,000 \nRe-buy or Add-on / ¥2\,000\nChips / 25\,000 \nGame / No Limit Hold’em \n<プライズ / Prize>\n保証 / 2 Tickets\n配分 / 1位 : 1 Ticket – 2位 : 1 Ticket – 3位 : 0 Ticket – 4位 : 0 Ticket – 5位 : 0 Ticket \nNote : 早割で何度でもアドオン+飲み放題 無料
URL:https://japanopenpoker.com/satellite/%e5%8c%96%e7%8c%ab%e3%83%9d%e3%83%bc%e3%82%ab%e3%83%bc%e5%80%b6%e6%a5%bd%e9%83%a8-2-3/2026-05-06/
CATEGORIES:2026 JOPT Grand Final
END:VEVENT
BEGIN:VEVENT
DTSTART;TZID=Asia/Tokyo:20260513T173000
DTEND;TZID=Asia/Tokyo:20260513T210000
DTSTAMP:20260424T131339
CREATED:20260129T014158Z
LAST-MODIFIED:20260129T014158Z
UID:10015826-1778693400-1778706000@japanopenpoker.com
SUMMARY:ガットショット上野池之端店 (18)
DESCRIPTION:ガットショット上野池之端店 (18) \n<スケジュール / schedule> \nRegistration / 17:30-21:00 \n<参加費 / Fees>\nEntry / 10\,000円\nChips / 40\,000点 \nRe-Entry / 10\,000円\nChips / 40\,000点 \nRe-buy or Add-on / ¥0\nChips / 0 \nGame / No Limit Hold’em \n<プライズ / Prize>\n保証 / 18 Tickets\n配分 / 1位 : 3 Tickets – 2位 : 3 Tickets – 3位 : 3 Tickets – 4位 : 3 Tickets – 5位 : 3 Tickets \nNote : 6位 3Tickets
URL:https://japanopenpoker.com/satellite/%e3%82%ac%e3%83%83%e3%83%88%e3%82%b7%e3%83%a7%e3%83%83%e3%83%88%e4%b8%8a%e9%87%8e%e6%b1%a0%e4%b9%8b%e7%ab%af%e5%ba%97-18-6/2026-05-13/
CATEGORIES:2026 JOPT Grand Final
END:VEVENT
BEGIN:VEVENT
DTSTART;TZID=Asia/Tokyo:20260520T173000
DTEND;TZID=Asia/Tokyo:20260520T210000
DTSTAMP:20260424T131339
CREATED:20260129T014158Z
LAST-MODIFIED:20260129T014158Z
UID:10015827-1779298200-1779310800@japanopenpoker.com
SUMMARY:ガットショット上野池之端店 (18)
DESCRIPTION:ガットショット上野池之端店 (18) \n<スケジュール / schedule> \nRegistration / 17:30-21:00 \n<参加費 / Fees>\nEntry / 10\,000円\nChips / 40\,000点 \nRe-Entry / 10\,000円\nChips / 40\,000点 \nRe-buy or Add-on / ¥0\nChips / 0 \nGame / No Limit Hold’em \n<プライズ / Prize>\n保証 / 18 Tickets\n配分 / 1位 : 3 Tickets – 2位 : 3 Tickets – 3位 : 3 Tickets – 4位 : 3 Tickets – 5位 : 3 Tickets \nNote : 6位 3Tickets
URL:https://japanopenpoker.com/satellite/%e3%82%ac%e3%83%83%e3%83%88%e3%82%b7%e3%83%a7%e3%83%83%e3%83%88%e4%b8%8a%e9%87%8e%e6%b1%a0%e4%b9%8b%e7%ab%af%e5%ba%97-18-6/2026-05-20/
CATEGORIES:2026 JOPT Grand Final
END:VEVENT
BEGIN:VEVENT
DTSTART;TZID=Asia/Tokyo:20260527T173000
DTEND;TZID=Asia/Tokyo:20260527T210000
DTSTAMP:20260424T131339
CREATED:20260129T014158Z
LAST-MODIFIED:20260129T014158Z
UID:10015828-1779903000-1779915600@japanopenpoker.com
SUMMARY:ガットショット上野池之端店 (18)
DESCRIPTION:ガットショット上野池之端店 (18) \n<スケジュール / schedule> \nRegistration / 17:30-21:00 \n<参加費 / Fees>\nEntry / 10\,000円\nChips / 40\,000点 \nRe-Entry / 10\,000円\nChips / 40\,000点 \nRe-buy or Add-on / ¥0\nChips / 0 \nGame / No Limit Hold’em \n<プライズ / Prize>\n保証 / 18 Tickets\n配分 / 1位 : 3 Tickets – 2位 : 3 Tickets – 3位 : 3 Tickets – 4位 : 3 Tickets – 5位 : 3 Tickets \nNote : 6位 3Tickets
URL:https://japanopenpoker.com/satellite/%e3%82%ac%e3%83%83%e3%83%88%e3%82%b7%e3%83%a7%e3%83%83%e3%83%88%e4%b8%8a%e9%87%8e%e6%b1%a0%e4%b9%8b%e7%ab%af%e5%ba%97-18-6/2026-05-27/
CATEGORIES:2026 JOPT Grand Final
END:VEVENT
END:VCALENDAR