BEGIN:VCALENDAR
VERSION:2.0
PRODID:-//Japan Open Poker Tour - ECPv6.9.0//NONSGML v1.0//EN
CALSCALE:GREGORIAN
METHOD:PUBLISH
X-ORIGINAL-URL:https://japanopenpoker.com
X-WR-CALDESC:Japan Open Poker Tour のイベント
REFRESH-INTERVAL;VALUE=DURATION:PT1H
X-Robots-Tag:noindex
X-PUBLISHED-TTL:PT1H
BEGIN:VTIMEZONE
TZID:Asia/Tokyo
BEGIN:STANDARD
TZOFFSETFROM:+0900
TZOFFSETTO:+0900
TZNAME:JST
DTSTART:20260101T000000
END:STANDARD
END:VTIMEZONE
BEGIN:VEVENT
DTSTART;TZID=Asia/Tokyo:20260430T173000
DTEND;TZID=Asia/Tokyo:20260430T213000
DTSTAMP:20260424T131337
CREATED:20260319T230844Z
LAST-MODIFIED:20260319T230844Z
UID:10016270-1777570200-1777584600@japanopenpoker.com
SUMMARY:化猫ポーカー倶楽部 (2)
DESCRIPTION:化猫ポーカー倶楽部 (2) \n<スケジュール / schedule> \nRegistration / 17:30-21:30 \n<参加費 / Fees>\nEntry / ¥5\,000\nChips / 25\,000 \nRe-Entry / ¥5\,000\nChips / 25\,000 \nRe-buy or Add-on / ¥2\,000\nChips / 25\,000 \nGame / No Limit Hold’em \n<プライズ / Prize>\n保証 / 2 Tickets\n配分 / 1位 : 1 Ticket – 2位 : 1 Ticket – 3位 : 0 Ticket – 4位 : 0 Ticket – 5位 : 0 Ticket \nNote : 早割で何度でもアドオン+飲み放題 無料
URL:https://japanopenpoker.com/satellite/%e5%8c%96%e7%8c%ab%e3%83%9d%e3%83%bc%e3%82%ab%e3%83%bc%e5%80%b6%e6%a5%bd%e9%83%a8-2-3/2026-04-30/
CATEGORIES:2026 JOPT Grand Final
END:VEVENT
BEGIN:VEVENT
DTSTART;TZID=Asia/Tokyo:20260430T180000
DTEND;TZID=Asia/Tokyo:20260430T205000
DTSTAMP:20260424T131337
CREATED:20260330T084148Z
LAST-MODIFIED:20260330T084148Z
UID:10016373-1777572000-1777582200@japanopenpoker.com
SUMMARY:KTOTO de Poker (6+)
DESCRIPTION:KTOTO de Poker (6+) \n<スケジュール / schedule> \nRegistration / 18:00-20:50 \n<参加費 / Fees>\nEntry / ¥4\,500\nChips / 20\,000 \nRe-Entry / ¥4\,500\nChips / 20\,000 \nRe-buy or Add-on / ¥2\,000\nChips / 20\,000 \nGame / No Limit Hold’em \n<プライズ / Prize>\n保証 / 6（35E↑ 3位に2枚追加、45E↑4位に2枚追加） Tickets\n配分 / 1位 : 3 Tickets – 2位 : 3 Tickets – 3位 : 0 Ticket – 4位 : 0 Ticket – 5位 : 0 Ticket \nNote :
URL:https://japanopenpoker.com/satellite/ktoto-de-poker-6/2026-04-30/
CATEGORIES:2026 JOPT Grand Final
END:VEVENT
BEGIN:VEVENT
DTSTART;TZID=Asia/Tokyo:20260430T183000
DTEND;TZID=Asia/Tokyo:20260430T213000
DTSTAMP:20260424T131337
CREATED:20260402T111820Z
LAST-MODIFIED:20260402T111820Z
UID:10016403-1777573800-1777584600@japanopenpoker.com
SUMMARY:PokerRoomP3 下北沢店 (6)
DESCRIPTION:PokerRoomP3 下北沢店 (6) \n \nRegistration / 18:30-21:30 \n\nEntry / ¥7\,000\nChips / 20\,000 \nRe-Entry / ¥7\,000\nChips / 20\,000 \nRe-buy or Add-on / ¥3\,000\nChips / 20\,000 \nGame / No Limit Hold’em \n\n保証 / 6 Tickets\n配分 / 1位 : 3 Tickets – 2位 : 3 Tickets – 3位 : 0 Ticket – 4位 : 0 Ticket – 5位 : 0 Ticket \nNote :
URL:https://japanopenpoker.com/satellite/pokerroomp3-%e4%b8%8b%e5%8c%97%e6%b2%a2%e5%ba%97-6/
CATEGORIES:2026 JOPT Grand Final
END:VEVENT
BEGIN:VEVENT
DTSTART;TZID=Asia/Tokyo:20260430T233000
DTEND;TZID=Asia/Tokyo:20260501T020000
DTSTAMP:20260424T131337
CREATED:20260321T221900Z
LAST-MODIFIED:20260321T221900Z
UID:10016306-1777591800-1777600800@japanopenpoker.com
SUMMARY:ガットショット上野池之端店 (2)
DESCRIPTION:ガットショット上野池之端店 (2) \n<スケジュール / schedule> \nRegistration / 23:30-2:00 \n<参加費 / Fees>\nEntry / ¥2\,000\nChips / 30\,000 \nRe-Entry / ¥2\,000\nChips / 30\,000 \nRe-buy or Add-on / ¥0\nChips / 0 \nGame / No Limit Hold’em \n<プライズ / Prize>\n保証 / 2 Tickets\n配分 / 1位 : 1 Ticket – 2位 : 1 Ticket – 3位 : 0 Ticket – 4位 : 0 Ticket – 5位 : 0 Ticket \nNote :
URL:https://japanopenpoker.com/satellite/%e3%82%ac%e3%83%83%e3%83%88%e3%82%b7%e3%83%a7%e3%83%83%e3%83%88%e4%b8%8a%e9%87%8e%e6%b1%a0%e4%b9%8b%e7%ab%af%e5%ba%97-2-2/2026-04-30/
CATEGORIES:2026 JOPT Grand Final
END:VEVENT
END:VCALENDAR