BEGIN:VCALENDAR
VERSION:2.0
PRODID:-//Japan Open Poker Tour - ECPv6.9.0//NONSGML v1.0//EN
CALSCALE:GREGORIAN
METHOD:PUBLISH
X-ORIGINAL-URL:https://japanopenpoker.com
X-WR-CALDESC:Japan Open Poker Tour のイベント
REFRESH-INTERVAL;VALUE=DURATION:PT1H
X-Robots-Tag:noindex
X-PUBLISHED-TTL:PT1H
BEGIN:VTIMEZONE
TZID:Asia/Tokyo
BEGIN:STANDARD
TZOFFSETFROM:+0900
TZOFFSETTO:+0900
TZNAME:JST
DTSTART:20260101T000000
END:STANDARD
END:VTIMEZONE
BEGIN:VEVENT
DTSTART;TZID=Asia/Tokyo:20260425T230000
DTEND;TZID=Asia/Tokyo:20260426T023000
DTSTAMP:20260424T131337
CREATED:20260321T203719Z
LAST-MODIFIED:20260321T203719Z
UID:10016294-1777158000-1777170600@japanopenpoker.com
SUMMARY:明大前EDGE (6)
DESCRIPTION:明大前EDGE (6) \n<スケジュール / schedule> \nRegistration / 23:00-2:30 \n<参加費 / Fees>\nEntry / ¥8000\nChips / 30\,000 \nRe-Entry / ¥8000\nChips / 30\,000 \nRe-buy or Add-on / なし\nChips / なし \nGame / No Limit Hold’em \n<プライズ / Prize>\n保証 / 6 Tickets\n配分 / 1位 : 3 Tickets – 2位 : 3 Tickets – 3位 : 0 Ticket – 4位 : 0 Ticket – 5位 : 0 Ticket \n“Note : “
URL:https://japanopenpoker.com/satellite/%e6%98%8e%e5%a4%a7%e5%89%8dedge-6-13/2026-04-25/
CATEGORIES:2026 JOPT Grand Final
END:VEVENT
BEGIN:VEVENT
DTSTART;TZID=Asia/Tokyo:20260426T130000
DTEND;TZID=Asia/Tokyo:20260426T153000
DTSTAMP:20260424T131337
CREATED:20260421T103922Z
LAST-MODIFIED:20260421T103922Z
UID:10016521-1777208400-1777217400@japanopenpoker.com
SUMMARY:NEOPARAJA (4+)
DESCRIPTION:NEOPARAJA (4(6エントリー以上で3位に2枚)) \n<スケジュール / schedule> \nRegistration / 13:00-15:30 \n<参加費 / Fees>\nEntry / ¥15\,000\nChips / 20\,000 \nRe-Entry / ¥15\,000\nChips / 20\,000 \nRe-buy or Add-on / ¥4\,000\nChips / 20\,000 \nGame / No Limit Hold’em \n<プライズ / Prize>\n保証 / 4(6エントリー以上で3位に2枚) Tickets\n配分 / 1位 : 3 Tickets – 2位 : 3 Tickets – 3位 : 2 Tickets – 4位 : 0 Ticket – 5位 : 0 Ticket \nNote : 10エントリー限定
URL:https://japanopenpoker.com/satellite/neoparaja-4-5/2026-04-26/
CATEGORIES:2026 JOPT Grand Final
END:VEVENT
BEGIN:VEVENT
DTSTART;TZID=Asia/Tokyo:20260426T130000
DTEND;TZID=Asia/Tokyo:20260426T183000
DTSTAMP:20260424T131337
CREATED:20260330T090001Z
LAST-MODIFIED:20260330T090001Z
UID:10016393-1777208400-1777228200@japanopenpoker.com
SUMMARY:KAMATABACKDOOR (15)
DESCRIPTION:KAMATABACKDOOR (15) \n<スケジュール / schedule> \nRegistration / 13:00-18:30 \n<参加費 / Fees>\nEntry / ¥5\,500\nChips / 40\,000 \nRe-Entry / ¥5\,500\nChips / 40\,000 \nRe-buy or Add-on / なし\nChips / なし \nGame / No Limit Hold’em \n<プライズ / Prize>\n保証 / 15 Tickets\n配分 / 1位 : 3 Tickets – 2位 : 3 Tickets – 3位 : 3 Tickets – 4位 : 3 Tickets – 5位 : 3 Tickets \nNote :
URL:https://japanopenpoker.com/satellite/kamatabackdoor-15-2/2026-04-26/
CATEGORIES:2026 JOPT Grand Final
END:VEVENT
BEGIN:VEVENT
DTSTART;TZID=Asia/Tokyo:20260426T173000
DTEND;TZID=Asia/Tokyo:20260426T204000
DTSTAMP:20260424T131337
CREATED:20260330T085838Z
LAST-MODIFIED:20260330T085838Z
UID:10016389-1777224600-1777236000@japanopenpoker.com
SUMMARY:BACKDOOR SHIMOKITAZAWA (8)
DESCRIPTION:BACKDOOR SHIMOKITAZAWA (8) \n<スケジュール / schedule> \nRegistration / 17:30-20:40 \n<参加費 / Fees>\nEntry / ¥7\,700\nChips / 30\,000 \nRe-Entry / ¥5\,000\nChips / 30\,000 \nRe-buy or Add-on / ¥0\nChips / 0 \nGame / No Limit Hold’em \n<プライズ / Prize>\n保証 / 8 Tickets\n配分 / 1位 : 3 Tickets – 2位 : 3 Tickets – 3位 : 2 Tickets – 4位 : 0 Ticket – 5位 : 0 Ticket \nNote :
URL:https://japanopenpoker.com/satellite/backdoor-shimokitazawa-8/2026-04-26/
CATEGORIES:2026 JOPT Grand Final
END:VEVENT
BEGIN:VEVENT
DTSTART;TZID=Asia/Tokyo:20260426T173000
DTEND;TZID=Asia/Tokyo:20260426T213000
DTSTAMP:20260424T131337
CREATED:20260319T230844Z
LAST-MODIFIED:20260319T230844Z
UID:10016266-1777224600-1777239000@japanopenpoker.com
SUMMARY:化猫ポーカー倶楽部 (2)
DESCRIPTION:化猫ポーカー倶楽部 (2) \n<スケジュール / schedule> \nRegistration / 17:30-21:30 \n<参加費 / Fees>\nEntry / ¥5\,000\nChips / 25\,000 \nRe-Entry / ¥5\,000\nChips / 25\,000 \nRe-buy or Add-on / ¥2\,000\nChips / 25\,000 \nGame / No Limit Hold’em \n<プライズ / Prize>\n保証 / 2 Tickets\n配分 / 1位 : 1 Ticket – 2位 : 1 Ticket – 3位 : 0 Ticket – 4位 : 0 Ticket – 5位 : 0 Ticket \nNote : 早割で何度でもアドオン+飲み放題 無料
URL:https://japanopenpoker.com/satellite/%e5%8c%96%e7%8c%ab%e3%83%9d%e3%83%bc%e3%82%ab%e3%83%bc%e5%80%b6%e6%a5%bd%e9%83%a8-2-3/2026-04-26/
CATEGORIES:2026 JOPT Grand Final
END:VEVENT
BEGIN:VEVENT
DTSTART;TZID=Asia/Tokyo:20260426T190000
DTEND;TZID=Asia/Tokyo:20260426T220000
DTSTAMP:20260424T131337
CREATED:20260421T104412Z
LAST-MODIFIED:20260421T104412Z
UID:10016523-1777230000-1777240800@japanopenpoker.com
SUMMARY:Bellagio静岡 (3)
DESCRIPTION:Bellagio静岡 (3) \n<スケジュール / schedule> \nRegistration / 19:00-22:00 \n<参加費 / Fees>\nEntry / ¥12\,000\nChips / 30\,000 \nRe-Entry / ¥11\,000\nChips / 30\,000 \nRe-buy or Add-on / ¥6\,000\nChips / 15\,000 \nGame / No Limit Hold’em \n<プライズ / Prize>\n保証 / 3 Tickets\n配分 / 1位 : 3 Tickets – 2位 : 0 Ticket – 3位 : 0 Ticket – 4位 : 0 Ticket – 5位 : 0 Ticket \nNote :
URL:https://japanopenpoker.com/satellite/bellagio%e9%9d%99%e5%b2%a1-3-5/
CATEGORIES:2026 JOPT Grand Final
END:VEVENT
END:VCALENDAR