BEGIN:VCALENDAR
VERSION:2.0
PRODID:-//Japan Open Poker Tour - ECPv6.9.0//NONSGML v1.0//EN
CALSCALE:GREGORIAN
METHOD:PUBLISH
X-WR-CALNAME:Japan Open Poker Tour
X-ORIGINAL-URL:https://japanopenpoker.com
X-WR-CALDESC:Japan Open Poker Tour のイベント
REFRESH-INTERVAL;VALUE=DURATION:PT1H
X-Robots-Tag:noindex
X-PUBLISHED-TTL:PT1H
BEGIN:VTIMEZONE
TZID:Asia/Tokyo
BEGIN:STANDARD
TZOFFSETFROM:+0900
TZOFFSETTO:+0900
TZNAME:JST
DTSTART:20260101T000000
END:STANDARD
END:VTIMEZONE
BEGIN:VEVENT
DTSTART;TZID=Asia/Tokyo:20260424T230000
DTEND;TZID=Asia/Tokyo:20260425T020000
DTSTAMP:20260424T131339
CREATED:20260302T062451Z
LAST-MODIFIED:20260302T062451Z
UID:10016122-1777071600-1777082400@japanopenpoker.com
SUMMARY:北千住シーシャーズ (4+)
DESCRIPTION:北千住シーシャーズ (4+) \n<スケジュール / schedule> \nRegistration / 23:00-2:00 \n<参加費 / Fees>\nEntry / ¥3\,500\nChips / 15\,000 \nRe-Entry / ¥3\,500\nChips / 15\,000 \nRe-buy or Add-on / ¥2\,000\nChips / 15\,000 \nGame / No Limit Hold’em \n<プライズ / Prize>\n保証 / 4(25E以上で2位に2枚追加) Tickets\n配分 / 1位 : 3 Tickets – 2位 : 1 Ticket – 3位 : 0 Ticket – 4位 : 0 Ticket – 5位 : 0 Ticket \nNote :
URL:https://japanopenpoker.com/satellite/%e5%8c%97%e5%8d%83%e4%bd%8f%e3%82%b7%e3%83%bc%e3%82%b7%e3%83%a3%e3%83%bc%e3%82%ba-4-6/2026-04-24/
CATEGORIES:2026 JOPT Grand Final
END:VEVENT
BEGIN:VEVENT
DTSTART;TZID=Asia/Tokyo:20260424T230000
DTEND;TZID=Asia/Tokyo:20260425T020000
DTSTAMP:20260424T131339
CREATED:20260402T111244Z
LAST-MODIFIED:20260402T111244Z
UID:10016400-1777071600-1777082400@japanopenpoker.com
SUMMARY:北千住shishar's (4+)
DESCRIPTION:北千住shishar’s (4(25エントリー以上で2位に2枚追加)) \n<スケジュール / schedule> \nRegistration / 23:00-2:00 \n<参加費 / Fees>\nEntry / ¥3\,500\nChips / 15\,000 \nRe-Entry / ¥3\,500\nChips / 15\,000 \nRe-buy or Add-on / ¥2\,000\nChips / 15\,000 \nGame / No Limit Hold’em \n<プライズ / Prize>\n保証 / 4(25エントリー以上で2位に2枚追加) Tickets\n配分 / 1位 : 3 Tickets – 2位 : 1 Ticket – 3位 : 0 Ticket – 4位 : 0 Ticket – 5位 : 0 Ticket \nNote :
URL:https://japanopenpoker.com/satellite/%e5%8c%97%e5%8d%83%e4%bd%8fshishars-4-12/2026-04-24/
CATEGORIES:2026 JOPT Grand Final
END:VEVENT
BEGIN:VEVENT
DTSTART;TZID=Asia/Tokyo:20260424T230000
DTEND;TZID=Asia/Tokyo:20260425T023000
DTSTAMP:20260424T131339
CREATED:20260321T203504Z
LAST-MODIFIED:20260321T203504Z
UID:10016288-1777071600-1777084200@japanopenpoker.com
SUMMARY:明大前EDGE (6)
DESCRIPTION:明大前EDGE (6) \n<スケジュール / schedule> \nRegistration / 23:00-2:30 \n<参加費 / Fees>\nEntry / ¥8000\nChips / 30\,000 \nRe-Entry / ¥8000\nChips / 30\,000 \nRe-buy or Add-on / なし\nChips / なし \nGame / No Limit Hold’em \n<プライズ / Prize>\n保証 / 6 Tickets\n配分 / 1位 : 3 Tickets – 2位 : 3 Tickets – 3位 : 0 Ticket – 4位 : 0 Ticket – 5位 : 0 Ticket \n“Note : “
URL:https://japanopenpoker.com/satellite/%e6%98%8e%e5%a4%a7%e5%89%8dedge-6-12/2026-04-24/
CATEGORIES:2026 JOPT Grand Final
END:VEVENT
BEGIN:VEVENT
DTSTART;TZID=Asia/Tokyo:20260425T000000
DTEND;TZID=Asia/Tokyo:20260425T023000
DTSTAMP:20260424T131339
CREATED:20260421T103340Z
LAST-MODIFIED:20260421T103340Z
UID:10016516-1777075200-1777084200@japanopenpoker.com
SUMMARY:TOP HIGH ROLLER (4)
DESCRIPTION:TOP HIGH ROLLER (4) \n<スケジュール / schedule> \nRegistration / 0:00-2:30 \n<参加費 / Fees>\nEntry / ¥3\,000\nChips / 30\,000 \nRe-Entry / ¥3\,000\nChips / 30\,000 \nRe-buy or Add-on / ¥1\,000\nChips / 10\,000 \nGame / No Limit Hold’em \n<プライズ / Prize>\n保証 / 4 Tickets\n配分 / 1位 : 2 Tickets – 2位 : 2 Tickets – 3位 : 0 Ticket – 4位 : 0 Ticket – 5位 : 0 Ticket \nNote :
URL:https://japanopenpoker.com/satellite/top-high-roller-4-2/
CATEGORIES:2026 JOPT Grand Final
END:VEVENT
BEGIN:VEVENT
DTSTART;TZID=Asia/Tokyo:20260425T130000
DTEND;TZID=Asia/Tokyo:20260425T153000
DTSTAMP:20260424T131339
CREATED:20260421T103922Z
LAST-MODIFIED:20260421T103922Z
UID:10016520-1777122000-1777131000@japanopenpoker.com
SUMMARY:NEOPARAJA (4+)
DESCRIPTION:NEOPARAJA (4(6エントリー以上で3位に2枚)) \n<スケジュール / schedule> \nRegistration / 13:00-15:30 \n<参加費 / Fees>\nEntry / ¥15\,000\nChips / 20\,000 \nRe-Entry / ¥15\,000\nChips / 20\,000 \nRe-buy or Add-on / ¥4\,000\nChips / 20\,000 \nGame / No Limit Hold’em \n<プライズ / Prize>\n保証 / 4(6エントリー以上で3位に2枚) Tickets\n配分 / 1位 : 3 Tickets – 2位 : 3 Tickets – 3位 : 2 Tickets – 4位 : 0 Ticket – 5位 : 0 Ticket \nNote : 10エントリー限定
URL:https://japanopenpoker.com/satellite/neoparaja-4-5/2026-04-25/
CATEGORIES:2026 JOPT Grand Final
END:VEVENT
BEGIN:VEVENT
DTSTART;TZID=Asia/Tokyo:20260425T151000
DTEND;TZID=Asia/Tokyo:20260425T200000
DTSTAMP:20260424T131339
CREATED:20260421T105308Z
LAST-MODIFIED:20260421T105308Z
UID:10016528-1777129800-1777147200@japanopenpoker.com
SUMMARY:ポーカースポットMy room 小田原店 (6)
DESCRIPTION:ポーカースポットMy room 小田原店 (6) \n<スケジュール / schedule> \nRegistration / 15:10-20:00 \n<参加費 / Fees>\nEntry / ¥6\,000\nChips / 25\,000 \nRe-Entry / ¥5\,000\nChips / 25\,000 \nRe-buy or Add-on / ¥2\,000\nChips / 25\,000 \nGame / No Limit Hold’em \n<プライズ / Prize>\n保証 / 6 Tickets\n配分 / 1位 : 3 Tickets – 2位 : 3 Tickets – 3位 : 0 Ticket – 4位 : 0 Ticket – 5位 : 0 Ticket \nNote :
URL:https://japanopenpoker.com/satellite/%e3%83%9d%e3%83%bc%e3%82%ab%e3%83%bc%e3%82%b9%e3%83%9d%e3%83%83%e3%83%88my-room-%e5%b0%8f%e7%94%b0%e5%8e%9f%e5%ba%97-6/
CATEGORIES:2026 JOPT Grand Final
END:VEVENT
BEGIN:VEVENT
DTSTART;TZID=Asia/Tokyo:20260425T173000
DTEND;TZID=Asia/Tokyo:20260425T204000
DTSTAMP:20260424T131339
CREATED:20260330T085838Z
LAST-MODIFIED:20260330T085838Z
UID:10016388-1777138200-1777149600@japanopenpoker.com
SUMMARY:BACKDOOR SHIMOKITAZAWA (8)
DESCRIPTION:BACKDOOR SHIMOKITAZAWA (8) \n<スケジュール / schedule> \nRegistration / 17:30-20:40 \n<参加費 / Fees>\nEntry / ¥7\,700\nChips / 30\,000 \nRe-Entry / ¥5\,000\nChips / 30\,000 \nRe-buy or Add-on / ¥0\nChips / 0 \nGame / No Limit Hold’em \n<プライズ / Prize>\n保証 / 8 Tickets\n配分 / 1位 : 3 Tickets – 2位 : 3 Tickets – 3位 : 2 Tickets – 4位 : 0 Ticket – 5位 : 0 Ticket \nNote :
URL:https://japanopenpoker.com/satellite/backdoor-shimokitazawa-8/2026-04-25/
CATEGORIES:2026 JOPT Grand Final
END:VEVENT
BEGIN:VEVENT
DTSTART;TZID=Asia/Tokyo:20260425T173000
DTEND;TZID=Asia/Tokyo:20260425T213000
DTSTAMP:20260424T131339
CREATED:20260319T230844Z
LAST-MODIFIED:20260319T230844Z
UID:10016265-1777138200-1777152600@japanopenpoker.com
SUMMARY:化猫ポーカー倶楽部 (2)
DESCRIPTION:化猫ポーカー倶楽部 (2) \n<スケジュール / schedule> \nRegistration / 17:30-21:30 \n<参加費 / Fees>\nEntry / ¥5\,000\nChips / 25\,000 \nRe-Entry / ¥5\,000\nChips / 25\,000 \nRe-buy or Add-on / ¥2\,000\nChips / 25\,000 \nGame / No Limit Hold’em \n<プライズ / Prize>\n保証 / 2 Tickets\n配分 / 1位 : 1 Ticket – 2位 : 1 Ticket – 3位 : 0 Ticket – 4位 : 0 Ticket – 5位 : 0 Ticket \nNote : 早割で何度でもアドオン+飲み放題 無料
URL:https://japanopenpoker.com/satellite/%e5%8c%96%e7%8c%ab%e3%83%9d%e3%83%bc%e3%82%ab%e3%83%bc%e5%80%b6%e6%a5%bd%e9%83%a8-2-3/2026-04-25/
CATEGORIES:2026 JOPT Grand Final
END:VEVENT
BEGIN:VEVENT
DTSTART;TZID=Asia/Tokyo:20260425T180000
DTEND;TZID=Asia/Tokyo:20260425T210000
DTSTAMP:20260424T131339
CREATED:20260407T013841Z
LAST-MODIFIED:20260407T013841Z
UID:10016427-1777140000-1777150800@japanopenpoker.com
SUMMARY:PokerRoom P3 代官山 (4)
DESCRIPTION:PokerRoom P3 代官山 (4) \n<スケジュール / schedule> \nRegistration / 18:00-21:00 \n<参加費 / Fees>\nEntry / ¥5\,000\nChips / 15\,000 \nRe-Entry / ¥5\,000\nChips / 15\,000 \nRe-buy or Add-on / ¥3\,000\nChips / 15\,000 \nGame / No Limit Hold’em \n<プライズ / Prize>\n保証 / 4 Tickets\n配分 / 1位 : 3 Tickets – 2位 : 1 Ticket – 3位 : 0 Ticket – 4位 : 0 Ticket – 5位 : 0 Ticket \nNote :
URL:https://japanopenpoker.com/satellite/pokerroom-p3-%e4%bb%a3%e5%ae%98%e5%b1%b1-4/2026-04-25/
CATEGORIES:2026 JOPT Grand Final
END:VEVENT
BEGIN:VEVENT
DTSTART;TZID=Asia/Tokyo:20260425T190000
DTEND;TZID=Asia/Tokyo:20260425T212000
DTSTAMP:20260424T131339
CREATED:20260205T023018Z
LAST-MODIFIED:20260205T023018Z
UID:10015924-1777143600-1777152000@japanopenpoker.com
SUMMARY:POKER BAR Karma (1)
DESCRIPTION:POKER BAR Karma (1) \n<スケジュール / schedule> \nRegistration / 19:00-21:20 \n<参加費 / Fees>\nEntry / ¥6\,000\nChips / 30 \nRe-Entry / ¥6\,000\nChips / 30 \nRe-buy or Add-on / 無し\nChips / 無し \nGame / No Limit Hold’em \n<プライズ / Prize>\n保証 / 1 Tickets\n配分 / 1位 : 1 Ticket – 2位 : 0 Ticket – 3位 : 0 Ticket – 4位 : 0 Ticket – 5位 : 0 Ticket \nNote :
URL:https://japanopenpoker.com/satellite/poker-bar-karma-1/2026-04-25/
CATEGORIES:2026 JOPT Grand Final
END:VEVENT
BEGIN:VEVENT
DTSTART;TZID=Asia/Tokyo:20260425T200000
DTEND;TZID=Asia/Tokyo:20260425T220000
DTSTAMP:20260424T131339
CREATED:20260421T092730Z
LAST-MODIFIED:20260421T092730Z
UID:10016513-1777147200-1777154400@japanopenpoker.com
SUMMARY:AKcasi (6)
DESCRIPTION:AKcasi (上位2名に3枚ずつ) \n<スケジュール / schedule> \nRegistration / 20:00-22:00 \n<参加費 / Fees>\nEntry / ¥5\,000\nChips / 20\,000 \nRe-Entry / ¥5\,000\nChips / 20\,000 \nRe-buy or Add-on / ¥5\,000\nChips / 20\,000 \nGame / No Limit Hold’em \n<プライズ / Prize>\n保証 / 上位2名に3枚ずつ Tickets\n配分 / 1位 : 3 Tickets – 2位 : 3 Tickets – 3位 : 0 Ticket – 4位 : 0 Ticket – 5位 : 0 Ticket \nNote :
URL:https://japanopenpoker.com/satellite/akcasi-6/2026-04-25/
CATEGORIES:2026 JOPT Grand Final
END:VEVENT
BEGIN:VEVENT
DTSTART;TZID=Asia/Tokyo:20260425T230000
DTEND;TZID=Asia/Tokyo:20260426T023000
DTSTAMP:20260424T131339
CREATED:20260321T203719Z
LAST-MODIFIED:20260321T203719Z
UID:10016294-1777158000-1777170600@japanopenpoker.com
SUMMARY:明大前EDGE (6)
DESCRIPTION:明大前EDGE (6) \n<スケジュール / schedule> \nRegistration / 23:00-2:30 \n<参加費 / Fees>\nEntry / ¥8000\nChips / 30\,000 \nRe-Entry / ¥8000\nChips / 30\,000 \nRe-buy or Add-on / なし\nChips / なし \nGame / No Limit Hold’em \n<プライズ / Prize>\n保証 / 6 Tickets\n配分 / 1位 : 3 Tickets – 2位 : 3 Tickets – 3位 : 0 Ticket – 4位 : 0 Ticket – 5位 : 0 Ticket \n“Note : “
URL:https://japanopenpoker.com/satellite/%e6%98%8e%e5%a4%a7%e5%89%8dedge-6-13/2026-04-25/
CATEGORIES:2026 JOPT Grand Final
END:VEVENT
END:VCALENDAR