BEGIN:VCALENDAR
VERSION:2.0
PRODID:-//Japan Open Poker Tour - ECPv6.9.0//NONSGML v1.0//EN
CALSCALE:GREGORIAN
METHOD:PUBLISH
X-WR-CALNAME:Japan Open Poker Tour
X-ORIGINAL-URL:https://japanopenpoker.com
X-WR-CALDESC:Japan Open Poker Tour のイベント
REFRESH-INTERVAL;VALUE=DURATION:PT1H
X-Robots-Tag:noindex
X-PUBLISHED-TTL:PT1H
BEGIN:VTIMEZONE
TZID:Asia/Tokyo
BEGIN:STANDARD
TZOFFSETFROM:+0900
TZOFFSETTO:+0900
TZNAME:JST
DTSTART:20260101T000000
END:STANDARD
END:VTIMEZONE
BEGIN:VEVENT
DTSTART;TZID=Asia/Tokyo:20260106T180000
DTEND;TZID=Asia/Tokyo:20260106T210000
DTSTAMP:20260426T101549
CREATED:20260107T101439Z
LAST-MODIFIED:20260107T101439Z
UID:10015274-1767722400-1767733200@japanopenpoker.com
SUMMARY:GoodGame Poke Live SHIBUYA (15)
DESCRIPTION:GoodGame Poke Live SHIBUYA (15) \n<スケジュール / schedule> \nRegistration / 18:00-21:00 \n<参加費 / Fees>\nEntry / ¥5\,000\nChips / 15\,000 \nRe-Entry / ¥5\,000\nChips / 15\,000 \nRe-buy or Add-on / ¥2\,000\nChips / 15\,000 \nGame / No Limit Hold’em \n<プライズ / Prize>\n保証 / 15 Tickets\n配分 / 1位 : 3 Tickets – 2位 : 3 Tickets – 3位 : 3 Tickets – 4位 : 3 Tickets – 5位 : 3 Tickets \nNote :
URL:https://japanopenpoker.com/satellite/goodgame-poke-live-shibuya-15/2026-01-06/
CATEGORIES:2026 JOPT Grand Final
END:VEVENT
BEGIN:VEVENT
DTSTART;TZID=Asia/Tokyo:20260106T174500
DTEND;TZID=Asia/Tokyo:20260106T205500
DTSTAMP:20260426T101549
CREATED:20260105T023709Z
LAST-MODIFIED:20260105T114200Z
UID:10015245-1767721500-1767732900@japanopenpoker.com
SUMMARY:GoodGame Poker Live SHINJUKU (15)
DESCRIPTION:GoodGame Poker Live SHINJUKU (15) \n<スケジュール / schedule> \nRegistration / 17:45-20:55 \n<参加費 / Fees>\nEntry / ¥5\,000\nChips / 15\,000 \nRe-Entry / ¥5\,000\nChips / 15\,000 \nRe-buy or Add-on / ¥2\,000\nChips / 15\,000 \nGame / No Limit Hold’em \n<プライズ / Prize>\n保証 / 15 Tickets\n配分 / 1位 : 3 Tickets – 2位 : 3 Tickets – 3位 : 3 Tickets – 4位 : 3 Tickets – 5位 : 3 Tickets \nNote :
URL:https://japanopenpoker.com/satellite/goodgame-poker-live-shinjuku-15-15/2026-01-06/
CATEGORIES:2026 JOPT Grand Final
END:VEVENT
BEGIN:VEVENT
DTSTART;TZID=Asia/Tokyo:20260106T160000
DTEND;TZID=Asia/Tokyo:20260106T173000
DTSTAMP:20260426T101549
CREATED:20260105T025006Z
LAST-MODIFIED:20260105T025006Z
UID:10015227-1767715200-1767720600@japanopenpoker.com
SUMMARY:EGP EBISU (1)
DESCRIPTION:EGP EBISU (1) \n<スケジュール / schedule> \nRegistration / 16:00-17:30 \n<参加費 / Fees>\nEntry / ¥1\,000\nChips / 10\,000 \nRe-Entry / ¥1\,000\nChips / 10\,000 \nRe-buy or Add-on / ¥1\,000\nChips / 20\,000 \nGame / No Limit Hold’em \n<プライズ / Prize>\n保証 / 1 Tickets\n配分 / 1位 : 1 Ticket – 2位 : 0 Ticket – 3位 : 0 Ticket – 4位 : 0 Ticket – 5位 : 0 Ticket \nNote :
URL:https://japanopenpoker.com/satellite/egp-ebisu-1-15/2026-01-06/
CATEGORIES:2026 JOPT Grand Final
END:VEVENT
BEGIN:VEVENT
DTSTART;TZID=Asia/Tokyo:20260105T160000
DTEND;TZID=Asia/Tokyo:20260105T173000
DTSTAMP:20260426T101549
CREATED:20260105T025006Z
LAST-MODIFIED:20260105T025006Z
UID:10015226-1767628800-1767634200@japanopenpoker.com
SUMMARY:EGP EBISU (1)
DESCRIPTION:EGP EBISU (1) \n<スケジュール / schedule> \nRegistration / 16:00-17:30 \n<参加費 / Fees>\nEntry / ¥1\,000\nChips / 10\,000 \nRe-Entry / ¥1\,000\nChips / 10\,000 \nRe-buy or Add-on / ¥1\,000\nChips / 20\,000 \nGame / No Limit Hold’em \n<プライズ / Prize>\n保証 / 1 Tickets\n配分 / 1位 : 1 Ticket – 2位 : 0 Ticket – 3位 : 0 Ticket – 4位 : 0 Ticket – 5位 : 0 Ticket \nNote :
URL:https://japanopenpoker.com/satellite/egp-ebisu-1-15/2026-01-05/
CATEGORIES:2026 JOPT Grand Final
END:VEVENT
END:VCALENDAR